BEGIN:VCALENDAR
VERSION:2.0
PRODID:-//Town of Lebanon - ECPv6.15.17.1//NONSGML v1.0//EN
CALSCALE:GREGORIAN
METHOD:PUBLISH
X-WR-CALNAME:Town of Lebanon
X-ORIGINAL-URL:https://lebanondodgewi.gov
X-WR-CALDESC:Events for Town of Lebanon
REFRESH-INTERVAL;VALUE=DURATION:PT1H
X-Robots-Tag:noindex
X-PUBLISHED-TTL:PT1H
BEGIN:VTIMEZONE
TZID:America/Chicago
BEGIN:DAYLIGHT
TZOFFSETFROM:-0600
TZOFFSETTO:-0500
TZNAME:CDT
DTSTART:20250309T080000
END:DAYLIGHT
BEGIN:STANDARD
TZOFFSETFROM:-0500
TZOFFSETTO:-0600
TZNAME:CST
DTSTART:20251102T070000
END:STANDARD
BEGIN:DAYLIGHT
TZOFFSETFROM:-0600
TZOFFSETTO:-0500
TZNAME:CDT
DTSTART:20260308T080000
END:DAYLIGHT
BEGIN:STANDARD
TZOFFSETFROM:-0500
TZOFFSETTO:-0600
TZNAME:CST
DTSTART:20261101T070000
END:STANDARD
BEGIN:DAYLIGHT
TZOFFSETFROM:-0600
TZOFFSETTO:-0500
TZNAME:CDT
DTSTART:20270314T080000
END:DAYLIGHT
BEGIN:STANDARD
TZOFFSETFROM:-0500
TZOFFSETTO:-0600
TZNAME:CST
DTSTART:20271107T070000
END:STANDARD
END:VTIMEZONE
BEGIN:VEVENT
DTSTART;TZID=America/Chicago:20260422T160000
DTEND;TZID=America/Chicago:20260422T190000
DTSTAMP:20260422T102939
CREATED:20260401T213043Z
LAST-MODIFIED:20260401T213327Z
UID:10001510-1776873600-1776884400@lebanondodgewi.gov
SUMMARY:Collection Site for Solid Waste Disposal and Recycling
DESCRIPTION:
URL:https://lebanondodgewi.gov/event/collection-site-for-solid-waste-disposal-and-recycling-5/2026-04-22/
CATEGORIES:Recycling
ATTACH;FMTTYPE=image/png:https://lebanondodgewi.gov/wp-content/uploads/2020/02/Screen-Shot-2020-03-05-at-10.55.17-AM.png
END:VEVENT
BEGIN:VEVENT
DTSTART;TZID=America/Chicago:20260422T183000
DTEND;TZID=America/Chicago:20260422T183000
DTSTAMP:20260422T102939
CREATED:20260401T222714Z
LAST-MODIFIED:20260401T222714Z
UID:10001573-1776882600-1776882600@lebanondodgewi.gov
SUMMARY:Additional Town Board Meeting
DESCRIPTION:at Town Hall
URL:https://lebanondodgewi.gov/event/additional-town-board-meeting-6/
CATEGORIES:Town Board
END:VEVENT
BEGIN:VEVENT
DTSTART;TZID=America/Chicago:20260425T080000
DTEND;TZID=America/Chicago:20260425T130000
DTSTAMP:20260422T102939
CREATED:20251105T202835Z
LAST-MODIFIED:20251105T202835Z
UID:10001423-1777104000-1777122000@lebanondodgewi.gov
SUMMARY:Collection Site for Solid Waste Disposal and Recycling
DESCRIPTION:
URL:https://lebanondodgewi.gov/event/collection-site-for-solid-waste-disposal-and-recycling-4/2026-04-25/
CATEGORIES:Recycling
ATTACH;FMTTYPE=image/png:https://lebanondodgewi.gov/wp-content/uploads/2020/02/Screen-Shot-2020-03-05-at-10.55.17-AM.png
END:VEVENT
BEGIN:VEVENT
DTSTART;VALUE=DATE:20260426
DTEND;VALUE=DATE:20260427
DTSTAMP:20260422T102939
CREATED:20260401T223632Z
LAST-MODIFIED:20260416T032218Z
UID:10001601-1777161600-1777247999@lebanondodgewi.gov
SUMMARY:Lions Bingo
DESCRIPTION:At Lebanon Firemen’s Park.  \nDoors open at Noon with first call at 1:30. \nFood and refreshments will be available along with a wonderful bakesale.  
URL:https://lebanondodgewi.gov/event/lions-bingo-2/
CATEGORIES:Events
END:VEVENT
BEGIN:VEVENT
DTSTART;TZID=America/Chicago:20260427T190000
DTEND;TZID=America/Chicago:20260427T190000
DTSTAMP:20260422T102939
CREATED:20260401T222940Z
LAST-MODIFIED:20260401T222940Z
UID:10001574-1777316400-1777316400@lebanondodgewi.gov
SUMMARY:Planning Committee
DESCRIPTION:
URL:https://lebanondodgewi.gov/event/planning-committee-9/2026-04-27/
CATEGORIES:Planning Committee
END:VEVENT
BEGIN:VEVENT
DTSTART;TZID=America/Chicago:20260428T193000
DTEND;TZID=America/Chicago:20260428T193000
DTSTAMP:20260422T102939
CREATED:20260401T223133Z
LAST-MODIFIED:20260401T223133Z
UID:10001583-1777404600-1777404600@lebanondodgewi.gov
SUMMARY:Lebanon Band practice
DESCRIPTION:
URL:https://lebanondodgewi.gov/event/lebanon-band-practice/2026-04-28/
CATEGORIES:Events
END:VEVENT
BEGIN:VEVENT
DTSTART;TZID=America/Chicago:20260429T160000
DTEND;TZID=America/Chicago:20260429T190000
DTSTAMP:20260422T102939
CREATED:20260401T213043Z
LAST-MODIFIED:20260401T213327Z
UID:10001511-1777478400-1777489200@lebanondodgewi.gov
SUMMARY:Collection Site for Solid Waste Disposal and Recycling
DESCRIPTION:
URL:https://lebanondodgewi.gov/event/collection-site-for-solid-waste-disposal-and-recycling-5/2026-04-29/
CATEGORIES:Recycling
ATTACH;FMTTYPE=image/png:https://lebanondodgewi.gov/wp-content/uploads/2020/02/Screen-Shot-2020-03-05-at-10.55.17-AM.png
END:VEVENT
END:VCALENDAR