BEGIN:VCALENDAR
VERSION:2.0
PRODID:-//Town of Lebanon - ECPv6.15.17.1//NONSGML v1.0//EN
CALSCALE:GREGORIAN
METHOD:PUBLISH
X-ORIGINAL-URL:https://lebanondodgewi.gov
X-WR-CALDESC:Events for Town of Lebanon
REFRESH-INTERVAL;VALUE=DURATION:PT1H
X-Robots-Tag:noindex
X-PUBLISHED-TTL:PT1H
BEGIN:VTIMEZONE
TZID:America/Chicago
BEGIN:DAYLIGHT
TZOFFSETFROM:-0600
TZOFFSETTO:-0500
TZNAME:CDT
DTSTART:20210314T080000
END:DAYLIGHT
BEGIN:STANDARD
TZOFFSETFROM:-0500
TZOFFSETTO:-0600
TZNAME:CST
DTSTART:20211107T070000
END:STANDARD
BEGIN:DAYLIGHT
TZOFFSETFROM:-0600
TZOFFSETTO:-0500
TZNAME:CDT
DTSTART:20220313T080000
END:DAYLIGHT
BEGIN:STANDARD
TZOFFSETFROM:-0500
TZOFFSETTO:-0600
TZNAME:CST
DTSTART:20221106T070000
END:STANDARD
BEGIN:DAYLIGHT
TZOFFSETFROM:-0600
TZOFFSETTO:-0500
TZNAME:CDT
DTSTART:20230312T080000
END:DAYLIGHT
BEGIN:STANDARD
TZOFFSETFROM:-0500
TZOFFSETTO:-0600
TZNAME:CST
DTSTART:20231105T070000
END:STANDARD
BEGIN:DAYLIGHT
TZOFFSETFROM:-0600
TZOFFSETTO:-0500
TZNAME:CDT
DTSTART:20240310T080000
END:DAYLIGHT
BEGIN:STANDARD
TZOFFSETFROM:-0500
TZOFFSETTO:-0600
TZNAME:CST
DTSTART:20241103T070000
END:STANDARD
BEGIN:DAYLIGHT
TZOFFSETFROM:-0600
TZOFFSETTO:-0500
TZNAME:CDT
DTSTART:20250309T080000
END:DAYLIGHT
BEGIN:STANDARD
TZOFFSETFROM:-0500
TZOFFSETTO:-0600
TZNAME:CST
DTSTART:20251102T070000
END:STANDARD
BEGIN:DAYLIGHT
TZOFFSETFROM:-0600
TZOFFSETTO:-0500
TZNAME:CDT
DTSTART:20260308T080000
END:DAYLIGHT
BEGIN:STANDARD
TZOFFSETFROM:-0500
TZOFFSETTO:-0600
TZNAME:CST
DTSTART:20261101T070000
END:STANDARD
END:VTIMEZONE
BEGIN:VEVENT
DTSTART;TZID=America/Chicago:20221006T193000
DTEND;TZID=America/Chicago:20221006T193000
DTSTAMP:20260423T063448
CREATED:20220210T022640Z
LAST-MODIFIED:20220210T022640Z
UID:10000501-1665084600-1665084600@lebanondodgewi.gov
SUMMARY:Monthly Board Meeting
DESCRIPTION:Repeat every first Thursday of each month
URL:https://lebanondodgewi.gov/event/monthly-board-meeting-4/2022-10-06/
CATEGORIES:Town Board
END:VEVENT
BEGIN:VEVENT
DTSTART;TZID=America/Chicago:20221017T190000
DTEND;TZID=America/Chicago:20221017T190000
DTSTAMP:20260423T063448
CREATED:20220917T032852Z
LAST-MODIFIED:20220917T032852Z
UID:10000642-1666033200-1666033200@lebanondodgewi.gov
SUMMARY:Additional Town Board Meeting
DESCRIPTION:
URL:https://lebanondodgewi.gov/event/additional-town-board-meeting-4/
LOCATION:Town Hall
CATEGORIES:Town Board
END:VEVENT
BEGIN:VEVENT
DTSTART;TZID=America/Chicago:20221025T190000
DTEND;TZID=America/Chicago:20221025T190000
DTSTAMP:20260423T063448
CREATED:20220917T033134Z
LAST-MODIFIED:20220917T033134Z
UID:10000644-1666724400-1666724400@lebanondodgewi.gov
SUMMARY:Additional Town Board Meeting
DESCRIPTION:
URL:https://lebanondodgewi.gov/event/additional-town-board-meeting-5/
LOCATION:Town Hall
CATEGORIES:Town Board
END:VEVENT
BEGIN:VEVENT
DTSTART;TZID=America/Chicago:20221103T193000
DTEND;TZID=America/Chicago:20221103T193000
DTSTAMP:20260423T063448
CREATED:20220210T022640Z
LAST-MODIFIED:20220210T022640Z
UID:10000502-1667503800-1667503800@lebanondodgewi.gov
SUMMARY:Monthly Board Meeting
DESCRIPTION:Repeat every first Thursday of each month
URL:https://lebanondodgewi.gov/event/monthly-board-meeting-4/2022-11-03/
CATEGORIES:Town Board
END:VEVENT
BEGIN:VEVENT
DTSTART;TZID=America/Chicago:20221208T193000
DTEND;TZID=America/Chicago:20221208T193000
DTSTAMP:20260423T063448
CREATED:20221116T165501Z
LAST-MODIFIED:20221116T165501Z
UID:10000656-1670527800-1670527800@lebanondodgewi.gov
SUMMARY:Monthly Board Meeting
DESCRIPTION:The Town Board meeting scheduled for December 1st is rescheduled to Thursday\, December 8th\, 2022.
URL:https://lebanondodgewi.gov/event/monthly-board-meeting-6/
CATEGORIES:Town Board
END:VEVENT
BEGIN:VEVENT
DTSTART;TZID=America/Chicago:20221221T193000
DTEND;TZID=America/Chicago:20221221T193000
DTSTAMP:20260423T063448
CREATED:20221116T165138Z
LAST-MODIFIED:20221116T165138Z
UID:10000654-1671651000-1671651000@lebanondodgewi.gov
SUMMARY:Monthly Board Meeting
DESCRIPTION:Town Board meeting Wednesday\, December 21\, 7:30 pm at Town Hall.
URL:https://lebanondodgewi.gov/event/monthly-board-meeting-5/
CATEGORIES:Town Board
END:VEVENT
BEGIN:VEVENT
DTSTART;TZID=America/Chicago:20230420T193000
DTEND;TZID=America/Chicago:20230420T193000
DTSTAMP:20260423T063448
CREATED:20230301T234145Z
LAST-MODIFIED:20230301T234145Z
UID:10000780-1682019000-1682019000@lebanondodgewi.gov
SUMMARY:Town Board Meeting
DESCRIPTION:
URL:https://lebanondodgewi.gov/event/town-board-meeting-12/
CATEGORIES:Town Board
END:VEVENT
BEGIN:VEVENT
DTSTART;TZID=America/Chicago:20231115T193000
DTEND;TZID=America/Chicago:20231115T193000
DTSTAMP:20260423T063448
CREATED:20231101T145959Z
LAST-MODIFIED:20231101T193414Z
UID:10000784-1700076600-1700076600@lebanondodgewi.gov
SUMMARY:Budget Hearing/Special Meeting of Electors
DESCRIPTION:
URL:https://lebanondodgewi.gov/event/budget-hearing-special-meeting-of-electors/
CATEGORIES:Town Board
END:VEVENT
BEGIN:VEVENT
DTSTART;TZID=America/Chicago:20231207T193000
DTEND;TZID=America/Chicago:20231207T193000
DTSTAMP:20260423T063448
CREATED:20231207T173509Z
LAST-MODIFIED:20231207T173509Z
UID:10000939-1701977400-1701977400@lebanondodgewi.gov
SUMMARY:Town Board Meeting
DESCRIPTION:
URL:https://lebanondodgewi.gov/event/town-board-meeting-25/
CATEGORIES:Town Board
END:VEVENT
BEGIN:VEVENT
DTSTART;TZID=America/Chicago:20231219T183000
DTEND;TZID=America/Chicago:20231219T183000
DTSTAMP:20260423T063448
CREATED:20231207T173610Z
LAST-MODIFIED:20231207T173610Z
UID:10000940-1703010600-1703010600@lebanondodgewi.gov
SUMMARY:Town Board Meeting
DESCRIPTION:
URL:https://lebanondodgewi.gov/event/town-board-meeting-26/
CATEGORIES:Town Board
END:VEVENT
BEGIN:VEVENT
DTSTART;TZID=America/Chicago:20231219T183000
DTEND;TZID=America/Chicago:20231219T183000
DTSTAMP:20260423T063448
CREATED:20231214T205920Z
LAST-MODIFIED:20231214T205920Z
UID:10000942-1703010600-1703010600@lebanondodgewi.gov
SUMMARY:Town Board Meeting
DESCRIPTION:
URL:https://lebanondodgewi.gov/event/town-board-meeting-27/
CATEGORIES:Town Board
END:VEVENT
BEGIN:VEVENT
DTSTART;TZID=America/Chicago:20240304T153000
DTEND;TZID=America/Chicago:20240304T153000
DTSTAMP:20260423T063448
CREATED:20240221T010510Z
LAST-MODIFIED:20240221T010510Z
UID:10000945-1709566200-1709566200@lebanondodgewi.gov
SUMMARY:Town Board Meeting
DESCRIPTION:
URL:https://lebanondodgewi.gov/event/town-board-meeting-28/
CATEGORIES:Town Board
END:VEVENT
BEGIN:VEVENT
DTSTART;TZID=America/Chicago:20240416T180000
DTEND;TZID=America/Chicago:20240416T180000
DTSTAMP:20260423T063448
CREATED:20240411T225747Z
LAST-MODIFIED:20240411T225747Z
UID:10001220-1713290400-1713290400@lebanondodgewi.gov
SUMMARY:Town Board Meeting
DESCRIPTION:Town Board Meeting
URL:https://lebanondodgewi.gov/event/town-board-meeting-30/
CATEGORIES:Town Board
END:VEVENT
BEGIN:VEVENT
DTSTART;TZID=America/Chicago:20240416T193000
DTEND;TZID=America/Chicago:20240416T193000
DTSTAMP:20260423T063448
CREATED:20240322T152503Z
LAST-MODIFIED:20240322T152503Z
UID:10001009-1713295800-1713295800@lebanondodgewi.gov
SUMMARY:Annual Town Meeting of Electors
DESCRIPTION:At Town Hall
URL:https://lebanondodgewi.gov/event/annual-town-meeting-of-electors-4/
CATEGORIES:Town Board
END:VEVENT
BEGIN:VEVENT
DTSTART;TZID=America/Chicago:20240508T150000
DTEND;TZID=America/Chicago:20240508T150000
DTSTAMP:20260423T063448
CREATED:20240508T171222Z
LAST-MODIFIED:20240508T171222Z
UID:10001221-1715180400-1715180400@lebanondodgewi.gov
SUMMARY:Town Board Meeting
DESCRIPTION:Emergency Town Board Meeting
URL:https://lebanondodgewi.gov/event/town-board-meeting-31/
CATEGORIES:Town Board
END:VEVENT
BEGIN:VEVENT
DTSTART;TZID=America/Chicago:20240620T170000
DTEND;TZID=America/Chicago:20240620T170000
DTSTAMP:20260423T063448
CREATED:20240605T005840Z
LAST-MODIFIED:20240605T005840Z
UID:10001222-1718902800-1718902800@lebanondodgewi.gov
SUMMARY:Town Board Meeting
DESCRIPTION:
URL:https://lebanondodgewi.gov/event/town-board-meeting-32/
CATEGORIES:Town Board
END:VEVENT
BEGIN:VEVENT
DTSTART;TZID=America/Chicago:20240708T183000
DTEND;TZID=America/Chicago:20240708T183000
DTSTAMP:20260423T063448
CREATED:20240605T010001Z
LAST-MODIFIED:20240605T010001Z
UID:10001223-1720463400-1720463400@lebanondodgewi.gov
SUMMARY:Town Board Meeting
DESCRIPTION:
URL:https://lebanondodgewi.gov/event/town-board-meeting-33/
CATEGORIES:Town Board
END:VEVENT
BEGIN:VEVENT
DTSTART;TZID=America/Chicago:20240808T183000
DTEND;TZID=America/Chicago:20240808T183000
DTSTAMP:20260423T063448
CREATED:20240704T005634Z
LAST-MODIFIED:20240704T005634Z
UID:10001224-1723141800-1723141800@lebanondodgewi.gov
SUMMARY:Town Board Meeting
DESCRIPTION:
URL:https://lebanondodgewi.gov/event/town-board-meeting-34/
CATEGORIES:Town Board
END:VEVENT
BEGIN:VEVENT
DTSTART;TZID=America/Chicago:20240920T080000
DTEND;TZID=America/Chicago:20240920T080000
DTSTAMP:20260423T063448
CREATED:20240918T215248Z
LAST-MODIFIED:20240918T215248Z
UID:10001227-1726819200-1726819200@lebanondodgewi.gov
SUMMARY:Town Board Meeting
DESCRIPTION:
URL:https://lebanondodgewi.gov/event/town-board-meeting-35/
CATEGORIES:Town Board
END:VEVENT
BEGIN:VEVENT
DTSTART;TZID=America/Chicago:20241014T183000
DTEND;TZID=America/Chicago:20241014T183000
DTSTAMP:20260423T063448
CREATED:20241001T225920Z
LAST-MODIFIED:20241001T225920Z
UID:10001228-1728930600-1728930600@lebanondodgewi.gov
SUMMARY:Town Board Meeting
DESCRIPTION:
URL:https://lebanondodgewi.gov/event/town-board-meeting-36/
CATEGORIES:Town Board
END:VEVENT
BEGIN:VEVENT
DTSTART;TZID=America/Chicago:20241017T183000
DTEND;TZID=America/Chicago:20241017T183000
DTSTAMP:20260423T063448
CREATED:20241001T230028Z
LAST-MODIFIED:20241001T230028Z
UID:10001229-1729189800-1729189800@lebanondodgewi.gov
SUMMARY:Town Board Meeting
DESCRIPTION:
URL:https://lebanondodgewi.gov/event/town-board-meeting-37/
CATEGORIES:Town Board
END:VEVENT
BEGIN:VEVENT
DTSTART;TZID=America/Chicago:20241021T183000
DTEND;TZID=America/Chicago:20241021T183000
DTSTAMP:20260423T063448
CREATED:20241018T211452Z
LAST-MODIFIED:20241018T211452Z
UID:10001300-1729535400-1729535400@lebanondodgewi.gov
SUMMARY:Town Board Meeting
DESCRIPTION:
URL:https://lebanondodgewi.gov/event/town-board-meeting-41/
CATEGORIES:Town Board
END:VEVENT
BEGIN:VEVENT
DTSTART;TZID=America/Chicago:20241111T183000
DTEND;TZID=America/Chicago:20241111T183000
DTSTAMP:20260423T063448
CREATED:20241017T140711Z
LAST-MODIFIED:20241017T140711Z
UID:10001282-1731349800-1731349800@lebanondodgewi.gov
SUMMARY:Town Board Meeting
DESCRIPTION:
URL:https://lebanondodgewi.gov/event/town-board-meeting-29/
CATEGORIES:Town Board
END:VEVENT
BEGIN:VEVENT
DTSTART;TZID=America/Chicago:20241212T183000
DTEND;TZID=America/Chicago:20241212T183000
DTSTAMP:20260423T063448
CREATED:20241017T140810Z
LAST-MODIFIED:20241017T140810Z
UID:10001283-1734028200-1734028200@lebanondodgewi.gov
SUMMARY:Town Board Meeting
DESCRIPTION:
URL:https://lebanondodgewi.gov/event/town-board-meeting-38/
CATEGORIES:Town Board
END:VEVENT
BEGIN:VEVENT
DTSTART;TZID=America/Chicago:20241219T173000
DTEND;TZID=America/Chicago:20241219T173000
DTSTAMP:20260423T063448
CREATED:20241210T210351Z
LAST-MODIFIED:20241210T210351Z
UID:10001314-1734629400-1734629400@lebanondodgewi.gov
SUMMARY:Town Board Meeting
DESCRIPTION:
URL:https://lebanondodgewi.gov/event/town-board-meeting-40/
CATEGORIES:Town Board
END:VEVENT
BEGIN:VEVENT
DTSTART;TZID=America/Chicago:20250109T183000
DTEND;TZID=America/Chicago:20250109T183000
DTSTAMP:20260423T063448
CREATED:20241210T015646Z
LAST-MODIFIED:20241210T015646Z
UID:10001302-1736447400-1736447400@lebanondodgewi.gov
SUMMARY:Rusk Road Public Hearing and Town Board Meeting
DESCRIPTION:
URL:https://lebanondodgewi.gov/event/rusk-road-public-hearing-and-town-board-meeting/
CATEGORIES:Town Board
END:VEVENT
BEGIN:VEVENT
DTSTART;TZID=America/Chicago:20250113T183000
DTEND;TZID=America/Chicago:20250113T183000
DTSTAMP:20260423T063448
CREATED:20250103T195115Z
LAST-MODIFIED:20250106T011642Z
UID:10001315-1736793000-1736793000@lebanondodgewi.gov
SUMMARY:Town Caucus
DESCRIPTION:
URL:https://lebanondodgewi.gov/event/town-cuacus/
CATEGORIES:Town Board
END:VEVENT
BEGIN:VEVENT
DTSTART;TZID=America/Chicago:20250327T140000
DTEND;TZID=America/Chicago:20250327T140000
DTSTAMP:20260423T063448
CREATED:20250304T230631Z
LAST-MODIFIED:20250304T230631Z
UID:10001332-1743084000-1743084000@lebanondodgewi.gov
SUMMARY:Town Board Meeting
DESCRIPTION:Board Meeting and Road Inspection
URL:https://lebanondodgewi.gov/event/town-board-meeting-43/
CATEGORIES:Town Board
END:VEVENT
BEGIN:VEVENT
DTSTART;TZID=America/Chicago:20250519T170000
DTEND;TZID=America/Chicago:20250519T170000
DTSTAMP:20260423T063448
CREATED:20250506T201656Z
LAST-MODIFIED:20250506T201656Z
UID:10001368-1747674000-1747674000@lebanondodgewi.gov
SUMMARY:Board of Review
DESCRIPTION:
URL:https://lebanondodgewi.gov/event/board-of-review-6/
CATEGORIES:Town Board
END:VEVENT
BEGIN:VEVENT
DTSTART;TZID=America/Chicago:20250625T183000
DTEND;TZID=America/Chicago:20250625T183000
DTSTAMP:20260423T063448
CREATED:20250506T201853Z
LAST-MODIFIED:20250506T201853Z
UID:10001369-1750876200-1750876200@lebanondodgewi.gov
SUMMARY:Town Board Meeting
DESCRIPTION:Additional meeting
URL:https://lebanondodgewi.gov/event/town-board-meeting-47/
CATEGORIES:Town Board
END:VEVENT
END:VCALENDAR