BEGIN:VCALENDAR
VERSION:2.0
PRODID:-//Town of Lebanon - ECPv6.15.17.1//NONSGML v1.0//EN
CALSCALE:GREGORIAN
METHOD:PUBLISH
X-WR-CALNAME:Town of Lebanon
X-ORIGINAL-URL:https://lebanondodgewi.gov
X-WR-CALDESC:Events for Town of Lebanon
REFRESH-INTERVAL;VALUE=DURATION:PT1H
X-Robots-Tag:noindex
X-PUBLISHED-TTL:PT1H
BEGIN:VTIMEZONE
TZID:America/Chicago
BEGIN:DAYLIGHT
TZOFFSETFROM:-0600
TZOFFSETTO:-0500
TZNAME:CDT
DTSTART:20240310T080000
END:DAYLIGHT
BEGIN:STANDARD
TZOFFSETFROM:-0500
TZOFFSETTO:-0600
TZNAME:CST
DTSTART:20241103T070000
END:STANDARD
BEGIN:DAYLIGHT
TZOFFSETFROM:-0600
TZOFFSETTO:-0500
TZNAME:CDT
DTSTART:20250309T080000
END:DAYLIGHT
BEGIN:STANDARD
TZOFFSETFROM:-0500
TZOFFSETTO:-0600
TZNAME:CST
DTSTART:20251102T070000
END:STANDARD
BEGIN:DAYLIGHT
TZOFFSETFROM:-0600
TZOFFSETTO:-0500
TZNAME:CDT
DTSTART:20260308T080000
END:DAYLIGHT
BEGIN:STANDARD
TZOFFSETFROM:-0500
TZOFFSETTO:-0600
TZNAME:CST
DTSTART:20261101T070000
END:STANDARD
BEGIN:DAYLIGHT
TZOFFSETFROM:-0600
TZOFFSETTO:-0500
TZNAME:CDT
DTSTART:20270314T080000
END:DAYLIGHT
BEGIN:STANDARD
TZOFFSETFROM:-0500
TZOFFSETTO:-0600
TZNAME:CST
DTSTART:20271107T070000
END:STANDARD
END:VTIMEZONE
BEGIN:VEVENT
DTSTART;TZID=America/Chicago:20251211T183000
DTEND;TZID=America/Chicago:20251211T183000
DTSTAMP:20260420T233134
CREATED:20251104T231543Z
LAST-MODIFIED:20251104T231543Z
UID:10001388-1765477800-1765477800@lebanondodgewi.gov
SUMMARY:Town Board Meeting
DESCRIPTION:
URL:https://lebanondodgewi.gov/event/town-board-meeting-39/
CATEGORIES:Town Board
END:VEVENT
BEGIN:VEVENT
DTSTART;TZID=America/Chicago:20251215T183000
DTEND;TZID=America/Chicago:20251215T183000
DTSTAMP:20260420T233134
CREATED:20251213T184729Z
LAST-MODIFIED:20251213T184729Z
UID:10001500-1765823400-1765823400@lebanondodgewi.gov
SUMMARY:Hustisford School Board Meeting
DESCRIPTION:Notice is hereby given that one or more members of the Lebanon Town Board will be in attendance at the meeting of Hustisford School Board \nMonday\, December 15\, 2025 – 6:30 PM \nJr./Sr. High School Library/Media Center \n845 S. Lake St.\, Hustisford\, WI \n  \nMembers of the Lebanon Town Board may be present to listen\, gather information\, and comment upon matters\, but will not take any formal action.  \n  \nThe full agenda for the School Board may be viewed at the Hustisford School District Website:  https://www.hustisford.k12.wi.us/district/board-meetings.cfm \n 
URL:https://lebanondodgewi.gov/event/hustisford-school-board-meeting/
CATEGORIES:Town Board
END:VEVENT
BEGIN:VEVENT
DTSTART;TZID=America/Chicago:20251218T183000
DTEND;TZID=America/Chicago:20251218T183000
DTSTAMP:20260420T233134
CREATED:20251104T224056Z
LAST-MODIFIED:20251104T224056Z
UID:10001387-1766082600-1766082600@lebanondodgewi.gov
SUMMARY:Town Board Meeting
DESCRIPTION:
URL:https://lebanondodgewi.gov/event/town-board-meeting-57/
CATEGORIES:Town Board
END:VEVENT
BEGIN:VEVENT
DTSTART;TZID=America/Chicago:20260108T183000
DTEND;TZID=America/Chicago:20260108T183000
DTSTAMP:20260420T233134
CREATED:20251104T231735Z
LAST-MODIFIED:20251104T231735Z
UID:10001389-1767897000-1767897000@lebanondodgewi.gov
SUMMARY:Town Board Meeting
DESCRIPTION:
URL:https://lebanondodgewi.gov/event/town-board-meeting-58/2026-01-08/
CATEGORIES:Town Board
END:VEVENT
BEGIN:VEVENT
DTSTART;TZID=America/Chicago:20260205T183000
DTEND;TZID=America/Chicago:20260205T183000
DTSTAMP:20260420T233134
CREATED:20251104T231735Z
LAST-MODIFIED:20251104T231735Z
UID:10001390-1770316200-1770316200@lebanondodgewi.gov
SUMMARY:Town Board Meeting
DESCRIPTION:
URL:https://lebanondodgewi.gov/event/town-board-meeting-58/2026-02-05/
CATEGORIES:Town Board
END:VEVENT
BEGIN:VEVENT
DTSTART;TZID=America/Chicago:20260305T183000
DTEND;TZID=America/Chicago:20260305T183000
DTSTAMP:20260420T233134
CREATED:20251104T231735Z
LAST-MODIFIED:20251104T231735Z
UID:10001391-1772735400-1772735400@lebanondodgewi.gov
SUMMARY:Town Board Meeting
DESCRIPTION:
URL:https://lebanondodgewi.gov/event/town-board-meeting-58/2026-03-05/
CATEGORIES:Town Board
END:VEVENT
BEGIN:VEVENT
DTSTART;TZID=America/Chicago:20260402T183000
DTEND;TZID=America/Chicago:20260402T183000
DTSTAMP:20260420T233134
CREATED:20251104T231735Z
LAST-MODIFIED:20251104T231735Z
UID:10001392-1775154600-1775154600@lebanondodgewi.gov
SUMMARY:Town Board Meeting
DESCRIPTION:
URL:https://lebanondodgewi.gov/event/town-board-meeting-58/2026-04-02/
CATEGORIES:Town Board
END:VEVENT
BEGIN:VEVENT
DTSTART;TZID=America/Chicago:20260409T140000
DTEND;TZID=America/Chicago:20260409T140000
DTSTAMP:20260420T233134
CREATED:20260401T222435Z
LAST-MODIFIED:20260401T222627Z
UID:10001572-1775743200-1775743200@lebanondodgewi.gov
SUMMARY:Additional Town Board Meeting for Road Inspection
DESCRIPTION:
URL:https://lebanondodgewi.gov/event/additional-town-board-meeting-for-road-inspection/
CATEGORIES:Town Board
END:VEVENT
BEGIN:VEVENT
DTSTART;TZID=America/Chicago:20260421T193000
DTEND;TZID=America/Chicago:20260421T193000
DTSTAMP:20260420T233134
CREATED:20260401T222243Z
LAST-MODIFIED:20260401T222243Z
UID:10001571-1776799800-1776799800@lebanondodgewi.gov
SUMMARY:ANNUAL TOWN MEETING OF ELECTORS
DESCRIPTION:at Town Hall
URL:https://lebanondodgewi.gov/event/annual-town-meeting-of-electors-5/
CATEGORIES:Town Board
END:VEVENT
BEGIN:VEVENT
DTSTART;TZID=America/Chicago:20260422T183000
DTEND;TZID=America/Chicago:20260422T183000
DTSTAMP:20260420T233134
CREATED:20260401T222714Z
LAST-MODIFIED:20260401T222714Z
UID:10001573-1776882600-1776882600@lebanondodgewi.gov
SUMMARY:Additional Town Board Meeting
DESCRIPTION:at Town Hall
URL:https://lebanondodgewi.gov/event/additional-town-board-meeting-6/
CATEGORIES:Town Board
END:VEVENT
BEGIN:VEVENT
DTSTART;TZID=America/Chicago:20260507T183000
DTEND;TZID=America/Chicago:20260507T183000
DTSTAMP:20260420T233134
CREATED:20251104T231735Z
LAST-MODIFIED:20251104T231735Z
UID:10001393-1778178600-1778178600@lebanondodgewi.gov
SUMMARY:Town Board Meeting
DESCRIPTION:
URL:https://lebanondodgewi.gov/event/town-board-meeting-58/2026-05-07/
CATEGORIES:Town Board
END:VEVENT
BEGIN:VEVENT
DTSTART;TZID=America/Chicago:20260604T183000
DTEND;TZID=America/Chicago:20260604T183000
DTSTAMP:20260420T233134
CREATED:20251104T231735Z
LAST-MODIFIED:20251104T231735Z
UID:10001394-1780597800-1780597800@lebanondodgewi.gov
SUMMARY:Town Board Meeting
DESCRIPTION:
URL:https://lebanondodgewi.gov/event/town-board-meeting-58/2026-06-04/
CATEGORIES:Town Board
END:VEVENT
BEGIN:VEVENT
DTSTART;TZID=America/Chicago:20260702T183000
DTEND;TZID=America/Chicago:20260702T183000
DTSTAMP:20260420T233134
CREATED:20251104T231735Z
LAST-MODIFIED:20251104T231735Z
UID:10001395-1783017000-1783017000@lebanondodgewi.gov
SUMMARY:Town Board Meeting
DESCRIPTION:
URL:https://lebanondodgewi.gov/event/town-board-meeting-58/2026-07-02/
CATEGORIES:Town Board
END:VEVENT
BEGIN:VEVENT
DTSTART;TZID=America/Chicago:20260806T183000
DTEND;TZID=America/Chicago:20260806T183000
DTSTAMP:20260420T233134
CREATED:20251104T231735Z
LAST-MODIFIED:20251104T231735Z
UID:10001396-1786041000-1786041000@lebanondodgewi.gov
SUMMARY:Town Board Meeting
DESCRIPTION:
URL:https://lebanondodgewi.gov/event/town-board-meeting-58/2026-08-06/
CATEGORIES:Town Board
END:VEVENT
BEGIN:VEVENT
DTSTART;TZID=America/Chicago:20260903T183000
DTEND;TZID=America/Chicago:20260903T183000
DTSTAMP:20260420T233134
CREATED:20251104T231735Z
LAST-MODIFIED:20251104T231735Z
UID:10001397-1788460200-1788460200@lebanondodgewi.gov
SUMMARY:Town Board Meeting
DESCRIPTION:
URL:https://lebanondodgewi.gov/event/town-board-meeting-58/2026-09-03/
CATEGORIES:Town Board
END:VEVENT
BEGIN:VEVENT
DTSTART;TZID=America/Chicago:20261001T183000
DTEND;TZID=America/Chicago:20261001T183000
DTSTAMP:20260420T233134
CREATED:20251104T231735Z
LAST-MODIFIED:20251104T231735Z
UID:10001398-1790879400-1790879400@lebanondodgewi.gov
SUMMARY:Town Board Meeting
DESCRIPTION:
URL:https://lebanondodgewi.gov/event/town-board-meeting-58/2026-10-01/
CATEGORIES:Town Board
END:VEVENT
BEGIN:VEVENT
DTSTART;TZID=America/Chicago:20261105T183000
DTEND;TZID=America/Chicago:20261105T183000
DTSTAMP:20260420T233134
CREATED:20251104T231735Z
LAST-MODIFIED:20251104T231735Z
UID:10001399-1793903400-1793903400@lebanondodgewi.gov
SUMMARY:Town Board Meeting
DESCRIPTION:
URL:https://lebanondodgewi.gov/event/town-board-meeting-58/2026-11-05/
CATEGORIES:Town Board
END:VEVENT
BEGIN:VEVENT
DTSTART;TZID=America/Chicago:20261203T183000
DTEND;TZID=America/Chicago:20261203T183000
DTSTAMP:20260420T233134
CREATED:20251104T231735Z
LAST-MODIFIED:20251104T231735Z
UID:10001400-1796322600-1796322600@lebanondodgewi.gov
SUMMARY:Town Board Meeting
DESCRIPTION:
URL:https://lebanondodgewi.gov/event/town-board-meeting-58/2026-12-03/
CATEGORIES:Town Board
END:VEVENT
END:VCALENDAR