BEGIN:VCALENDAR
VERSION:2.0
PRODID:-//Town of Lebanon - ECPv6.15.17.1//NONSGML v1.0//EN
CALSCALE:GREGORIAN
METHOD:PUBLISH
X-ORIGINAL-URL:https://lebanondodgewi.gov
X-WR-CALDESC:Events for Town of Lebanon
REFRESH-INTERVAL;VALUE=DURATION:PT1H
X-Robots-Tag:noindex
X-PUBLISHED-TTL:PT1H
BEGIN:VTIMEZONE
TZID:America/Chicago
BEGIN:DAYLIGHT
TZOFFSETFROM:-0600
TZOFFSETTO:-0500
TZNAME:CDT
DTSTART:20200308T080000
END:DAYLIGHT
BEGIN:STANDARD
TZOFFSETFROM:-0500
TZOFFSETTO:-0600
TZNAME:CST
DTSTART:20201101T070000
END:STANDARD
BEGIN:DAYLIGHT
TZOFFSETFROM:-0600
TZOFFSETTO:-0500
TZNAME:CDT
DTSTART:20210314T080000
END:DAYLIGHT
BEGIN:STANDARD
TZOFFSETFROM:-0500
TZOFFSETTO:-0600
TZNAME:CST
DTSTART:20211107T070000
END:STANDARD
BEGIN:DAYLIGHT
TZOFFSETFROM:-0600
TZOFFSETTO:-0500
TZNAME:CDT
DTSTART:20220313T080000
END:DAYLIGHT
BEGIN:STANDARD
TZOFFSETFROM:-0500
TZOFFSETTO:-0600
TZNAME:CST
DTSTART:20221106T070000
END:STANDARD
END:VTIMEZONE
BEGIN:VEVENT
DTSTART;TZID=America/Chicago:20211209T193000
DTEND;TZID=America/Chicago:20211209T193000
DTSTAMP:20260423T075500
CREATED:20200224T142138Z
LAST-MODIFIED:20211118T183608Z
UID:10000195-1639078200-1639078200@lebanondodgewi.gov
SUMMARY:Monthly Board Meeting
DESCRIPTION:Repeat every first Thursday of each month \n*Note: This meeting will be held on December 9th.
URL:https://lebanondodgewi.gov/event/monthly-board-meeting-2-2021-12-02/
CATEGORIES:Town Board
END:VEVENT
BEGIN:VEVENT
DTSTART;TZID=America/Chicago:20211215T190000
DTEND;TZID=America/Chicago:20211215T190000
DTSTAMP:20260423T075500
CREATED:20211118T183640Z
LAST-MODIFIED:20211118T183640Z
UID:10000089-1639594800-1639594800@lebanondodgewi.gov
SUMMARY:Additional Town Board Meeting
DESCRIPTION:
URL:https://lebanondodgewi.gov/event/additional-town-board-meeting/
CATEGORIES:Town Board
END:VEVENT
END:VCALENDAR