BEGIN:VCALENDAR
VERSION:2.0
PRODID:-//Town of Lebanon - ECPv6.15.17.1//NONSGML v1.0//EN
CALSCALE:GREGORIAN
METHOD:PUBLISH
X-ORIGINAL-URL:https://lebanondodgewi.gov
X-WR-CALDESC:Events for Town of Lebanon
REFRESH-INTERVAL;VALUE=DURATION:PT1H
X-Robots-Tag:noindex
X-PUBLISHED-TTL:PT1H
BEGIN:VTIMEZONE
TZID:America/Chicago
BEGIN:DAYLIGHT
TZOFFSETFROM:-0600
TZOFFSETTO:-0500
TZNAME:CDT
DTSTART:20240310T080000
END:DAYLIGHT
BEGIN:STANDARD
TZOFFSETFROM:-0500
TZOFFSETTO:-0600
TZNAME:CST
DTSTART:20241103T070000
END:STANDARD
BEGIN:DAYLIGHT
TZOFFSETFROM:-0600
TZOFFSETTO:-0500
TZNAME:CDT
DTSTART:20250309T080000
END:DAYLIGHT
BEGIN:STANDARD
TZOFFSETFROM:-0500
TZOFFSETTO:-0600
TZNAME:CST
DTSTART:20251102T070000
END:STANDARD
BEGIN:DAYLIGHT
TZOFFSETFROM:-0600
TZOFFSETTO:-0500
TZNAME:CDT
DTSTART:20260308T080000
END:DAYLIGHT
BEGIN:STANDARD
TZOFFSETFROM:-0500
TZOFFSETTO:-0600
TZNAME:CST
DTSTART:20261101T070000
END:STANDARD
BEGIN:DAYLIGHT
TZOFFSETFROM:-0600
TZOFFSETTO:-0500
TZNAME:CDT
DTSTART:20270314T080000
END:DAYLIGHT
BEGIN:STANDARD
TZOFFSETFROM:-0500
TZOFFSETTO:-0600
TZNAME:CST
DTSTART:20271107T070000
END:STANDARD
END:VTIMEZONE
BEGIN:VEVENT
DTSTART;TZID=America/Chicago:20250920T080000
DTEND;TZID=America/Chicago:20250920T130000
DTSTAMP:20260420T114339
CREATED:20231102T210105Z
LAST-MODIFIED:20231102T210105Z
UID:10000926-1758355200-1758373200@lebanondodgewi.gov
SUMMARY:Collection Site for Solid Waste Disposal and Recycling
DESCRIPTION:
URL:https://lebanondodgewi.gov/event/collection-site-for-solid-waste-disposal-and-recycling/2025-09-20/
CATEGORIES:Recycling
ATTACH;FMTTYPE=image/png:https://lebanondodgewi.gov/wp-content/uploads/2020/02/Screen-Shot-2020-03-05-at-10.55.17-AM.png
END:VEVENT
BEGIN:VEVENT
DTSTART;TZID=America/Chicago:20250924T160000
DTEND;TZID=America/Chicago:20250924T190000
DTSTAMP:20260420T114339
CREATED:20250402T053157Z
LAST-MODIFIED:20250402T053157Z
UID:10001360-1758729600-1758740400@lebanondodgewi.gov
SUMMARY:Collection Site for Solid Waste Disposal and Recycling
DESCRIPTION:Collection site at W4717 County Rd O for receipt of recycling and solid waste disposal will be open 4:00 pm – 7:00 pm.
URL:https://lebanondodgewi.gov/event/collection-site-for-solid-waste-disposal-and-recycling-3/2025-09-24/
CATEGORIES:Recycling
END:VEVENT
BEGIN:VEVENT
DTSTART;TZID=America/Chicago:20250927T080000
DTEND;TZID=America/Chicago:20250927T130000
DTSTAMP:20260420T114339
CREATED:20231102T210105Z
LAST-MODIFIED:20231102T210105Z
UID:10000927-1758960000-1758978000@lebanondodgewi.gov
SUMMARY:Collection Site for Solid Waste Disposal and Recycling
DESCRIPTION:
URL:https://lebanondodgewi.gov/event/collection-site-for-solid-waste-disposal-and-recycling/2025-09-27/
CATEGORIES:Recycling
ATTACH;FMTTYPE=image/png:https://lebanondodgewi.gov/wp-content/uploads/2020/02/Screen-Shot-2020-03-05-at-10.55.17-AM.png
END:VEVENT
BEGIN:VEVENT
DTSTART;TZID=America/Chicago:20251001T160000
DTEND;TZID=America/Chicago:20251001T190000
DTSTAMP:20260420T114339
CREATED:20250402T053157Z
LAST-MODIFIED:20250402T053157Z
UID:10001361-1759334400-1759345200@lebanondodgewi.gov
SUMMARY:Collection Site for Solid Waste Disposal and Recycling
DESCRIPTION:Collection site at W4717 County Rd O for receipt of recycling and solid waste disposal will be open 4:00 pm – 7:00 pm.
URL:https://lebanondodgewi.gov/event/collection-site-for-solid-waste-disposal-and-recycling-3/2025-10-01/
CATEGORIES:Recycling
END:VEVENT
BEGIN:VEVENT
DTSTART;TZID=America/Chicago:20251004T080000
DTEND;TZID=America/Chicago:20251004T130000
DTSTAMP:20260420T114339
CREATED:20231102T210105Z
LAST-MODIFIED:20231102T210105Z
UID:10000928-1759564800-1759582800@lebanondodgewi.gov
SUMMARY:Collection Site for Solid Waste Disposal and Recycling
DESCRIPTION:
URL:https://lebanondodgewi.gov/event/collection-site-for-solid-waste-disposal-and-recycling/2025-10-04/
CATEGORIES:Recycling
ATTACH;FMTTYPE=image/png:https://lebanondodgewi.gov/wp-content/uploads/2020/02/Screen-Shot-2020-03-05-at-10.55.17-AM.png
END:VEVENT
BEGIN:VEVENT
DTSTART;TZID=America/Chicago:20251008T160000
DTEND;TZID=America/Chicago:20251008T190000
DTSTAMP:20260420T114339
CREATED:20250402T053157Z
LAST-MODIFIED:20250402T053157Z
UID:10001362-1759939200-1759950000@lebanondodgewi.gov
SUMMARY:Collection Site for Solid Waste Disposal and Recycling
DESCRIPTION:Collection site at W4717 County Rd O for receipt of recycling and solid waste disposal will be open 4:00 pm – 7:00 pm.
URL:https://lebanondodgewi.gov/event/collection-site-for-solid-waste-disposal-and-recycling-3/2025-10-08/
CATEGORIES:Recycling
END:VEVENT
BEGIN:VEVENT
DTSTART;TZID=America/Chicago:20251011T080000
DTEND;TZID=America/Chicago:20251011T130000
DTSTAMP:20260420T114339
CREATED:20231102T210105Z
LAST-MODIFIED:20231102T210105Z
UID:10000929-1760169600-1760187600@lebanondodgewi.gov
SUMMARY:Collection Site for Solid Waste Disposal and Recycling
DESCRIPTION:
URL:https://lebanondodgewi.gov/event/collection-site-for-solid-waste-disposal-and-recycling/2025-10-11/
CATEGORIES:Recycling
ATTACH;FMTTYPE=image/png:https://lebanondodgewi.gov/wp-content/uploads/2020/02/Screen-Shot-2020-03-05-at-10.55.17-AM.png
END:VEVENT
BEGIN:VEVENT
DTSTART;TZID=America/Chicago:20251015T160000
DTEND;TZID=America/Chicago:20251015T190000
DTSTAMP:20260420T114339
CREATED:20250402T053157Z
LAST-MODIFIED:20250402T053157Z
UID:10001363-1760544000-1760554800@lebanondodgewi.gov
SUMMARY:Collection Site for Solid Waste Disposal and Recycling
DESCRIPTION:Collection site at W4717 County Rd O for receipt of recycling and solid waste disposal will be open 4:00 pm – 7:00 pm.
URL:https://lebanondodgewi.gov/event/collection-site-for-solid-waste-disposal-and-recycling-3/2025-10-15/
CATEGORIES:Recycling
END:VEVENT
BEGIN:VEVENT
DTSTART;TZID=America/Chicago:20251018T080000
DTEND;TZID=America/Chicago:20251018T130000
DTSTAMP:20260420T114339
CREATED:20231102T210105Z
LAST-MODIFIED:20231102T210105Z
UID:10000930-1760774400-1760792400@lebanondodgewi.gov
SUMMARY:Collection Site for Solid Waste Disposal and Recycling
DESCRIPTION:
URL:https://lebanondodgewi.gov/event/collection-site-for-solid-waste-disposal-and-recycling/2025-10-18/
CATEGORIES:Recycling
ATTACH;FMTTYPE=image/png:https://lebanondodgewi.gov/wp-content/uploads/2020/02/Screen-Shot-2020-03-05-at-10.55.17-AM.png
END:VEVENT
BEGIN:VEVENT
DTSTART;TZID=America/Chicago:20251022T160000
DTEND;TZID=America/Chicago:20251022T190000
DTSTAMP:20260420T114339
CREATED:20250402T053157Z
LAST-MODIFIED:20250402T053157Z
UID:10001364-1761148800-1761159600@lebanondodgewi.gov
SUMMARY:Collection Site for Solid Waste Disposal and Recycling
DESCRIPTION:Collection site at W4717 County Rd O for receipt of recycling and solid waste disposal will be open 4:00 pm – 7:00 pm.
URL:https://lebanondodgewi.gov/event/collection-site-for-solid-waste-disposal-and-recycling-3/2025-10-22/
CATEGORIES:Recycling
END:VEVENT
BEGIN:VEVENT
DTSTART;TZID=America/Chicago:20251025T080000
DTEND;TZID=America/Chicago:20251025T130000
DTSTAMP:20260420T114339
CREATED:20231102T210105Z
LAST-MODIFIED:20231102T210105Z
UID:10000931-1761379200-1761397200@lebanondodgewi.gov
SUMMARY:Collection Site for Solid Waste Disposal and Recycling
DESCRIPTION:
URL:https://lebanondodgewi.gov/event/collection-site-for-solid-waste-disposal-and-recycling/2025-10-25/
CATEGORIES:Recycling
ATTACH;FMTTYPE=image/png:https://lebanondodgewi.gov/wp-content/uploads/2020/02/Screen-Shot-2020-03-05-at-10.55.17-AM.png
END:VEVENT
BEGIN:VEVENT
DTSTART;TZID=America/Chicago:20251029T160000
DTEND;TZID=America/Chicago:20251029T190000
DTSTAMP:20260420T114339
CREATED:20250402T053157Z
LAST-MODIFIED:20250402T053157Z
UID:10001365-1761753600-1761764400@lebanondodgewi.gov
SUMMARY:Collection Site for Solid Waste Disposal and Recycling
DESCRIPTION:Collection site at W4717 County Rd O for receipt of recycling and solid waste disposal will be open 4:00 pm – 7:00 pm.
URL:https://lebanondodgewi.gov/event/collection-site-for-solid-waste-disposal-and-recycling-3/2025-10-29/
CATEGORIES:Recycling
END:VEVENT
BEGIN:VEVENT
DTSTART;TZID=America/Chicago:20251101T080000
DTEND;TZID=America/Chicago:20251101T130000
DTSTAMP:20260420T114339
CREATED:20231102T210105Z
LAST-MODIFIED:20231102T210105Z
UID:10000932-1761984000-1762002000@lebanondodgewi.gov
SUMMARY:Collection Site for Solid Waste Disposal and Recycling
DESCRIPTION:
URL:https://lebanondodgewi.gov/event/collection-site-for-solid-waste-disposal-and-recycling/2025-11-01/
CATEGORIES:Recycling
ATTACH;FMTTYPE=image/png:https://lebanondodgewi.gov/wp-content/uploads/2020/02/Screen-Shot-2020-03-05-at-10.55.17-AM.png
END:VEVENT
BEGIN:VEVENT
DTSTART;TZID=America/Chicago:20251108T080000
DTEND;TZID=America/Chicago:20251108T130000
DTSTAMP:20260420T114339
CREATED:20231102T210105Z
LAST-MODIFIED:20231102T210105Z
UID:10000933-1762588800-1762606800@lebanondodgewi.gov
SUMMARY:Collection Site for Solid Waste Disposal and Recycling
DESCRIPTION:
URL:https://lebanondodgewi.gov/event/collection-site-for-solid-waste-disposal-and-recycling/2025-11-08/
CATEGORIES:Recycling
ATTACH;FMTTYPE=image/png:https://lebanondodgewi.gov/wp-content/uploads/2020/02/Screen-Shot-2020-03-05-at-10.55.17-AM.png
END:VEVENT
BEGIN:VEVENT
DTSTART;TZID=America/Chicago:20251115T080000
DTEND;TZID=America/Chicago:20251115T130000
DTSTAMP:20260420T114339
CREATED:20231102T210105Z
LAST-MODIFIED:20231102T210105Z
UID:10000934-1763193600-1763211600@lebanondodgewi.gov
SUMMARY:Collection Site for Solid Waste Disposal and Recycling
DESCRIPTION:
URL:https://lebanondodgewi.gov/event/collection-site-for-solid-waste-disposal-and-recycling/2025-11-15/
CATEGORIES:Recycling
ATTACH;FMTTYPE=image/png:https://lebanondodgewi.gov/wp-content/uploads/2020/02/Screen-Shot-2020-03-05-at-10.55.17-AM.png
END:VEVENT
BEGIN:VEVENT
DTSTART;TZID=America/Chicago:20251122T080000
DTEND;TZID=America/Chicago:20251122T130000
DTSTAMP:20260420T114339
CREATED:20231102T210105Z
LAST-MODIFIED:20231102T210105Z
UID:10000935-1763798400-1763816400@lebanondodgewi.gov
SUMMARY:Collection Site for Solid Waste Disposal and Recycling
DESCRIPTION:
URL:https://lebanondodgewi.gov/event/collection-site-for-solid-waste-disposal-and-recycling/2025-11-22/
CATEGORIES:Recycling
ATTACH;FMTTYPE=image/png:https://lebanondodgewi.gov/wp-content/uploads/2020/02/Screen-Shot-2020-03-05-at-10.55.17-AM.png
END:VEVENT
BEGIN:VEVENT
DTSTART;TZID=America/Chicago:20251122T080000
DTEND;TZID=America/Chicago:20251122T130000
DTSTAMP:20260420T114339
CREATED:20251105T202835Z
LAST-MODIFIED:20251105T202835Z
UID:10001401-1763798400-1763816400@lebanondodgewi.gov
SUMMARY:Collection Site for Solid Waste Disposal and Recycling
DESCRIPTION:
URL:https://lebanondodgewi.gov/event/collection-site-for-solid-waste-disposal-and-recycling-4/2025-11-22/
CATEGORIES:Recycling
ATTACH;FMTTYPE=image/png:https://lebanondodgewi.gov/wp-content/uploads/2020/02/Screen-Shot-2020-03-05-at-10.55.17-AM.png
END:VEVENT
BEGIN:VEVENT
DTSTART;TZID=America/Chicago:20251129T080000
DTEND;TZID=America/Chicago:20251129T130000
DTSTAMP:20260420T114339
CREATED:20231102T210105Z
LAST-MODIFIED:20231102T210105Z
UID:10000936-1764403200-1764421200@lebanondodgewi.gov
SUMMARY:Collection Site for Solid Waste Disposal and Recycling
DESCRIPTION:
URL:https://lebanondodgewi.gov/event/collection-site-for-solid-waste-disposal-and-recycling/2025-11-29/
CATEGORIES:Recycling
ATTACH;FMTTYPE=image/png:https://lebanondodgewi.gov/wp-content/uploads/2020/02/Screen-Shot-2020-03-05-at-10.55.17-AM.png
END:VEVENT
BEGIN:VEVENT
DTSTART;TZID=America/Chicago:20251129T080000
DTEND;TZID=America/Chicago:20251129T130000
DTSTAMP:20260420T114339
CREATED:20251105T202835Z
LAST-MODIFIED:20251105T202835Z
UID:10001402-1764403200-1764421200@lebanondodgewi.gov
SUMMARY:Collection Site for Solid Waste Disposal and Recycling
DESCRIPTION:
URL:https://lebanondodgewi.gov/event/collection-site-for-solid-waste-disposal-and-recycling-4/2025-11-29/
CATEGORIES:Recycling
ATTACH;FMTTYPE=image/png:https://lebanondodgewi.gov/wp-content/uploads/2020/02/Screen-Shot-2020-03-05-at-10.55.17-AM.png
END:VEVENT
BEGIN:VEVENT
DTSTART;TZID=America/Chicago:20251206T080000
DTEND;TZID=America/Chicago:20251206T130000
DTSTAMP:20260420T114339
CREATED:20251105T202835Z
LAST-MODIFIED:20251105T202835Z
UID:10001403-1765008000-1765026000@lebanondodgewi.gov
SUMMARY:Collection Site for Solid Waste Disposal and Recycling
DESCRIPTION:
URL:https://lebanondodgewi.gov/event/collection-site-for-solid-waste-disposal-and-recycling-4/2025-12-06/
CATEGORIES:Recycling
ATTACH;FMTTYPE=image/png:https://lebanondodgewi.gov/wp-content/uploads/2020/02/Screen-Shot-2020-03-05-at-10.55.17-AM.png
END:VEVENT
BEGIN:VEVENT
DTSTART;TZID=America/Chicago:20251213T080000
DTEND;TZID=America/Chicago:20251213T130000
DTSTAMP:20260420T114339
CREATED:20251105T202835Z
LAST-MODIFIED:20251105T202835Z
UID:10001404-1765612800-1765630800@lebanondodgewi.gov
SUMMARY:Collection Site for Solid Waste Disposal and Recycling
DESCRIPTION:
URL:https://lebanondodgewi.gov/event/collection-site-for-solid-waste-disposal-and-recycling-4/2025-12-13/
CATEGORIES:Recycling
ATTACH;FMTTYPE=image/png:https://lebanondodgewi.gov/wp-content/uploads/2020/02/Screen-Shot-2020-03-05-at-10.55.17-AM.png
END:VEVENT
BEGIN:VEVENT
DTSTART;TZID=America/Chicago:20251220T080000
DTEND;TZID=America/Chicago:20251220T130000
DTSTAMP:20260420T114339
CREATED:20251105T202835Z
LAST-MODIFIED:20251105T202835Z
UID:10001405-1766217600-1766235600@lebanondodgewi.gov
SUMMARY:Collection Site for Solid Waste Disposal and Recycling
DESCRIPTION:
URL:https://lebanondodgewi.gov/event/collection-site-for-solid-waste-disposal-and-recycling-4/2025-12-20/
CATEGORIES:Recycling
ATTACH;FMTTYPE=image/png:https://lebanondodgewi.gov/wp-content/uploads/2020/02/Screen-Shot-2020-03-05-at-10.55.17-AM.png
END:VEVENT
BEGIN:VEVENT
DTSTART;TZID=America/Chicago:20251227T080000
DTEND;TZID=America/Chicago:20251227T130000
DTSTAMP:20260420T114339
CREATED:20251105T202835Z
LAST-MODIFIED:20251105T202835Z
UID:10001406-1766822400-1766840400@lebanondodgewi.gov
SUMMARY:Collection Site for Solid Waste Disposal and Recycling
DESCRIPTION:
URL:https://lebanondodgewi.gov/event/collection-site-for-solid-waste-disposal-and-recycling-4/2025-12-27/
CATEGORIES:Recycling
ATTACH;FMTTYPE=image/png:https://lebanondodgewi.gov/wp-content/uploads/2020/02/Screen-Shot-2020-03-05-at-10.55.17-AM.png
END:VEVENT
BEGIN:VEVENT
DTSTART;TZID=America/Chicago:20260103T080000
DTEND;TZID=America/Chicago:20260103T130000
DTSTAMP:20260420T114339
CREATED:20251105T202835Z
LAST-MODIFIED:20251105T202835Z
UID:10001407-1767427200-1767445200@lebanondodgewi.gov
SUMMARY:Collection Site for Solid Waste Disposal and Recycling
DESCRIPTION:
URL:https://lebanondodgewi.gov/event/collection-site-for-solid-waste-disposal-and-recycling-4/2026-01-03/
CATEGORIES:Recycling
ATTACH;FMTTYPE=image/png:https://lebanondodgewi.gov/wp-content/uploads/2020/02/Screen-Shot-2020-03-05-at-10.55.17-AM.png
END:VEVENT
BEGIN:VEVENT
DTSTART;TZID=America/Chicago:20260110T080000
DTEND;TZID=America/Chicago:20260110T130000
DTSTAMP:20260420T114339
CREATED:20251105T202835Z
LAST-MODIFIED:20251105T202835Z
UID:10001408-1768032000-1768050000@lebanondodgewi.gov
SUMMARY:Collection Site for Solid Waste Disposal and Recycling
DESCRIPTION:
URL:https://lebanondodgewi.gov/event/collection-site-for-solid-waste-disposal-and-recycling-4/2026-01-10/
CATEGORIES:Recycling
ATTACH;FMTTYPE=image/png:https://lebanondodgewi.gov/wp-content/uploads/2020/02/Screen-Shot-2020-03-05-at-10.55.17-AM.png
END:VEVENT
BEGIN:VEVENT
DTSTART;TZID=America/Chicago:20260117T080000
DTEND;TZID=America/Chicago:20260117T130000
DTSTAMP:20260420T114339
CREATED:20251105T202835Z
LAST-MODIFIED:20251105T202835Z
UID:10001409-1768636800-1768654800@lebanondodgewi.gov
SUMMARY:Collection Site for Solid Waste Disposal and Recycling
DESCRIPTION:
URL:https://lebanondodgewi.gov/event/collection-site-for-solid-waste-disposal-and-recycling-4/2026-01-17/
CATEGORIES:Recycling
ATTACH;FMTTYPE=image/png:https://lebanondodgewi.gov/wp-content/uploads/2020/02/Screen-Shot-2020-03-05-at-10.55.17-AM.png
END:VEVENT
BEGIN:VEVENT
DTSTART;TZID=America/Chicago:20260124T080000
DTEND;TZID=America/Chicago:20260124T130000
DTSTAMP:20260420T114339
CREATED:20251105T202835Z
LAST-MODIFIED:20251105T202835Z
UID:10001410-1769241600-1769259600@lebanondodgewi.gov
SUMMARY:Collection Site for Solid Waste Disposal and Recycling
DESCRIPTION:
URL:https://lebanondodgewi.gov/event/collection-site-for-solid-waste-disposal-and-recycling-4/2026-01-24/
CATEGORIES:Recycling
ATTACH;FMTTYPE=image/png:https://lebanondodgewi.gov/wp-content/uploads/2020/02/Screen-Shot-2020-03-05-at-10.55.17-AM.png
END:VEVENT
BEGIN:VEVENT
DTSTART;TZID=America/Chicago:20260131T080000
DTEND;TZID=America/Chicago:20260131T130000
DTSTAMP:20260420T114339
CREATED:20251105T202835Z
LAST-MODIFIED:20251105T202835Z
UID:10001411-1769846400-1769864400@lebanondodgewi.gov
SUMMARY:Collection Site for Solid Waste Disposal and Recycling
DESCRIPTION:
URL:https://lebanondodgewi.gov/event/collection-site-for-solid-waste-disposal-and-recycling-4/2026-01-31/
CATEGORIES:Recycling
ATTACH;FMTTYPE=image/png:https://lebanondodgewi.gov/wp-content/uploads/2020/02/Screen-Shot-2020-03-05-at-10.55.17-AM.png
END:VEVENT
BEGIN:VEVENT
DTSTART;TZID=America/Chicago:20260207T080000
DTEND;TZID=America/Chicago:20260207T130000
DTSTAMP:20260420T114339
CREATED:20251105T202835Z
LAST-MODIFIED:20251105T202835Z
UID:10001412-1770451200-1770469200@lebanondodgewi.gov
SUMMARY:Collection Site for Solid Waste Disposal and Recycling
DESCRIPTION:
URL:https://lebanondodgewi.gov/event/collection-site-for-solid-waste-disposal-and-recycling-4/2026-02-07/
CATEGORIES:Recycling
ATTACH;FMTTYPE=image/png:https://lebanondodgewi.gov/wp-content/uploads/2020/02/Screen-Shot-2020-03-05-at-10.55.17-AM.png
END:VEVENT
BEGIN:VEVENT
DTSTART;TZID=America/Chicago:20260214T080000
DTEND;TZID=America/Chicago:20260214T130000
DTSTAMP:20260420T114339
CREATED:20251105T202835Z
LAST-MODIFIED:20251105T202835Z
UID:10001413-1771056000-1771074000@lebanondodgewi.gov
SUMMARY:Collection Site for Solid Waste Disposal and Recycling
DESCRIPTION:
URL:https://lebanondodgewi.gov/event/collection-site-for-solid-waste-disposal-and-recycling-4/2026-02-14/
CATEGORIES:Recycling
ATTACH;FMTTYPE=image/png:https://lebanondodgewi.gov/wp-content/uploads/2020/02/Screen-Shot-2020-03-05-at-10.55.17-AM.png
END:VEVENT
END:VCALENDAR