BEGIN:VCALENDAR
VERSION:2.0
PRODID:-//Town of Lebanon - ECPv6.15.17.1//NONSGML v1.0//EN
CALSCALE:GREGORIAN
METHOD:PUBLISH
X-ORIGINAL-URL:https://lebanondodgewi.gov
X-WR-CALDESC:Events for Town of Lebanon
REFRESH-INTERVAL;VALUE=DURATION:PT1H
X-Robots-Tag:noindex
X-PUBLISHED-TTL:PT1H
BEGIN:VTIMEZONE
TZID:America/Chicago
BEGIN:DAYLIGHT
TZOFFSETFROM:-0600
TZOFFSETTO:-0500
TZNAME:CDT
DTSTART:20230312T080000
END:DAYLIGHT
BEGIN:STANDARD
TZOFFSETFROM:-0500
TZOFFSETTO:-0600
TZNAME:CST
DTSTART:20231105T070000
END:STANDARD
BEGIN:DAYLIGHT
TZOFFSETFROM:-0600
TZOFFSETTO:-0500
TZNAME:CDT
DTSTART:20240310T080000
END:DAYLIGHT
BEGIN:STANDARD
TZOFFSETFROM:-0500
TZOFFSETTO:-0600
TZNAME:CST
DTSTART:20241103T070000
END:STANDARD
BEGIN:DAYLIGHT
TZOFFSETFROM:-0600
TZOFFSETTO:-0500
TZNAME:CDT
DTSTART:20250309T080000
END:DAYLIGHT
BEGIN:STANDARD
TZOFFSETFROM:-0500
TZOFFSETTO:-0600
TZNAME:CST
DTSTART:20251102T070000
END:STANDARD
BEGIN:DAYLIGHT
TZOFFSETFROM:-0600
TZOFFSETTO:-0500
TZNAME:CDT
DTSTART:20260308T080000
END:DAYLIGHT
BEGIN:STANDARD
TZOFFSETFROM:-0500
TZOFFSETTO:-0600
TZNAME:CST
DTSTART:20261101T070000
END:STANDARD
END:VTIMEZONE
BEGIN:VEVENT
DTSTART;TZID=America/Chicago:20241005T080000
DTEND;TZID=America/Chicago:20241005T130000
DTSTAMP:20260421T183921
CREATED:20231102T210105Z
LAST-MODIFIED:20231102T210105Z
UID:10000876-1728115200-1728133200@lebanondodgewi.gov
SUMMARY:Collection Site for Solid Waste Disposal and Recycling
DESCRIPTION:
URL:https://lebanondodgewi.gov/event/collection-site-for-solid-waste-disposal-and-recycling/2024-10-05/
CATEGORIES:Recycling
ATTACH;FMTTYPE=image/png:https://lebanondodgewi.gov/wp-content/uploads/2020/02/Screen-Shot-2020-03-05-at-10.55.17-AM.png
END:VEVENT
BEGIN:VEVENT
DTSTART;TZID=America/Chicago:20241009T160000
DTEND;TZID=America/Chicago:20241009T190000
DTSTAMP:20260421T183921
CREATED:20240327T153836Z
LAST-MODIFIED:20240327T153836Z
UID:10001216-1728489600-1728500400@lebanondodgewi.gov
SUMMARY:Collection Site for Solid Waste Disposal and Recycling
DESCRIPTION:
URL:https://lebanondodgewi.gov/event/collection-site-for-solid-waste-disposal-and-recycling-2/2024-10-09/
CATEGORIES:Recycling
END:VEVENT
BEGIN:VEVENT
DTSTART;TZID=America/Chicago:20241012T080000
DTEND;TZID=America/Chicago:20241012T130000
DTSTAMP:20260421T183921
CREATED:20231102T210105Z
LAST-MODIFIED:20231102T210105Z
UID:10000877-1728720000-1728738000@lebanondodgewi.gov
SUMMARY:Collection Site for Solid Waste Disposal and Recycling
DESCRIPTION:
URL:https://lebanondodgewi.gov/event/collection-site-for-solid-waste-disposal-and-recycling/2024-10-12/
CATEGORIES:Recycling
ATTACH;FMTTYPE=image/png:https://lebanondodgewi.gov/wp-content/uploads/2020/02/Screen-Shot-2020-03-05-at-10.55.17-AM.png
END:VEVENT
BEGIN:VEVENT
DTSTART;TZID=America/Chicago:20241016T160000
DTEND;TZID=America/Chicago:20241016T190000
DTSTAMP:20260421T183921
CREATED:20240327T153836Z
LAST-MODIFIED:20240327T153836Z
UID:10001217-1729094400-1729105200@lebanondodgewi.gov
SUMMARY:Collection Site for Solid Waste Disposal and Recycling
DESCRIPTION:
URL:https://lebanondodgewi.gov/event/collection-site-for-solid-waste-disposal-and-recycling-2/2024-10-16/
CATEGORIES:Recycling
END:VEVENT
BEGIN:VEVENT
DTSTART;TZID=America/Chicago:20241019T080000
DTEND;TZID=America/Chicago:20241019T130000
DTSTAMP:20260421T183921
CREATED:20231102T210105Z
LAST-MODIFIED:20231102T210105Z
UID:10000878-1729324800-1729342800@lebanondodgewi.gov
SUMMARY:Collection Site for Solid Waste Disposal and Recycling
DESCRIPTION:
URL:https://lebanondodgewi.gov/event/collection-site-for-solid-waste-disposal-and-recycling/2024-10-19/
CATEGORIES:Recycling
ATTACH;FMTTYPE=image/png:https://lebanondodgewi.gov/wp-content/uploads/2020/02/Screen-Shot-2020-03-05-at-10.55.17-AM.png
END:VEVENT
BEGIN:VEVENT
DTSTART;TZID=America/Chicago:20241023T160000
DTEND;TZID=America/Chicago:20241023T190000
DTSTAMP:20260421T183921
CREATED:20240327T153836Z
LAST-MODIFIED:20240327T153836Z
UID:10001218-1729699200-1729710000@lebanondodgewi.gov
SUMMARY:Collection Site for Solid Waste Disposal and Recycling
DESCRIPTION:
URL:https://lebanondodgewi.gov/event/collection-site-for-solid-waste-disposal-and-recycling-2/2024-10-23/
CATEGORIES:Recycling
END:VEVENT
BEGIN:VEVENT
DTSTART;TZID=America/Chicago:20241026T080000
DTEND;TZID=America/Chicago:20241026T130000
DTSTAMP:20260421T183921
CREATED:20231102T210105Z
LAST-MODIFIED:20231102T210105Z
UID:10000879-1729929600-1729947600@lebanondodgewi.gov
SUMMARY:Collection Site for Solid Waste Disposal and Recycling
DESCRIPTION:
URL:https://lebanondodgewi.gov/event/collection-site-for-solid-waste-disposal-and-recycling/2024-10-26/
CATEGORIES:Recycling
ATTACH;FMTTYPE=image/png:https://lebanondodgewi.gov/wp-content/uploads/2020/02/Screen-Shot-2020-03-05-at-10.55.17-AM.png
END:VEVENT
BEGIN:VEVENT
DTSTART;TZID=America/Chicago:20241030T160000
DTEND;TZID=America/Chicago:20241030T190000
DTSTAMP:20260421T183921
CREATED:20240327T153836Z
LAST-MODIFIED:20240327T153836Z
UID:10001219-1730304000-1730314800@lebanondodgewi.gov
SUMMARY:Collection Site for Solid Waste Disposal and Recycling
DESCRIPTION:
URL:https://lebanondodgewi.gov/event/collection-site-for-solid-waste-disposal-and-recycling-2/2024-10-30/
CATEGORIES:Recycling
END:VEVENT
BEGIN:VEVENT
DTSTART;TZID=America/Chicago:20241102T080000
DTEND;TZID=America/Chicago:20241102T130000
DTSTAMP:20260421T183921
CREATED:20231102T210105Z
LAST-MODIFIED:20231102T210105Z
UID:10000880-1730534400-1730552400@lebanondodgewi.gov
SUMMARY:Collection Site for Solid Waste Disposal and Recycling
DESCRIPTION:
URL:https://lebanondodgewi.gov/event/collection-site-for-solid-waste-disposal-and-recycling/2024-11-02/
CATEGORIES:Recycling
ATTACH;FMTTYPE=image/png:https://lebanondodgewi.gov/wp-content/uploads/2020/02/Screen-Shot-2020-03-05-at-10.55.17-AM.png
END:VEVENT
BEGIN:VEVENT
DTSTART;TZID=America/Chicago:20241109T080000
DTEND;TZID=America/Chicago:20241109T130000
DTSTAMP:20260421T183921
CREATED:20231102T210105Z
LAST-MODIFIED:20231102T210105Z
UID:10000881-1731139200-1731157200@lebanondodgewi.gov
SUMMARY:Collection Site for Solid Waste Disposal and Recycling
DESCRIPTION:
URL:https://lebanondodgewi.gov/event/collection-site-for-solid-waste-disposal-and-recycling/2024-11-09/
CATEGORIES:Recycling
ATTACH;FMTTYPE=image/png:https://lebanondodgewi.gov/wp-content/uploads/2020/02/Screen-Shot-2020-03-05-at-10.55.17-AM.png
END:VEVENT
BEGIN:VEVENT
DTSTART;TZID=America/Chicago:20241116T080000
DTEND;TZID=America/Chicago:20241116T130000
DTSTAMP:20260421T183921
CREATED:20231102T210105Z
LAST-MODIFIED:20231102T210105Z
UID:10000882-1731744000-1731762000@lebanondodgewi.gov
SUMMARY:Collection Site for Solid Waste Disposal and Recycling
DESCRIPTION:
URL:https://lebanondodgewi.gov/event/collection-site-for-solid-waste-disposal-and-recycling/2024-11-16/
CATEGORIES:Recycling
ATTACH;FMTTYPE=image/png:https://lebanondodgewi.gov/wp-content/uploads/2020/02/Screen-Shot-2020-03-05-at-10.55.17-AM.png
END:VEVENT
BEGIN:VEVENT
DTSTART;TZID=America/Chicago:20241123T080000
DTEND;TZID=America/Chicago:20241123T130000
DTSTAMP:20260421T183921
CREATED:20231102T210105Z
LAST-MODIFIED:20231102T210105Z
UID:10000883-1732348800-1732366800@lebanondodgewi.gov
SUMMARY:Collection Site for Solid Waste Disposal and Recycling
DESCRIPTION:
URL:https://lebanondodgewi.gov/event/collection-site-for-solid-waste-disposal-and-recycling/2024-11-23/
CATEGORIES:Recycling
ATTACH;FMTTYPE=image/png:https://lebanondodgewi.gov/wp-content/uploads/2020/02/Screen-Shot-2020-03-05-at-10.55.17-AM.png
END:VEVENT
BEGIN:VEVENT
DTSTART;TZID=America/Chicago:20241130T080000
DTEND;TZID=America/Chicago:20241130T130000
DTSTAMP:20260421T183921
CREATED:20231102T210105Z
LAST-MODIFIED:20231102T210105Z
UID:10000884-1732953600-1732971600@lebanondodgewi.gov
SUMMARY:Collection Site for Solid Waste Disposal and Recycling
DESCRIPTION:
URL:https://lebanondodgewi.gov/event/collection-site-for-solid-waste-disposal-and-recycling/2024-11-30/
CATEGORIES:Recycling
ATTACH;FMTTYPE=image/png:https://lebanondodgewi.gov/wp-content/uploads/2020/02/Screen-Shot-2020-03-05-at-10.55.17-AM.png
END:VEVENT
BEGIN:VEVENT
DTSTART;TZID=America/Chicago:20241207T080000
DTEND;TZID=America/Chicago:20241207T130000
DTSTAMP:20260421T183921
CREATED:20231102T210105Z
LAST-MODIFIED:20231102T210105Z
UID:10000885-1733558400-1733576400@lebanondodgewi.gov
SUMMARY:Collection Site for Solid Waste Disposal and Recycling
DESCRIPTION:
URL:https://lebanondodgewi.gov/event/collection-site-for-solid-waste-disposal-and-recycling/2024-12-07/
CATEGORIES:Recycling
ATTACH;FMTTYPE=image/png:https://lebanondodgewi.gov/wp-content/uploads/2020/02/Screen-Shot-2020-03-05-at-10.55.17-AM.png
END:VEVENT
BEGIN:VEVENT
DTSTART;TZID=America/Chicago:20241214T080000
DTEND;TZID=America/Chicago:20241214T130000
DTSTAMP:20260421T183921
CREATED:20231102T210105Z
LAST-MODIFIED:20231102T210105Z
UID:10000886-1734163200-1734181200@lebanondodgewi.gov
SUMMARY:Collection Site for Solid Waste Disposal and Recycling
DESCRIPTION:
URL:https://lebanondodgewi.gov/event/collection-site-for-solid-waste-disposal-and-recycling/2024-12-14/
CATEGORIES:Recycling
ATTACH;FMTTYPE=image/png:https://lebanondodgewi.gov/wp-content/uploads/2020/02/Screen-Shot-2020-03-05-at-10.55.17-AM.png
END:VEVENT
BEGIN:VEVENT
DTSTART;TZID=America/Chicago:20241221T080000
DTEND;TZID=America/Chicago:20241221T130000
DTSTAMP:20260421T183921
CREATED:20231102T210105Z
LAST-MODIFIED:20231102T210105Z
UID:10000887-1734768000-1734786000@lebanondodgewi.gov
SUMMARY:Collection Site for Solid Waste Disposal and Recycling
DESCRIPTION:
URL:https://lebanondodgewi.gov/event/collection-site-for-solid-waste-disposal-and-recycling/2024-12-21/
CATEGORIES:Recycling
ATTACH;FMTTYPE=image/png:https://lebanondodgewi.gov/wp-content/uploads/2020/02/Screen-Shot-2020-03-05-at-10.55.17-AM.png
END:VEVENT
BEGIN:VEVENT
DTSTART;TZID=America/Chicago:20241228T080000
DTEND;TZID=America/Chicago:20241228T130000
DTSTAMP:20260421T183921
CREATED:20231102T210105Z
LAST-MODIFIED:20231102T210105Z
UID:10000888-1735372800-1735390800@lebanondodgewi.gov
SUMMARY:Collection Site for Solid Waste Disposal and Recycling
DESCRIPTION:
URL:https://lebanondodgewi.gov/event/collection-site-for-solid-waste-disposal-and-recycling/2024-12-28/
CATEGORIES:Recycling
ATTACH;FMTTYPE=image/png:https://lebanondodgewi.gov/wp-content/uploads/2020/02/Screen-Shot-2020-03-05-at-10.55.17-AM.png
END:VEVENT
BEGIN:VEVENT
DTSTART;TZID=America/Chicago:20250104T080000
DTEND;TZID=America/Chicago:20250104T130000
DTSTAMP:20260421T183921
CREATED:20231102T210105Z
LAST-MODIFIED:20231102T210105Z
UID:10000889-1735977600-1735995600@lebanondodgewi.gov
SUMMARY:Collection Site for Solid Waste Disposal and Recycling
DESCRIPTION:
URL:https://lebanondodgewi.gov/event/collection-site-for-solid-waste-disposal-and-recycling/2025-01-04/
CATEGORIES:Recycling
ATTACH;FMTTYPE=image/png:https://lebanondodgewi.gov/wp-content/uploads/2020/02/Screen-Shot-2020-03-05-at-10.55.17-AM.png
END:VEVENT
BEGIN:VEVENT
DTSTART;TZID=America/Chicago:20250111T080000
DTEND;TZID=America/Chicago:20250111T130000
DTSTAMP:20260421T183921
CREATED:20231102T210105Z
LAST-MODIFIED:20231102T210105Z
UID:10000890-1736582400-1736600400@lebanondodgewi.gov
SUMMARY:Collection Site for Solid Waste Disposal and Recycling
DESCRIPTION:
URL:https://lebanondodgewi.gov/event/collection-site-for-solid-waste-disposal-and-recycling/2025-01-11/
CATEGORIES:Recycling
ATTACH;FMTTYPE=image/png:https://lebanondodgewi.gov/wp-content/uploads/2020/02/Screen-Shot-2020-03-05-at-10.55.17-AM.png
END:VEVENT
BEGIN:VEVENT
DTSTART;TZID=America/Chicago:20250118T080000
DTEND;TZID=America/Chicago:20250118T130000
DTSTAMP:20260421T183921
CREATED:20231102T210105Z
LAST-MODIFIED:20231102T210105Z
UID:10000891-1737187200-1737205200@lebanondodgewi.gov
SUMMARY:Collection Site for Solid Waste Disposal and Recycling
DESCRIPTION:
URL:https://lebanondodgewi.gov/event/collection-site-for-solid-waste-disposal-and-recycling/2025-01-18/
CATEGORIES:Recycling
ATTACH;FMTTYPE=image/png:https://lebanondodgewi.gov/wp-content/uploads/2020/02/Screen-Shot-2020-03-05-at-10.55.17-AM.png
END:VEVENT
BEGIN:VEVENT
DTSTART;TZID=America/Chicago:20250125T080000
DTEND;TZID=America/Chicago:20250125T130000
DTSTAMP:20260421T183921
CREATED:20231102T210105Z
LAST-MODIFIED:20231102T210105Z
UID:10000892-1737792000-1737810000@lebanondodgewi.gov
SUMMARY:Collection Site for Solid Waste Disposal and Recycling
DESCRIPTION:
URL:https://lebanondodgewi.gov/event/collection-site-for-solid-waste-disposal-and-recycling/2025-01-25/
CATEGORIES:Recycling
ATTACH;FMTTYPE=image/png:https://lebanondodgewi.gov/wp-content/uploads/2020/02/Screen-Shot-2020-03-05-at-10.55.17-AM.png
END:VEVENT
BEGIN:VEVENT
DTSTART;TZID=America/Chicago:20250201T080000
DTEND;TZID=America/Chicago:20250201T130000
DTSTAMP:20260421T183921
CREATED:20231102T210105Z
LAST-MODIFIED:20231102T210105Z
UID:10000893-1738396800-1738414800@lebanondodgewi.gov
SUMMARY:Collection Site for Solid Waste Disposal and Recycling
DESCRIPTION:
URL:https://lebanondodgewi.gov/event/collection-site-for-solid-waste-disposal-and-recycling/2025-02-01/
CATEGORIES:Recycling
ATTACH;FMTTYPE=image/png:https://lebanondodgewi.gov/wp-content/uploads/2020/02/Screen-Shot-2020-03-05-at-10.55.17-AM.png
END:VEVENT
BEGIN:VEVENT
DTSTART;TZID=America/Chicago:20250208T080000
DTEND;TZID=America/Chicago:20250208T130000
DTSTAMP:20260421T183921
CREATED:20231102T210105Z
LAST-MODIFIED:20231102T210105Z
UID:10000894-1739001600-1739019600@lebanondodgewi.gov
SUMMARY:Collection Site for Solid Waste Disposal and Recycling
DESCRIPTION:
URL:https://lebanondodgewi.gov/event/collection-site-for-solid-waste-disposal-and-recycling/2025-02-08/
CATEGORIES:Recycling
ATTACH;FMTTYPE=image/png:https://lebanondodgewi.gov/wp-content/uploads/2020/02/Screen-Shot-2020-03-05-at-10.55.17-AM.png
END:VEVENT
BEGIN:VEVENT
DTSTART;TZID=America/Chicago:20250215T080000
DTEND;TZID=America/Chicago:20250215T130000
DTSTAMP:20260421T183921
CREATED:20231102T210105Z
LAST-MODIFIED:20231102T210105Z
UID:10000895-1739606400-1739624400@lebanondodgewi.gov
SUMMARY:Collection Site for Solid Waste Disposal and Recycling
DESCRIPTION:
URL:https://lebanondodgewi.gov/event/collection-site-for-solid-waste-disposal-and-recycling/2025-02-15/
CATEGORIES:Recycling
ATTACH;FMTTYPE=image/png:https://lebanondodgewi.gov/wp-content/uploads/2020/02/Screen-Shot-2020-03-05-at-10.55.17-AM.png
END:VEVENT
BEGIN:VEVENT
DTSTART;TZID=America/Chicago:20250222T080000
DTEND;TZID=America/Chicago:20250222T130000
DTSTAMP:20260421T183921
CREATED:20231102T210105Z
LAST-MODIFIED:20231102T210105Z
UID:10000896-1740211200-1740229200@lebanondodgewi.gov
SUMMARY:Collection Site for Solid Waste Disposal and Recycling
DESCRIPTION:
URL:https://lebanondodgewi.gov/event/collection-site-for-solid-waste-disposal-and-recycling/2025-02-22/
CATEGORIES:Recycling
ATTACH;FMTTYPE=image/png:https://lebanondodgewi.gov/wp-content/uploads/2020/02/Screen-Shot-2020-03-05-at-10.55.17-AM.png
END:VEVENT
BEGIN:VEVENT
DTSTART;TZID=America/Chicago:20250301T080000
DTEND;TZID=America/Chicago:20250301T130000
DTSTAMP:20260421T183921
CREATED:20231102T210105Z
LAST-MODIFIED:20231102T210105Z
UID:10000897-1740816000-1740834000@lebanondodgewi.gov
SUMMARY:Collection Site for Solid Waste Disposal and Recycling
DESCRIPTION:
URL:https://lebanondodgewi.gov/event/collection-site-for-solid-waste-disposal-and-recycling/2025-03-01/
CATEGORIES:Recycling
ATTACH;FMTTYPE=image/png:https://lebanondodgewi.gov/wp-content/uploads/2020/02/Screen-Shot-2020-03-05-at-10.55.17-AM.png
END:VEVENT
BEGIN:VEVENT
DTSTART;TZID=America/Chicago:20250308T080000
DTEND;TZID=America/Chicago:20250308T130000
DTSTAMP:20260421T183921
CREATED:20231102T210105Z
LAST-MODIFIED:20231102T210105Z
UID:10000898-1741420800-1741438800@lebanondodgewi.gov
SUMMARY:Collection Site for Solid Waste Disposal and Recycling
DESCRIPTION:
URL:https://lebanondodgewi.gov/event/collection-site-for-solid-waste-disposal-and-recycling/2025-03-08/
CATEGORIES:Recycling
ATTACH;FMTTYPE=image/png:https://lebanondodgewi.gov/wp-content/uploads/2020/02/Screen-Shot-2020-03-05-at-10.55.17-AM.png
END:VEVENT
BEGIN:VEVENT
DTSTART;TZID=America/Chicago:20250315T080000
DTEND;TZID=America/Chicago:20250315T130000
DTSTAMP:20260421T183921
CREATED:20231102T210105Z
LAST-MODIFIED:20231102T210105Z
UID:10000899-1742025600-1742043600@lebanondodgewi.gov
SUMMARY:Collection Site for Solid Waste Disposal and Recycling
DESCRIPTION:
URL:https://lebanondodgewi.gov/event/collection-site-for-solid-waste-disposal-and-recycling/2025-03-15/
CATEGORIES:Recycling
ATTACH;FMTTYPE=image/png:https://lebanondodgewi.gov/wp-content/uploads/2020/02/Screen-Shot-2020-03-05-at-10.55.17-AM.png
END:VEVENT
BEGIN:VEVENT
DTSTART;TZID=America/Chicago:20250322T080000
DTEND;TZID=America/Chicago:20250322T130000
DTSTAMP:20260421T183921
CREATED:20231102T210105Z
LAST-MODIFIED:20231102T210105Z
UID:10000900-1742630400-1742648400@lebanondodgewi.gov
SUMMARY:Collection Site for Solid Waste Disposal and Recycling
DESCRIPTION:
URL:https://lebanondodgewi.gov/event/collection-site-for-solid-waste-disposal-and-recycling/2025-03-22/
CATEGORIES:Recycling
ATTACH;FMTTYPE=image/png:https://lebanondodgewi.gov/wp-content/uploads/2020/02/Screen-Shot-2020-03-05-at-10.55.17-AM.png
END:VEVENT
BEGIN:VEVENT
DTSTART;TZID=America/Chicago:20250329T080000
DTEND;TZID=America/Chicago:20250329T130000
DTSTAMP:20260421T183921
CREATED:20231102T210105Z
LAST-MODIFIED:20231102T210105Z
UID:10000901-1743235200-1743253200@lebanondodgewi.gov
SUMMARY:Collection Site for Solid Waste Disposal and Recycling
DESCRIPTION:
URL:https://lebanondodgewi.gov/event/collection-site-for-solid-waste-disposal-and-recycling/2025-03-29/
CATEGORIES:Recycling
ATTACH;FMTTYPE=image/png:https://lebanondodgewi.gov/wp-content/uploads/2020/02/Screen-Shot-2020-03-05-at-10.55.17-AM.png
END:VEVENT
END:VCALENDAR