BEGIN:VCALENDAR
VERSION:2.0
PRODID:-//Town of Lebanon - ECPv6.15.17.1//NONSGML v1.0//EN
CALSCALE:GREGORIAN
METHOD:PUBLISH
X-ORIGINAL-URL:https://lebanondodgewi.gov
X-WR-CALDESC:Events for Town of Lebanon
REFRESH-INTERVAL;VALUE=DURATION:PT1H
X-Robots-Tag:noindex
X-PUBLISHED-TTL:PT1H
BEGIN:VTIMEZONE
TZID:America/Chicago
BEGIN:DAYLIGHT
TZOFFSETFROM:-0600
TZOFFSETTO:-0500
TZNAME:CDT
DTSTART:20240310T080000
END:DAYLIGHT
BEGIN:STANDARD
TZOFFSETFROM:-0500
TZOFFSETTO:-0600
TZNAME:CST
DTSTART:20241103T070000
END:STANDARD
BEGIN:DAYLIGHT
TZOFFSETFROM:-0600
TZOFFSETTO:-0500
TZNAME:CDT
DTSTART:20250309T080000
END:DAYLIGHT
BEGIN:STANDARD
TZOFFSETFROM:-0500
TZOFFSETTO:-0600
TZNAME:CST
DTSTART:20251102T070000
END:STANDARD
BEGIN:DAYLIGHT
TZOFFSETFROM:-0600
TZOFFSETTO:-0500
TZNAME:CDT
DTSTART:20260308T080000
END:DAYLIGHT
BEGIN:STANDARD
TZOFFSETFROM:-0500
TZOFFSETTO:-0600
TZNAME:CST
DTSTART:20261101T070000
END:STANDARD
BEGIN:DAYLIGHT
TZOFFSETFROM:-0600
TZOFFSETTO:-0500
TZNAME:CDT
DTSTART:20270314T080000
END:DAYLIGHT
BEGIN:STANDARD
TZOFFSETFROM:-0500
TZOFFSETTO:-0600
TZNAME:CST
DTSTART:20271107T070000
END:STANDARD
END:VTIMEZONE
BEGIN:VEVENT
DTSTART;TZID=America/Chicago:20251227T080000
DTEND;TZID=America/Chicago:20251227T130000
DTSTAMP:20260420T003237
CREATED:20251105T202835Z
LAST-MODIFIED:20251105T202835Z
UID:10001406-1766822400-1766840400@lebanondodgewi.gov
SUMMARY:Collection Site for Solid Waste Disposal and Recycling
DESCRIPTION:
URL:https://lebanondodgewi.gov/event/collection-site-for-solid-waste-disposal-and-recycling-4/2025-12-27/
CATEGORIES:Recycling
ATTACH;FMTTYPE=image/png:https://lebanondodgewi.gov/wp-content/uploads/2020/02/Screen-Shot-2020-03-05-at-10.55.17-AM.png
END:VEVENT
BEGIN:VEVENT
DTSTART;TZID=America/Chicago:20260103T080000
DTEND;TZID=America/Chicago:20260103T130000
DTSTAMP:20260420T003237
CREATED:20251105T202835Z
LAST-MODIFIED:20251105T202835Z
UID:10001407-1767427200-1767445200@lebanondodgewi.gov
SUMMARY:Collection Site for Solid Waste Disposal and Recycling
DESCRIPTION:
URL:https://lebanondodgewi.gov/event/collection-site-for-solid-waste-disposal-and-recycling-4/2026-01-03/
CATEGORIES:Recycling
ATTACH;FMTTYPE=image/png:https://lebanondodgewi.gov/wp-content/uploads/2020/02/Screen-Shot-2020-03-05-at-10.55.17-AM.png
END:VEVENT
BEGIN:VEVENT
DTSTART;TZID=America/Chicago:20260110T080000
DTEND;TZID=America/Chicago:20260110T130000
DTSTAMP:20260420T003237
CREATED:20251105T202835Z
LAST-MODIFIED:20251105T202835Z
UID:10001408-1768032000-1768050000@lebanondodgewi.gov
SUMMARY:Collection Site for Solid Waste Disposal and Recycling
DESCRIPTION:
URL:https://lebanondodgewi.gov/event/collection-site-for-solid-waste-disposal-and-recycling-4/2026-01-10/
CATEGORIES:Recycling
ATTACH;FMTTYPE=image/png:https://lebanondodgewi.gov/wp-content/uploads/2020/02/Screen-Shot-2020-03-05-at-10.55.17-AM.png
END:VEVENT
BEGIN:VEVENT
DTSTART;TZID=America/Chicago:20260117T080000
DTEND;TZID=America/Chicago:20260117T130000
DTSTAMP:20260420T003237
CREATED:20251105T202835Z
LAST-MODIFIED:20251105T202835Z
UID:10001409-1768636800-1768654800@lebanondodgewi.gov
SUMMARY:Collection Site for Solid Waste Disposal and Recycling
DESCRIPTION:
URL:https://lebanondodgewi.gov/event/collection-site-for-solid-waste-disposal-and-recycling-4/2026-01-17/
CATEGORIES:Recycling
ATTACH;FMTTYPE=image/png:https://lebanondodgewi.gov/wp-content/uploads/2020/02/Screen-Shot-2020-03-05-at-10.55.17-AM.png
END:VEVENT
BEGIN:VEVENT
DTSTART;TZID=America/Chicago:20260124T080000
DTEND;TZID=America/Chicago:20260124T130000
DTSTAMP:20260420T003237
CREATED:20251105T202835Z
LAST-MODIFIED:20251105T202835Z
UID:10001410-1769241600-1769259600@lebanondodgewi.gov
SUMMARY:Collection Site for Solid Waste Disposal and Recycling
DESCRIPTION:
URL:https://lebanondodgewi.gov/event/collection-site-for-solid-waste-disposal-and-recycling-4/2026-01-24/
CATEGORIES:Recycling
ATTACH;FMTTYPE=image/png:https://lebanondodgewi.gov/wp-content/uploads/2020/02/Screen-Shot-2020-03-05-at-10.55.17-AM.png
END:VEVENT
BEGIN:VEVENT
DTSTART;TZID=America/Chicago:20260131T080000
DTEND;TZID=America/Chicago:20260131T130000
DTSTAMP:20260420T003237
CREATED:20251105T202835Z
LAST-MODIFIED:20251105T202835Z
UID:10001411-1769846400-1769864400@lebanondodgewi.gov
SUMMARY:Collection Site for Solid Waste Disposal and Recycling
DESCRIPTION:
URL:https://lebanondodgewi.gov/event/collection-site-for-solid-waste-disposal-and-recycling-4/2026-01-31/
CATEGORIES:Recycling
ATTACH;FMTTYPE=image/png:https://lebanondodgewi.gov/wp-content/uploads/2020/02/Screen-Shot-2020-03-05-at-10.55.17-AM.png
END:VEVENT
BEGIN:VEVENT
DTSTART;TZID=America/Chicago:20260207T080000
DTEND;TZID=America/Chicago:20260207T130000
DTSTAMP:20260420T003237
CREATED:20251105T202835Z
LAST-MODIFIED:20251105T202835Z
UID:10001412-1770451200-1770469200@lebanondodgewi.gov
SUMMARY:Collection Site for Solid Waste Disposal and Recycling
DESCRIPTION:
URL:https://lebanondodgewi.gov/event/collection-site-for-solid-waste-disposal-and-recycling-4/2026-02-07/
CATEGORIES:Recycling
ATTACH;FMTTYPE=image/png:https://lebanondodgewi.gov/wp-content/uploads/2020/02/Screen-Shot-2020-03-05-at-10.55.17-AM.png
END:VEVENT
BEGIN:VEVENT
DTSTART;TZID=America/Chicago:20260214T080000
DTEND;TZID=America/Chicago:20260214T130000
DTSTAMP:20260420T003237
CREATED:20251105T202835Z
LAST-MODIFIED:20251105T202835Z
UID:10001413-1771056000-1771074000@lebanondodgewi.gov
SUMMARY:Collection Site for Solid Waste Disposal and Recycling
DESCRIPTION:
URL:https://lebanondodgewi.gov/event/collection-site-for-solid-waste-disposal-and-recycling-4/2026-02-14/
CATEGORIES:Recycling
ATTACH;FMTTYPE=image/png:https://lebanondodgewi.gov/wp-content/uploads/2020/02/Screen-Shot-2020-03-05-at-10.55.17-AM.png
END:VEVENT
BEGIN:VEVENT
DTSTART;TZID=America/Chicago:20260221T080000
DTEND;TZID=America/Chicago:20260221T130000
DTSTAMP:20260420T003237
CREATED:20251105T202835Z
LAST-MODIFIED:20251105T202835Z
UID:10001414-1771660800-1771678800@lebanondodgewi.gov
SUMMARY:Collection Site for Solid Waste Disposal and Recycling
DESCRIPTION:
URL:https://lebanondodgewi.gov/event/collection-site-for-solid-waste-disposal-and-recycling-4/2026-02-21/
CATEGORIES:Recycling
ATTACH;FMTTYPE=image/png:https://lebanondodgewi.gov/wp-content/uploads/2020/02/Screen-Shot-2020-03-05-at-10.55.17-AM.png
END:VEVENT
BEGIN:VEVENT
DTSTART;TZID=America/Chicago:20260228T080000
DTEND;TZID=America/Chicago:20260228T130000
DTSTAMP:20260420T003237
CREATED:20251105T202835Z
LAST-MODIFIED:20251105T202835Z
UID:10001415-1772265600-1772283600@lebanondodgewi.gov
SUMMARY:Collection Site for Solid Waste Disposal and Recycling
DESCRIPTION:
URL:https://lebanondodgewi.gov/event/collection-site-for-solid-waste-disposal-and-recycling-4/2026-02-28/
CATEGORIES:Recycling
ATTACH;FMTTYPE=image/png:https://lebanondodgewi.gov/wp-content/uploads/2020/02/Screen-Shot-2020-03-05-at-10.55.17-AM.png
END:VEVENT
BEGIN:VEVENT
DTSTART;TZID=America/Chicago:20260307T080000
DTEND;TZID=America/Chicago:20260307T130000
DTSTAMP:20260420T003237
CREATED:20251105T202835Z
LAST-MODIFIED:20251105T202835Z
UID:10001416-1772870400-1772888400@lebanondodgewi.gov
SUMMARY:Collection Site for Solid Waste Disposal and Recycling
DESCRIPTION:
URL:https://lebanondodgewi.gov/event/collection-site-for-solid-waste-disposal-and-recycling-4/2026-03-07/
CATEGORIES:Recycling
ATTACH;FMTTYPE=image/png:https://lebanondodgewi.gov/wp-content/uploads/2020/02/Screen-Shot-2020-03-05-at-10.55.17-AM.png
END:VEVENT
BEGIN:VEVENT
DTSTART;TZID=America/Chicago:20260314T080000
DTEND;TZID=America/Chicago:20260314T130000
DTSTAMP:20260420T003237
CREATED:20251105T202835Z
LAST-MODIFIED:20251105T202835Z
UID:10001417-1773475200-1773493200@lebanondodgewi.gov
SUMMARY:Collection Site for Solid Waste Disposal and Recycling
DESCRIPTION:
URL:https://lebanondodgewi.gov/event/collection-site-for-solid-waste-disposal-and-recycling-4/2026-03-14/
CATEGORIES:Recycling
ATTACH;FMTTYPE=image/png:https://lebanondodgewi.gov/wp-content/uploads/2020/02/Screen-Shot-2020-03-05-at-10.55.17-AM.png
END:VEVENT
BEGIN:VEVENT
DTSTART;TZID=America/Chicago:20260321T080000
DTEND;TZID=America/Chicago:20260321T130000
DTSTAMP:20260420T003237
CREATED:20251105T202835Z
LAST-MODIFIED:20251105T202835Z
UID:10001418-1774080000-1774098000@lebanondodgewi.gov
SUMMARY:Collection Site for Solid Waste Disposal and Recycling
DESCRIPTION:
URL:https://lebanondodgewi.gov/event/collection-site-for-solid-waste-disposal-and-recycling-4/2026-03-21/
CATEGORIES:Recycling
ATTACH;FMTTYPE=image/png:https://lebanondodgewi.gov/wp-content/uploads/2020/02/Screen-Shot-2020-03-05-at-10.55.17-AM.png
END:VEVENT
BEGIN:VEVENT
DTSTART;TZID=America/Chicago:20260328T080000
DTEND;TZID=America/Chicago:20260328T130000
DTSTAMP:20260420T003237
CREATED:20251105T202835Z
LAST-MODIFIED:20251105T202835Z
UID:10001419-1774684800-1774702800@lebanondodgewi.gov
SUMMARY:Collection Site for Solid Waste Disposal and Recycling
DESCRIPTION:
URL:https://lebanondodgewi.gov/event/collection-site-for-solid-waste-disposal-and-recycling-4/2026-03-28/
CATEGORIES:Recycling
ATTACH;FMTTYPE=image/png:https://lebanondodgewi.gov/wp-content/uploads/2020/02/Screen-Shot-2020-03-05-at-10.55.17-AM.png
END:VEVENT
BEGIN:VEVENT
DTSTART;TZID=America/Chicago:20260401T160000
DTEND;TZID=America/Chicago:20260401T190000
DTSTAMP:20260420T003237
CREATED:20260401T213043Z
LAST-MODIFIED:20260401T213327Z
UID:10001507-1775059200-1775070000@lebanondodgewi.gov
SUMMARY:Collection Site for Solid Waste Disposal and Recycling
DESCRIPTION:
URL:https://lebanondodgewi.gov/event/collection-site-for-solid-waste-disposal-and-recycling-5/2026-04-01/
CATEGORIES:Recycling
ATTACH;FMTTYPE=image/png:https://lebanondodgewi.gov/wp-content/uploads/2020/02/Screen-Shot-2020-03-05-at-10.55.17-AM.png
END:VEVENT
BEGIN:VEVENT
DTSTART;TZID=America/Chicago:20260404T080000
DTEND;TZID=America/Chicago:20260404T130000
DTSTAMP:20260420T003237
CREATED:20251105T202835Z
LAST-MODIFIED:20251105T202835Z
UID:10001420-1775289600-1775307600@lebanondodgewi.gov
SUMMARY:Collection Site for Solid Waste Disposal and Recycling
DESCRIPTION:
URL:https://lebanondodgewi.gov/event/collection-site-for-solid-waste-disposal-and-recycling-4/2026-04-04/
CATEGORIES:Recycling
ATTACH;FMTTYPE=image/png:https://lebanondodgewi.gov/wp-content/uploads/2020/02/Screen-Shot-2020-03-05-at-10.55.17-AM.png
END:VEVENT
BEGIN:VEVENT
DTSTART;TZID=America/Chicago:20260408T160000
DTEND;TZID=America/Chicago:20260408T190000
DTSTAMP:20260420T003237
CREATED:20260401T213043Z
LAST-MODIFIED:20260401T213327Z
UID:10001508-1775664000-1775674800@lebanondodgewi.gov
SUMMARY:Collection Site for Solid Waste Disposal and Recycling
DESCRIPTION:
URL:https://lebanondodgewi.gov/event/collection-site-for-solid-waste-disposal-and-recycling-5/2026-04-08/
CATEGORIES:Recycling
ATTACH;FMTTYPE=image/png:https://lebanondodgewi.gov/wp-content/uploads/2020/02/Screen-Shot-2020-03-05-at-10.55.17-AM.png
END:VEVENT
BEGIN:VEVENT
DTSTART;TZID=America/Chicago:20260411T080000
DTEND;TZID=America/Chicago:20260411T130000
DTSTAMP:20260420T003237
CREATED:20251105T202835Z
LAST-MODIFIED:20251105T202835Z
UID:10001421-1775894400-1775912400@lebanondodgewi.gov
SUMMARY:Collection Site for Solid Waste Disposal and Recycling
DESCRIPTION:
URL:https://lebanondodgewi.gov/event/collection-site-for-solid-waste-disposal-and-recycling-4/2026-04-11/
CATEGORIES:Recycling
ATTACH;FMTTYPE=image/png:https://lebanondodgewi.gov/wp-content/uploads/2020/02/Screen-Shot-2020-03-05-at-10.55.17-AM.png
END:VEVENT
BEGIN:VEVENT
DTSTART;TZID=America/Chicago:20260415T160000
DTEND;TZID=America/Chicago:20260415T190000
DTSTAMP:20260420T003237
CREATED:20260401T213043Z
LAST-MODIFIED:20260401T213327Z
UID:10001509-1776268800-1776279600@lebanondodgewi.gov
SUMMARY:Collection Site for Solid Waste Disposal and Recycling
DESCRIPTION:
URL:https://lebanondodgewi.gov/event/collection-site-for-solid-waste-disposal-and-recycling-5/2026-04-15/
CATEGORIES:Recycling
ATTACH;FMTTYPE=image/png:https://lebanondodgewi.gov/wp-content/uploads/2020/02/Screen-Shot-2020-03-05-at-10.55.17-AM.png
END:VEVENT
BEGIN:VEVENT
DTSTART;TZID=America/Chicago:20260418T080000
DTEND;TZID=America/Chicago:20260418T130000
DTSTAMP:20260420T003237
CREATED:20251105T202835Z
LAST-MODIFIED:20251105T202835Z
UID:10001422-1776499200-1776517200@lebanondodgewi.gov
SUMMARY:Collection Site for Solid Waste Disposal and Recycling
DESCRIPTION:
URL:https://lebanondodgewi.gov/event/collection-site-for-solid-waste-disposal-and-recycling-4/2026-04-18/
CATEGORIES:Recycling
ATTACH;FMTTYPE=image/png:https://lebanondodgewi.gov/wp-content/uploads/2020/02/Screen-Shot-2020-03-05-at-10.55.17-AM.png
END:VEVENT
BEGIN:VEVENT
DTSTART;TZID=America/Chicago:20260422T160000
DTEND;TZID=America/Chicago:20260422T190000
DTSTAMP:20260420T003237
CREATED:20260401T213043Z
LAST-MODIFIED:20260401T213327Z
UID:10001510-1776873600-1776884400@lebanondodgewi.gov
SUMMARY:Collection Site for Solid Waste Disposal and Recycling
DESCRIPTION:
URL:https://lebanondodgewi.gov/event/collection-site-for-solid-waste-disposal-and-recycling-5/2026-04-22/
CATEGORIES:Recycling
ATTACH;FMTTYPE=image/png:https://lebanondodgewi.gov/wp-content/uploads/2020/02/Screen-Shot-2020-03-05-at-10.55.17-AM.png
END:VEVENT
BEGIN:VEVENT
DTSTART;TZID=America/Chicago:20260425T080000
DTEND;TZID=America/Chicago:20260425T130000
DTSTAMP:20260420T003237
CREATED:20251105T202835Z
LAST-MODIFIED:20251105T202835Z
UID:10001423-1777104000-1777122000@lebanondodgewi.gov
SUMMARY:Collection Site for Solid Waste Disposal and Recycling
DESCRIPTION:
URL:https://lebanondodgewi.gov/event/collection-site-for-solid-waste-disposal-and-recycling-4/2026-04-25/
CATEGORIES:Recycling
ATTACH;FMTTYPE=image/png:https://lebanondodgewi.gov/wp-content/uploads/2020/02/Screen-Shot-2020-03-05-at-10.55.17-AM.png
END:VEVENT
BEGIN:VEVENT
DTSTART;TZID=America/Chicago:20260429T160000
DTEND;TZID=America/Chicago:20260429T190000
DTSTAMP:20260420T003237
CREATED:20260401T213043Z
LAST-MODIFIED:20260401T213327Z
UID:10001511-1777478400-1777489200@lebanondodgewi.gov
SUMMARY:Collection Site for Solid Waste Disposal and Recycling
DESCRIPTION:
URL:https://lebanondodgewi.gov/event/collection-site-for-solid-waste-disposal-and-recycling-5/2026-04-29/
CATEGORIES:Recycling
ATTACH;FMTTYPE=image/png:https://lebanondodgewi.gov/wp-content/uploads/2020/02/Screen-Shot-2020-03-05-at-10.55.17-AM.png
END:VEVENT
BEGIN:VEVENT
DTSTART;TZID=America/Chicago:20260502T080000
DTEND;TZID=America/Chicago:20260502T130000
DTSTAMP:20260420T003237
CREATED:20251105T202835Z
LAST-MODIFIED:20251105T202835Z
UID:10001424-1777708800-1777726800@lebanondodgewi.gov
SUMMARY:Collection Site for Solid Waste Disposal and Recycling
DESCRIPTION:
URL:https://lebanondodgewi.gov/event/collection-site-for-solid-waste-disposal-and-recycling-4/2026-05-02/
CATEGORIES:Recycling
ATTACH;FMTTYPE=image/png:https://lebanondodgewi.gov/wp-content/uploads/2020/02/Screen-Shot-2020-03-05-at-10.55.17-AM.png
END:VEVENT
BEGIN:VEVENT
DTSTART;TZID=America/Chicago:20260506T160000
DTEND;TZID=America/Chicago:20260506T190000
DTSTAMP:20260420T003237
CREATED:20260401T213043Z
LAST-MODIFIED:20260401T213327Z
UID:10001512-1778083200-1778094000@lebanondodgewi.gov
SUMMARY:Collection Site for Solid Waste Disposal and Recycling
DESCRIPTION:
URL:https://lebanondodgewi.gov/event/collection-site-for-solid-waste-disposal-and-recycling-5/2026-05-06/
CATEGORIES:Recycling
ATTACH;FMTTYPE=image/png:https://lebanondodgewi.gov/wp-content/uploads/2020/02/Screen-Shot-2020-03-05-at-10.55.17-AM.png
END:VEVENT
BEGIN:VEVENT
DTSTART;TZID=America/Chicago:20260509T080000
DTEND;TZID=America/Chicago:20260509T130000
DTSTAMP:20260420T003237
CREATED:20251105T202835Z
LAST-MODIFIED:20251105T202835Z
UID:10001425-1778313600-1778331600@lebanondodgewi.gov
SUMMARY:Collection Site for Solid Waste Disposal and Recycling
DESCRIPTION:
URL:https://lebanondodgewi.gov/event/collection-site-for-solid-waste-disposal-and-recycling-4/2026-05-09/
CATEGORIES:Recycling
ATTACH;FMTTYPE=image/png:https://lebanondodgewi.gov/wp-content/uploads/2020/02/Screen-Shot-2020-03-05-at-10.55.17-AM.png
END:VEVENT
BEGIN:VEVENT
DTSTART;TZID=America/Chicago:20260513T160000
DTEND;TZID=America/Chicago:20260513T190000
DTSTAMP:20260420T003237
CREATED:20260401T213043Z
LAST-MODIFIED:20260401T213327Z
UID:10001513-1778688000-1778698800@lebanondodgewi.gov
SUMMARY:Collection Site for Solid Waste Disposal and Recycling
DESCRIPTION:
URL:https://lebanondodgewi.gov/event/collection-site-for-solid-waste-disposal-and-recycling-5/2026-05-13/
CATEGORIES:Recycling
ATTACH;FMTTYPE=image/png:https://lebanondodgewi.gov/wp-content/uploads/2020/02/Screen-Shot-2020-03-05-at-10.55.17-AM.png
END:VEVENT
BEGIN:VEVENT
DTSTART;TZID=America/Chicago:20260516T080000
DTEND;TZID=America/Chicago:20260516T130000
DTSTAMP:20260420T003237
CREATED:20251105T202835Z
LAST-MODIFIED:20251105T202835Z
UID:10001426-1778918400-1778936400@lebanondodgewi.gov
SUMMARY:Collection Site for Solid Waste Disposal and Recycling
DESCRIPTION:
URL:https://lebanondodgewi.gov/event/collection-site-for-solid-waste-disposal-and-recycling-4/2026-05-16/
CATEGORIES:Recycling
ATTACH;FMTTYPE=image/png:https://lebanondodgewi.gov/wp-content/uploads/2020/02/Screen-Shot-2020-03-05-at-10.55.17-AM.png
END:VEVENT
BEGIN:VEVENT
DTSTART;TZID=America/Chicago:20260520T160000
DTEND;TZID=America/Chicago:20260520T190000
DTSTAMP:20260420T003237
CREATED:20260401T213043Z
LAST-MODIFIED:20260401T213327Z
UID:10001514-1779292800-1779303600@lebanondodgewi.gov
SUMMARY:Collection Site for Solid Waste Disposal and Recycling
DESCRIPTION:
URL:https://lebanondodgewi.gov/event/collection-site-for-solid-waste-disposal-and-recycling-5/2026-05-20/
CATEGORIES:Recycling
ATTACH;FMTTYPE=image/png:https://lebanondodgewi.gov/wp-content/uploads/2020/02/Screen-Shot-2020-03-05-at-10.55.17-AM.png
END:VEVENT
BEGIN:VEVENT
DTSTART;TZID=America/Chicago:20260523T080000
DTEND;TZID=America/Chicago:20260523T130000
DTSTAMP:20260420T003237
CREATED:20251105T202835Z
LAST-MODIFIED:20251105T202835Z
UID:10001427-1779523200-1779541200@lebanondodgewi.gov
SUMMARY:Collection Site for Solid Waste Disposal and Recycling
DESCRIPTION:
URL:https://lebanondodgewi.gov/event/collection-site-for-solid-waste-disposal-and-recycling-4/2026-05-23/
CATEGORIES:Recycling
ATTACH;FMTTYPE=image/png:https://lebanondodgewi.gov/wp-content/uploads/2020/02/Screen-Shot-2020-03-05-at-10.55.17-AM.png
END:VEVENT
END:VCALENDAR