BEGIN:VCALENDAR
VERSION:2.0
PRODID:-//Town of Lebanon - ECPv6.15.17.1//NONSGML v1.0//EN
CALSCALE:GREGORIAN
METHOD:PUBLISH
X-WR-CALNAME:Town of Lebanon
X-ORIGINAL-URL:https://lebanondodgewi.gov
X-WR-CALDESC:Events for Town of Lebanon
REFRESH-INTERVAL;VALUE=DURATION:PT1H
X-Robots-Tag:noindex
X-PUBLISHED-TTL:PT1H
BEGIN:VTIMEZONE
TZID:America/Chicago
BEGIN:DAYLIGHT
TZOFFSETFROM:-0600
TZOFFSETTO:-0500
TZNAME:CDT
DTSTART:20240310T080000
END:DAYLIGHT
BEGIN:STANDARD
TZOFFSETFROM:-0500
TZOFFSETTO:-0600
TZNAME:CST
DTSTART:20241103T070000
END:STANDARD
BEGIN:DAYLIGHT
TZOFFSETFROM:-0600
TZOFFSETTO:-0500
TZNAME:CDT
DTSTART:20250309T080000
END:DAYLIGHT
BEGIN:STANDARD
TZOFFSETFROM:-0500
TZOFFSETTO:-0600
TZNAME:CST
DTSTART:20251102T070000
END:STANDARD
BEGIN:DAYLIGHT
TZOFFSETFROM:-0600
TZOFFSETTO:-0500
TZNAME:CDT
DTSTART:20260308T080000
END:DAYLIGHT
BEGIN:STANDARD
TZOFFSETFROM:-0500
TZOFFSETTO:-0600
TZNAME:CST
DTSTART:20261101T070000
END:STANDARD
END:VTIMEZONE
BEGIN:VEVENT
DTSTART;TZID=America/Chicago:20250802T080000
DTEND;TZID=America/Chicago:20250802T130000
DTSTAMP:20260420T014711
CREATED:20231102T210105Z
LAST-MODIFIED:20231102T210105Z
UID:10000919-1754121600-1754139600@lebanondodgewi.gov
SUMMARY:Collection Site for Solid Waste Disposal and Recycling
DESCRIPTION:
URL:https://lebanondodgewi.gov/event/collection-site-for-solid-waste-disposal-and-recycling/2025-08-02/
CATEGORIES:Recycling
ATTACH;FMTTYPE=image/png:https://lebanondodgewi.gov/wp-content/uploads/2020/02/Screen-Shot-2020-03-05-at-10.55.17-AM.png
END:VEVENT
BEGIN:VEVENT
DTSTART;TZID=America/Chicago:20250806T160000
DTEND;TZID=America/Chicago:20250806T190000
DTSTAMP:20260420T014711
CREATED:20250402T053157Z
LAST-MODIFIED:20250402T053157Z
UID:10001353-1754496000-1754506800@lebanondodgewi.gov
SUMMARY:Collection Site for Solid Waste Disposal and Recycling
DESCRIPTION:Collection site at W4717 County Rd O for receipt of recycling and solid waste disposal will be open 4:00 pm – 7:00 pm.
URL:https://lebanondodgewi.gov/event/collection-site-for-solid-waste-disposal-and-recycling-3/2025-08-06/
CATEGORIES:Recycling
END:VEVENT
BEGIN:VEVENT
DTSTART;TZID=America/Chicago:20250809T080000
DTEND;TZID=America/Chicago:20250809T130000
DTSTAMP:20260420T014711
CREATED:20231102T210105Z
LAST-MODIFIED:20231102T210105Z
UID:10000920-1754726400-1754744400@lebanondodgewi.gov
SUMMARY:Collection Site for Solid Waste Disposal and Recycling
DESCRIPTION:
URL:https://lebanondodgewi.gov/event/collection-site-for-solid-waste-disposal-and-recycling/2025-08-09/
CATEGORIES:Recycling
ATTACH;FMTTYPE=image/png:https://lebanondodgewi.gov/wp-content/uploads/2020/02/Screen-Shot-2020-03-05-at-10.55.17-AM.png
END:VEVENT
BEGIN:VEVENT
DTSTART;TZID=America/Chicago:20250813T160000
DTEND;TZID=America/Chicago:20250813T190000
DTSTAMP:20260420T014711
CREATED:20250402T053157Z
LAST-MODIFIED:20250402T053157Z
UID:10001354-1755100800-1755111600@lebanondodgewi.gov
SUMMARY:Collection Site for Solid Waste Disposal and Recycling
DESCRIPTION:Collection site at W4717 County Rd O for receipt of recycling and solid waste disposal will be open 4:00 pm – 7:00 pm.
URL:https://lebanondodgewi.gov/event/collection-site-for-solid-waste-disposal-and-recycling-3/2025-08-13/
CATEGORIES:Recycling
END:VEVENT
BEGIN:VEVENT
DTSTART;TZID=America/Chicago:20250816T080000
DTEND;TZID=America/Chicago:20250816T130000
DTSTAMP:20260420T014711
CREATED:20231102T210105Z
LAST-MODIFIED:20231102T210105Z
UID:10000921-1755331200-1755349200@lebanondodgewi.gov
SUMMARY:Collection Site for Solid Waste Disposal and Recycling
DESCRIPTION:
URL:https://lebanondodgewi.gov/event/collection-site-for-solid-waste-disposal-and-recycling/2025-08-16/
CATEGORIES:Recycling
ATTACH;FMTTYPE=image/png:https://lebanondodgewi.gov/wp-content/uploads/2020/02/Screen-Shot-2020-03-05-at-10.55.17-AM.png
END:VEVENT
BEGIN:VEVENT
DTSTART;TZID=America/Chicago:20250820T160000
DTEND;TZID=America/Chicago:20250820T190000
DTSTAMP:20260420T014711
CREATED:20250402T053157Z
LAST-MODIFIED:20250402T053157Z
UID:10001355-1755705600-1755716400@lebanondodgewi.gov
SUMMARY:Collection Site for Solid Waste Disposal and Recycling
DESCRIPTION:Collection site at W4717 County Rd O for receipt of recycling and solid waste disposal will be open 4:00 pm – 7:00 pm.
URL:https://lebanondodgewi.gov/event/collection-site-for-solid-waste-disposal-and-recycling-3/2025-08-20/
CATEGORIES:Recycling
END:VEVENT
BEGIN:VEVENT
DTSTART;TZID=America/Chicago:20250823T080000
DTEND;TZID=America/Chicago:20250823T130000
DTSTAMP:20260420T014711
CREATED:20231102T210105Z
LAST-MODIFIED:20231102T210105Z
UID:10000922-1755936000-1755954000@lebanondodgewi.gov
SUMMARY:Collection Site for Solid Waste Disposal and Recycling
DESCRIPTION:
URL:https://lebanondodgewi.gov/event/collection-site-for-solid-waste-disposal-and-recycling/2025-08-23/
CATEGORIES:Recycling
ATTACH;FMTTYPE=image/png:https://lebanondodgewi.gov/wp-content/uploads/2020/02/Screen-Shot-2020-03-05-at-10.55.17-AM.png
END:VEVENT
BEGIN:VEVENT
DTSTART;TZID=America/Chicago:20250827T160000
DTEND;TZID=America/Chicago:20250827T190000
DTSTAMP:20260420T014711
CREATED:20250402T053157Z
LAST-MODIFIED:20250402T053157Z
UID:10001356-1756310400-1756321200@lebanondodgewi.gov
SUMMARY:Collection Site for Solid Waste Disposal and Recycling
DESCRIPTION:Collection site at W4717 County Rd O for receipt of recycling and solid waste disposal will be open 4:00 pm – 7:00 pm.
URL:https://lebanondodgewi.gov/event/collection-site-for-solid-waste-disposal-and-recycling-3/2025-08-27/
CATEGORIES:Recycling
END:VEVENT
BEGIN:VEVENT
DTSTART;TZID=America/Chicago:20250830T080000
DTEND;TZID=America/Chicago:20250830T130000
DTSTAMP:20260420T014711
CREATED:20231102T210105Z
LAST-MODIFIED:20231102T210105Z
UID:10000923-1756540800-1756558800@lebanondodgewi.gov
SUMMARY:Collection Site for Solid Waste Disposal and Recycling
DESCRIPTION:
URL:https://lebanondodgewi.gov/event/collection-site-for-solid-waste-disposal-and-recycling/2025-08-30/
CATEGORIES:Recycling
ATTACH;FMTTYPE=image/png:https://lebanondodgewi.gov/wp-content/uploads/2020/02/Screen-Shot-2020-03-05-at-10.55.17-AM.png
END:VEVENT
END:VCALENDAR