BEGIN:VCALENDAR
VERSION:2.0
PRODID:-//Town of Lebanon - ECPv6.15.17.1//NONSGML v1.0//EN
CALSCALE:GREGORIAN
METHOD:PUBLISH
X-WR-CALNAME:Town of Lebanon
X-ORIGINAL-URL:https://lebanondodgewi.gov
X-WR-CALDESC:Events for Town of Lebanon
REFRESH-INTERVAL;VALUE=DURATION:PT1H
X-Robots-Tag:noindex
X-PUBLISHED-TTL:PT1H
BEGIN:VTIMEZONE
TZID:America/Chicago
BEGIN:DAYLIGHT
TZOFFSETFROM:-0600
TZOFFSETTO:-0500
TZNAME:CDT
DTSTART:20240310T080000
END:DAYLIGHT
BEGIN:STANDARD
TZOFFSETFROM:-0500
TZOFFSETTO:-0600
TZNAME:CST
DTSTART:20241103T070000
END:STANDARD
BEGIN:DAYLIGHT
TZOFFSETFROM:-0600
TZOFFSETTO:-0500
TZNAME:CDT
DTSTART:20250309T080000
END:DAYLIGHT
BEGIN:STANDARD
TZOFFSETFROM:-0500
TZOFFSETTO:-0600
TZNAME:CST
DTSTART:20251102T070000
END:STANDARD
BEGIN:DAYLIGHT
TZOFFSETFROM:-0600
TZOFFSETTO:-0500
TZNAME:CDT
DTSTART:20260308T080000
END:DAYLIGHT
BEGIN:STANDARD
TZOFFSETFROM:-0500
TZOFFSETTO:-0600
TZNAME:CST
DTSTART:20261101T070000
END:STANDARD
END:VTIMEZONE
BEGIN:VEVENT
DTSTART;TZID=America/Chicago:20250503T080000
DTEND;TZID=America/Chicago:20250503T130000
DTSTAMP:20260420T113537
CREATED:20231102T210105Z
LAST-MODIFIED:20231102T210105Z
UID:10000906-1746259200-1746277200@lebanondodgewi.gov
SUMMARY:Collection Site for Solid Waste Disposal and Recycling
DESCRIPTION:
URL:https://lebanondodgewi.gov/event/collection-site-for-solid-waste-disposal-and-recycling/2025-05-03/
CATEGORIES:Recycling
ATTACH;FMTTYPE=image/png:https://lebanondodgewi.gov/wp-content/uploads/2020/02/Screen-Shot-2020-03-05-at-10.55.17-AM.png
END:VEVENT
BEGIN:VEVENT
DTSTART;TZID=America/Chicago:20250507T160000
DTEND;TZID=America/Chicago:20250507T190000
DTSTAMP:20260420T113537
CREATED:20250402T053157Z
LAST-MODIFIED:20250402T053157Z
UID:10001340-1746633600-1746644400@lebanondodgewi.gov
SUMMARY:Collection Site for Solid Waste Disposal and Recycling
DESCRIPTION:Collection site at W4717 County Rd O for receipt of recycling and solid waste disposal will be open 4:00 pm – 7:00 pm.
URL:https://lebanondodgewi.gov/event/collection-site-for-solid-waste-disposal-and-recycling-3/2025-05-07/
CATEGORIES:Recycling
END:VEVENT
BEGIN:VEVENT
DTSTART;TZID=America/Chicago:20250510T080000
DTEND;TZID=America/Chicago:20250510T130000
DTSTAMP:20260420T113537
CREATED:20231102T210105Z
LAST-MODIFIED:20231102T210105Z
UID:10000907-1746864000-1746882000@lebanondodgewi.gov
SUMMARY:Collection Site for Solid Waste Disposal and Recycling
DESCRIPTION:
URL:https://lebanondodgewi.gov/event/collection-site-for-solid-waste-disposal-and-recycling/2025-05-10/
CATEGORIES:Recycling
ATTACH;FMTTYPE=image/png:https://lebanondodgewi.gov/wp-content/uploads/2020/02/Screen-Shot-2020-03-05-at-10.55.17-AM.png
END:VEVENT
BEGIN:VEVENT
DTSTART;TZID=America/Chicago:20250514T160000
DTEND;TZID=America/Chicago:20250514T190000
DTSTAMP:20260420T113537
CREATED:20250402T053157Z
LAST-MODIFIED:20250402T053157Z
UID:10001341-1747238400-1747249200@lebanondodgewi.gov
SUMMARY:Collection Site for Solid Waste Disposal and Recycling
DESCRIPTION:Collection site at W4717 County Rd O for receipt of recycling and solid waste disposal will be open 4:00 pm – 7:00 pm.
URL:https://lebanondodgewi.gov/event/collection-site-for-solid-waste-disposal-and-recycling-3/2025-05-14/
CATEGORIES:Recycling
END:VEVENT
BEGIN:VEVENT
DTSTART;TZID=America/Chicago:20250517T080000
DTEND;TZID=America/Chicago:20250517T130000
DTSTAMP:20260420T113537
CREATED:20231102T210105Z
LAST-MODIFIED:20231102T210105Z
UID:10000908-1747468800-1747486800@lebanondodgewi.gov
SUMMARY:Collection Site for Solid Waste Disposal and Recycling
DESCRIPTION:
URL:https://lebanondodgewi.gov/event/collection-site-for-solid-waste-disposal-and-recycling/2025-05-17/
CATEGORIES:Recycling
ATTACH;FMTTYPE=image/png:https://lebanondodgewi.gov/wp-content/uploads/2020/02/Screen-Shot-2020-03-05-at-10.55.17-AM.png
END:VEVENT
BEGIN:VEVENT
DTSTART;TZID=America/Chicago:20250521T160000
DTEND;TZID=America/Chicago:20250521T190000
DTSTAMP:20260420T113537
CREATED:20250402T053157Z
LAST-MODIFIED:20250402T053157Z
UID:10001342-1747843200-1747854000@lebanondodgewi.gov
SUMMARY:Collection Site for Solid Waste Disposal and Recycling
DESCRIPTION:Collection site at W4717 County Rd O for receipt of recycling and solid waste disposal will be open 4:00 pm – 7:00 pm.
URL:https://lebanondodgewi.gov/event/collection-site-for-solid-waste-disposal-and-recycling-3/2025-05-21/
CATEGORIES:Recycling
END:VEVENT
BEGIN:VEVENT
DTSTART;TZID=America/Chicago:20250524T080000
DTEND;TZID=America/Chicago:20250524T130000
DTSTAMP:20260420T113537
CREATED:20231102T210105Z
LAST-MODIFIED:20231102T210105Z
UID:10000909-1748073600-1748091600@lebanondodgewi.gov
SUMMARY:Collection Site for Solid Waste Disposal and Recycling
DESCRIPTION:
URL:https://lebanondodgewi.gov/event/collection-site-for-solid-waste-disposal-and-recycling/2025-05-24/
CATEGORIES:Recycling
ATTACH;FMTTYPE=image/png:https://lebanondodgewi.gov/wp-content/uploads/2020/02/Screen-Shot-2020-03-05-at-10.55.17-AM.png
END:VEVENT
BEGIN:VEVENT
DTSTART;TZID=America/Chicago:20250528T160000
DTEND;TZID=America/Chicago:20250528T190000
DTSTAMP:20260420T113537
CREATED:20250402T053157Z
LAST-MODIFIED:20250402T053157Z
UID:10001343-1748448000-1748458800@lebanondodgewi.gov
SUMMARY:Collection Site for Solid Waste Disposal and Recycling
DESCRIPTION:Collection site at W4717 County Rd O for receipt of recycling and solid waste disposal will be open 4:00 pm – 7:00 pm.
URL:https://lebanondodgewi.gov/event/collection-site-for-solid-waste-disposal-and-recycling-3/2025-05-28/
CATEGORIES:Recycling
END:VEVENT
BEGIN:VEVENT
DTSTART;TZID=America/Chicago:20250531T080000
DTEND;TZID=America/Chicago:20250531T130000
DTSTAMP:20260420T113537
CREATED:20231102T210105Z
LAST-MODIFIED:20231102T210105Z
UID:10000910-1748678400-1748696400@lebanondodgewi.gov
SUMMARY:Collection Site for Solid Waste Disposal and Recycling
DESCRIPTION:
URL:https://lebanondodgewi.gov/event/collection-site-for-solid-waste-disposal-and-recycling/2025-05-31/
CATEGORIES:Recycling
ATTACH;FMTTYPE=image/png:https://lebanondodgewi.gov/wp-content/uploads/2020/02/Screen-Shot-2020-03-05-at-10.55.17-AM.png
END:VEVENT
END:VCALENDAR