BEGIN:VCALENDAR
VERSION:2.0
PRODID:-//Town of Lebanon - ECPv6.15.17.1//NONSGML v1.0//EN
CALSCALE:GREGORIAN
METHOD:PUBLISH
X-WR-CALNAME:Town of Lebanon
X-ORIGINAL-URL:https://lebanondodgewi.gov
X-WR-CALDESC:Events for Town of Lebanon
REFRESH-INTERVAL;VALUE=DURATION:PT1H
X-Robots-Tag:noindex
X-PUBLISHED-TTL:PT1H
BEGIN:VTIMEZONE
TZID:America/Chicago
BEGIN:DAYLIGHT
TZOFFSETFROM:-0600
TZOFFSETTO:-0500
TZNAME:CDT
DTSTART:20220313T080000
END:DAYLIGHT
BEGIN:STANDARD
TZOFFSETFROM:-0500
TZOFFSETTO:-0600
TZNAME:CST
DTSTART:20221106T070000
END:STANDARD
BEGIN:DAYLIGHT
TZOFFSETFROM:-0600
TZOFFSETTO:-0500
TZNAME:CDT
DTSTART:20230312T080000
END:DAYLIGHT
BEGIN:STANDARD
TZOFFSETFROM:-0500
TZOFFSETTO:-0600
TZNAME:CST
DTSTART:20231105T070000
END:STANDARD
BEGIN:DAYLIGHT
TZOFFSETFROM:-0600
TZOFFSETTO:-0500
TZNAME:CDT
DTSTART:20240310T080000
END:DAYLIGHT
BEGIN:STANDARD
TZOFFSETFROM:-0500
TZOFFSETTO:-0600
TZNAME:CST
DTSTART:20241103T070000
END:STANDARD
END:VTIMEZONE
BEGIN:VEVENT
DTSTART;VALUE=DATE:20230918
DTEND;VALUE=DATE:20230919
DTSTAMP:20260420T021127
CREATED:20230118T041607Z
LAST-MODIFIED:20230118T041607Z
UID:10000730-1694995200-1695081599@lebanondodgewi.gov
SUMMARY:Fire Department Drill Night
DESCRIPTION:
URL:https://lebanondodgewi.gov/event/fire-department-drill-night-2/2023-09-18/
CATEGORIES:Fire Department
END:VEVENT
BEGIN:VEVENT
DTSTART;TZID=America/Chicago:20230904T200000
DTEND;TZID=America/Chicago:20230904T200000
DTSTAMP:20260420T021127
CREATED:20230117T040210Z
LAST-MODIFIED:20230117T040210Z
UID:10000666-1693857600-1693857600@lebanondodgewi.gov
SUMMARY:Lebanon Fire Dept. Monthly Meeting
DESCRIPTION:Repeat every first Monday of each month.
URL:https://lebanondodgewi.gov/event/lebanon-fire-dept-monthly-meeting-2/2023-09-04/
CATEGORIES:Fire Department
END:VEVENT
BEGIN:VEVENT
DTSTART;VALUE=DATE:20230821
DTEND;VALUE=DATE:20230822
DTSTAMP:20260420T021127
CREATED:20230118T041607Z
LAST-MODIFIED:20230118T041607Z
UID:10000729-1692576000-1692662399@lebanondodgewi.gov
SUMMARY:Fire Department Drill Night
DESCRIPTION:
URL:https://lebanondodgewi.gov/event/fire-department-drill-night-2/2023-08-21/
CATEGORIES:Fire Department
END:VEVENT
BEGIN:VEVENT
DTSTART;TZID=America/Chicago:20230807T200000
DTEND;TZID=America/Chicago:20230807T200000
DTSTAMP:20260420T021127
CREATED:20230117T040210Z
LAST-MODIFIED:20230117T040210Z
UID:10000665-1691438400-1691438400@lebanondodgewi.gov
SUMMARY:Lebanon Fire Dept. Monthly Meeting
DESCRIPTION:Repeat every first Monday of each month.
URL:https://lebanondodgewi.gov/event/lebanon-fire-dept-monthly-meeting-2/2023-08-07/
CATEGORIES:Fire Department
END:VEVENT
BEGIN:VEVENT
DTSTART;VALUE=DATE:20230717
DTEND;VALUE=DATE:20230718
DTSTAMP:20260420T021127
CREATED:20230118T041607Z
LAST-MODIFIED:20230118T041607Z
UID:10000728-1689552000-1689638399@lebanondodgewi.gov
SUMMARY:Fire Department Drill Night
DESCRIPTION:
URL:https://lebanondodgewi.gov/event/fire-department-drill-night-2/2023-07-17/
CATEGORIES:Fire Department
END:VEVENT
BEGIN:VEVENT
DTSTART;TZID=America/Chicago:20230703T200000
DTEND;TZID=America/Chicago:20230703T200000
DTSTAMP:20260420T021127
CREATED:20230117T040210Z
LAST-MODIFIED:20230117T040210Z
UID:10000664-1688414400-1688414400@lebanondodgewi.gov
SUMMARY:Lebanon Fire Dept. Monthly Meeting
DESCRIPTION:Repeat every first Monday of each month.
URL:https://lebanondodgewi.gov/event/lebanon-fire-dept-monthly-meeting-2/2023-07-03/
CATEGORIES:Fire Department
END:VEVENT
BEGIN:VEVENT
DTSTART;VALUE=DATE:20230619
DTEND;VALUE=DATE:20230620
DTSTAMP:20260420T021127
CREATED:20230118T041607Z
LAST-MODIFIED:20230118T041607Z
UID:10000727-1687132800-1687219199@lebanondodgewi.gov
SUMMARY:Fire Department Drill Night
DESCRIPTION:
URL:https://lebanondodgewi.gov/event/fire-department-drill-night-2/2023-06-19/
CATEGORIES:Fire Department
END:VEVENT
BEGIN:VEVENT
DTSTART;TZID=America/Chicago:20230605T200000
DTEND;TZID=America/Chicago:20230605T200000
DTSTAMP:20260420T021127
CREATED:20230117T040210Z
LAST-MODIFIED:20230117T040210Z
UID:10000663-1685995200-1685995200@lebanondodgewi.gov
SUMMARY:Lebanon Fire Dept. Monthly Meeting
DESCRIPTION:Repeat every first Monday of each month.
URL:https://lebanondodgewi.gov/event/lebanon-fire-dept-monthly-meeting-2/2023-06-05/
CATEGORIES:Fire Department
END:VEVENT
BEGIN:VEVENT
DTSTART;VALUE=DATE:20230515
DTEND;VALUE=DATE:20230516
DTSTAMP:20260420T021127
CREATED:20230118T041607Z
LAST-MODIFIED:20230118T041607Z
UID:10000726-1684108800-1684195199@lebanondodgewi.gov
SUMMARY:Fire Department Drill Night
DESCRIPTION:
URL:https://lebanondodgewi.gov/event/fire-department-drill-night-2/2023-05-15/
CATEGORIES:Fire Department
END:VEVENT
BEGIN:VEVENT
DTSTART;TZID=America/Chicago:20230501T200000
DTEND;TZID=America/Chicago:20230501T200000
DTSTAMP:20260420T021127
CREATED:20230117T040210Z
LAST-MODIFIED:20230117T040210Z
UID:10000662-1682971200-1682971200@lebanondodgewi.gov
SUMMARY:Lebanon Fire Dept. Monthly Meeting
DESCRIPTION:Repeat every first Monday of each month.
URL:https://lebanondodgewi.gov/event/lebanon-fire-dept-monthly-meeting-2/2023-05-01/
CATEGORIES:Fire Department
END:VEVENT
BEGIN:VEVENT
DTSTART;VALUE=DATE:20230417
DTEND;VALUE=DATE:20230418
DTSTAMP:20260420T021127
CREATED:20230118T041607Z
LAST-MODIFIED:20230118T041607Z
UID:10000725-1681689600-1681775999@lebanondodgewi.gov
SUMMARY:Fire Department Drill Night
DESCRIPTION:
URL:https://lebanondodgewi.gov/event/fire-department-drill-night-2/2023-04-17/
CATEGORIES:Fire Department
END:VEVENT
BEGIN:VEVENT
DTSTART;TZID=America/Chicago:20230403T200000
DTEND;TZID=America/Chicago:20230403T200000
DTSTAMP:20260420T021127
CREATED:20230117T040210Z
LAST-MODIFIED:20230117T040210Z
UID:10000661-1680552000-1680552000@lebanondodgewi.gov
SUMMARY:Lebanon Fire Dept. Monthly Meeting
DESCRIPTION:Repeat every first Monday of each month.
URL:https://lebanondodgewi.gov/event/lebanon-fire-dept-monthly-meeting-2/2023-04-03/
CATEGORIES:Fire Department
END:VEVENT
BEGIN:VEVENT
DTSTART;VALUE=DATE:20230320
DTEND;VALUE=DATE:20230321
DTSTAMP:20260420T021127
CREATED:20230118T041607Z
LAST-MODIFIED:20230118T041607Z
UID:10000724-1679270400-1679356799@lebanondodgewi.gov
SUMMARY:Fire Department Drill Night
DESCRIPTION:
URL:https://lebanondodgewi.gov/event/fire-department-drill-night-2/2023-03-20/
CATEGORIES:Fire Department
END:VEVENT
BEGIN:VEVENT
DTSTART;TZID=America/Chicago:20230306T200000
DTEND;TZID=America/Chicago:20230306T200000
DTSTAMP:20260420T021127
CREATED:20230117T040210Z
LAST-MODIFIED:20230117T040210Z
UID:10000660-1678132800-1678132800@lebanondodgewi.gov
SUMMARY:Lebanon Fire Dept. Monthly Meeting
DESCRIPTION:Repeat every first Monday of each month.
URL:https://lebanondodgewi.gov/event/lebanon-fire-dept-monthly-meeting-2/2023-03-06/
CATEGORIES:Fire Department
END:VEVENT
BEGIN:VEVENT
DTSTART;VALUE=DATE:20230220
DTEND;VALUE=DATE:20230221
DTSTAMP:20260420T021127
CREATED:20230118T041607Z
LAST-MODIFIED:20230118T041607Z
UID:10000723-1676851200-1676937599@lebanondodgewi.gov
SUMMARY:Fire Department Drill Night
DESCRIPTION:
URL:https://lebanondodgewi.gov/event/fire-department-drill-night-2/2023-02-20/
CATEGORIES:Fire Department
END:VEVENT
BEGIN:VEVENT
DTSTART;TZID=America/Chicago:20230206T200000
DTEND;TZID=America/Chicago:20230206T200000
DTSTAMP:20260420T021127
CREATED:20230117T040210Z
LAST-MODIFIED:20230117T040210Z
UID:10000659-1675713600-1675713600@lebanondodgewi.gov
SUMMARY:Lebanon Fire Dept. Monthly Meeting
DESCRIPTION:Repeat every first Monday of each month.
URL:https://lebanondodgewi.gov/event/lebanon-fire-dept-monthly-meeting-2/2023-02-06/
CATEGORIES:Fire Department
END:VEVENT
BEGIN:VEVENT
DTSTART;VALUE=DATE:20230116
DTEND;VALUE=DATE:20230117
DTSTAMP:20260420T021127
CREATED:20230118T041607Z
LAST-MODIFIED:20230118T041607Z
UID:10000722-1673827200-1673913599@lebanondodgewi.gov
SUMMARY:Fire Department Drill Night
DESCRIPTION:
URL:https://lebanondodgewi.gov/event/fire-department-drill-night-2/2023-01-16/
CATEGORIES:Fire Department
END:VEVENT
BEGIN:VEVENT
DTSTART;TZID=America/Chicago:20230102T200000
DTEND;TZID=America/Chicago:20230102T200000
DTSTAMP:20260420T021127
CREATED:20230117T040210Z
LAST-MODIFIED:20230117T040210Z
UID:10000658-1672689600-1672689600@lebanondodgewi.gov
SUMMARY:Lebanon Fire Dept. Monthly Meeting
DESCRIPTION:Repeat every first Monday of each month.
URL:https://lebanondodgewi.gov/event/lebanon-fire-dept-monthly-meeting-2/2023-01-02/
CATEGORIES:Fire Department
END:VEVENT
END:VCALENDAR