BEGIN:VCALENDAR
VERSION:2.0
PRODID:-//Town of Lebanon - ECPv6.15.17.1//NONSGML v1.0//EN
CALSCALE:GREGORIAN
METHOD:PUBLISH
X-WR-CALNAME:Town of Lebanon
X-ORIGINAL-URL:https://lebanondodgewi.gov
X-WR-CALDESC:Events for Town of Lebanon
REFRESH-INTERVAL;VALUE=DURATION:PT1H
X-Robots-Tag:noindex
X-PUBLISHED-TTL:PT1H
BEGIN:VTIMEZONE
TZID:America/Chicago
BEGIN:DAYLIGHT
TZOFFSETFROM:-0600
TZOFFSETTO:-0500
TZNAME:CDT
DTSTART:20210314T080000
END:DAYLIGHT
BEGIN:STANDARD
TZOFFSETFROM:-0500
TZOFFSETTO:-0600
TZNAME:CST
DTSTART:20211107T070000
END:STANDARD
BEGIN:DAYLIGHT
TZOFFSETFROM:-0600
TZOFFSETTO:-0500
TZNAME:CDT
DTSTART:20220313T080000
END:DAYLIGHT
BEGIN:STANDARD
TZOFFSETFROM:-0500
TZOFFSETTO:-0600
TZNAME:CST
DTSTART:20221106T070000
END:STANDARD
BEGIN:DAYLIGHT
TZOFFSETFROM:-0600
TZOFFSETTO:-0500
TZNAME:CDT
DTSTART:20230312T080000
END:DAYLIGHT
BEGIN:STANDARD
TZOFFSETFROM:-0500
TZOFFSETTO:-0600
TZNAME:CST
DTSTART:20231105T070000
END:STANDARD
BEGIN:DAYLIGHT
TZOFFSETFROM:-0600
TZOFFSETTO:-0500
TZNAME:CDT
DTSTART:20240310T080000
END:DAYLIGHT
BEGIN:STANDARD
TZOFFSETFROM:-0500
TZOFFSETTO:-0600
TZNAME:CST
DTSTART:20241103T070000
END:STANDARD
END:VTIMEZONE
BEGIN:VEVENT
DTSTART;VALUE=DATE:20230613
DTEND;VALUE=DATE:20230614
DTSTAMP:20260420T201809
CREATED:20230118T041852Z
LAST-MODIFIED:20230118T041852Z
UID:10000739-1686614400-1686700799@lebanondodgewi.gov
SUMMARY:Ruby’s Pantry
DESCRIPTION:at St. Peter Church parking lot.
URL:https://lebanondodgewi.gov/event/rubys-pantry/2023-06-13/
CATEGORIES:Events
END:VEVENT
BEGIN:VEVENT
DTSTART;VALUE=DATE:20230509
DTEND;VALUE=DATE:20230510
DTSTAMP:20260420T201809
CREATED:20230118T041852Z
LAST-MODIFIED:20230118T041852Z
UID:10000738-1683590400-1683676799@lebanondodgewi.gov
SUMMARY:Ruby’s Pantry
DESCRIPTION:at St. Peter Church parking lot.
URL:https://lebanondodgewi.gov/event/rubys-pantry/2023-05-09/
CATEGORIES:Events
END:VEVENT
BEGIN:VEVENT
DTSTART;TZID=America/Chicago:20230425T080000
DTEND;TZID=America/Chicago:20230425T100000
DTSTAMP:20260420T201809
CREATED:20230301T234509Z
LAST-MODIFIED:20230301T234509Z
UID:10000782-1682409600-1682416800@lebanondodgewi.gov
SUMMARY:Open Book
DESCRIPTION:2022 Assessment Roll will be open for inspection at the Town Hall.   \nAsk the Assessor questions.
URL:https://lebanondodgewi.gov/event/open-book-3/
CATEGORIES:Events
END:VEVENT
BEGIN:VEVENT
DTSTART;VALUE=DATE:20230422
DTEND;VALUE=DATE:20230423
DTSTAMP:20260420T201809
CREATED:20230301T234259Z
LAST-MODIFIED:20230301T234259Z
UID:10000781-1682121600-1682207999@lebanondodgewi.gov
SUMMARY:St. Peter's Supper\, Trivia & Silent Auction
DESCRIPTION:
URL:https://lebanondodgewi.gov/event/st-peters-supper-trivia-silent-auction/
CATEGORIES:Events
END:VEVENT
BEGIN:VEVENT
DTSTART;VALUE=DATE:20230411
DTEND;VALUE=DATE:20230412
DTSTAMP:20260420T201809
CREATED:20230118T041852Z
LAST-MODIFIED:20230118T041852Z
UID:10000737-1681171200-1681257599@lebanondodgewi.gov
SUMMARY:Ruby’s Pantry
DESCRIPTION:at St. Peter Church parking lot.
URL:https://lebanondodgewi.gov/event/rubys-pantry/2023-04-11/
CATEGORIES:Events
END:VEVENT
BEGIN:VEVENT
DTSTART;TZID=America/Chicago:20230326T093000
DTEND;TZID=America/Chicago:20230326T093000
DTSTAMP:20260420T201809
CREATED:20230118T234906Z
LAST-MODIFIED:20230118T234906Z
UID:10000748-1679823000-1679823000@lebanondodgewi.gov
SUMMARY:Sportsmen’s Club Consignment Sale
DESCRIPTION:
URL:https://lebanondodgewi.gov/event/sportsmens-club-consignment-sale/
CATEGORIES:Events
END:VEVENT
BEGIN:VEVENT
DTSTART;VALUE=DATE:20230318
DTEND;VALUE=DATE:20230319
DTSTAMP:20260420T201809
CREATED:20230301T231610Z
LAST-MODIFIED:20230301T231610Z
UID:10000775-1679097600-1679183999@lebanondodgewi.gov
SUMMARY:Sugar Island Sportsman's Club Crow Hunt
DESCRIPTION:
URL:https://lebanondodgewi.gov/event/sugar-island-sportsmans-club-crow-hunt-2/
CATEGORIES:Events
END:VEVENT
BEGIN:VEVENT
DTSTART;TZID=America/Chicago:20230316T193000
DTEND;TZID=America/Chicago:20230316T193000
DTSTAMP:20260420T201809
CREATED:20230306T225519Z
LAST-MODIFIED:20230306T225638Z
UID:10000783-1678995000-1678995000@lebanondodgewi.gov
SUMMARY:Hustisford School District Referendum Informational Meeting
DESCRIPTION:Representatives from the Hustisford School District will present information on the upcoming Referendum at 7:30 pm at the Lebanon Town Hall.  
URL:https://lebanondodgewi.gov/event/hustisford-school-district-referendum-informational-meeting/
CATEGORIES:Events
END:VEVENT
BEGIN:VEVENT
DTSTART;VALUE=DATE:20230314
DTEND;VALUE=DATE:20230315
DTSTAMP:20260420T201809
CREATED:20230118T041852Z
LAST-MODIFIED:20230118T041852Z
UID:10000736-1678752000-1678838399@lebanondodgewi.gov
SUMMARY:Ruby’s Pantry
DESCRIPTION:at St. Peter Church parking lot.
URL:https://lebanondodgewi.gov/event/rubys-pantry/2023-03-14/
CATEGORIES:Events
END:VEVENT
BEGIN:VEVENT
DTSTART;TZID=America/Chicago:20230303T170000
DTEND;TZID=America/Chicago:20230303T190000
DTSTAMP:20260420T201809
CREATED:20230301T231223Z
LAST-MODIFIED:20230301T231223Z
UID:10000774-1677862800-1677870000@lebanondodgewi.gov
SUMMARY:St. Peter's Spaghetti Dinner & Silent Auction
DESCRIPTION:
URL:https://lebanondodgewi.gov/event/st-peters-spaghetti-dinner-silent-auction/
CATEGORIES:Events
END:VEVENT
BEGIN:VEVENT
DTSTART;VALUE=DATE:20230214
DTEND;VALUE=DATE:20230215
DTSTAMP:20260420T201809
CREATED:20230118T041852Z
LAST-MODIFIED:20230118T041852Z
UID:10000735-1676332800-1676419199@lebanondodgewi.gov
SUMMARY:Ruby’s Pantry
DESCRIPTION:at St. Peter Church parking lot.
URL:https://lebanondodgewi.gov/event/rubys-pantry/2023-02-14/
CATEGORIES:Events
END:VEVENT
BEGIN:VEVENT
DTSTART;VALUE=DATE:20230110
DTEND;VALUE=DATE:20230111
DTSTAMP:20260420T201809
CREATED:20230118T041852Z
LAST-MODIFIED:20230118T041852Z
UID:10000734-1673308800-1673395199@lebanondodgewi.gov
SUMMARY:Ruby’s Pantry
DESCRIPTION:at St. Peter Church parking lot.
URL:https://lebanondodgewi.gov/event/rubys-pantry/2023-01-10/
CATEGORIES:Events
END:VEVENT
BEGIN:VEVENT
DTSTART;VALUE=DATE:20221213
DTEND;VALUE=DATE:20221214
DTSTAMP:20260420T201809
CREATED:20220624T020105Z
LAST-MODIFIED:20220624T020105Z
UID:10000594-1670889600-1670975999@lebanondodgewi.gov
SUMMARY:Ruby’s Pantry Food Distribution
DESCRIPTION:at St. Peter’s Church parking lot
URL:https://lebanondodgewi.gov/event/rubys-pantry-food-distribution/2022-12-13/
CATEGORIES:Events
END:VEVENT
BEGIN:VEVENT
DTSTART;TZID=America/Chicago:20221204T090000
DTEND;TZID=America/Chicago:20221204T130000
DTSTAMP:20260420T201809
CREATED:20221116T164639Z
LAST-MODIFIED:20221116T164639Z
UID:10000646-1670144400-1670158800@lebanondodgewi.gov
SUMMARY:St. Peter’s Cookie Sale
DESCRIPTION:
URL:https://lebanondodgewi.gov/event/st-peters-cookie-sale-2/
CATEGORIES:Events
END:VEVENT
BEGIN:VEVENT
DTSTART;TZID=America/Chicago:20221203T173000
DTEND;TZID=America/Chicago:20221203T190000
DTSTAMP:20260420T201809
CREATED:20221116T164906Z
LAST-MODIFIED:20221116T164906Z
UID:10000650-1670088600-1670094000@lebanondodgewi.gov
SUMMARY:Community Christmas Tree Lighting
DESCRIPTION:Saturday\, December 3  5:30-7:00 pm Community Christmas Tree Lighting program at Trechel Park sponsored by the Fire Department Auxiliary
URL:https://lebanondodgewi.gov/event/community-christmas-tree-lighting/
CATEGORIES:Events
END:VEVENT
BEGIN:VEVENT
DTSTART;TZID=America/Chicago:20221203T120000
DTEND;TZID=America/Chicago:20221203T140000
DTSTAMP:20260420T201809
CREATED:20221116T164805Z
LAST-MODIFIED:20221116T164805Z
UID:10000649-1670068800-1670076000@lebanondodgewi.gov
SUMMARY:Santa at Lebanon Fire Station
DESCRIPTION:Saturday\, December 3 noon to 2:00 pm visit with Santa at Lebanon Fire Station sponsored by Lebanon Lions Club
URL:https://lebanondodgewi.gov/event/santa-at-lebanon-fire-station/
CATEGORIES:Events
END:VEVENT
BEGIN:VEVENT
DTSTART;TZID=America/Chicago:20221203T080000
DTEND;TZID=America/Chicago:20221203T170000
DTSTAMP:20260420T201809
CREATED:20221116T164434Z
LAST-MODIFIED:20221116T164434Z
UID:10000647-1670054400-1670086800@lebanondodgewi.gov
SUMMARY:St. Peter’s Cookie Sale
DESCRIPTION:
URL:https://lebanondodgewi.gov/event/st-peters-cookie-sale/
CATEGORIES:Events
END:VEVENT
BEGIN:VEVENT
DTSTART;VALUE=DATE:20221108
DTEND;VALUE=DATE:20221109
DTSTAMP:20260420T201809
CREATED:20220624T020105Z
LAST-MODIFIED:20220624T020105Z
UID:10000593-1667865600-1667951999@lebanondodgewi.gov
SUMMARY:Ruby’s Pantry Food Distribution
DESCRIPTION:at St. Peter’s Church parking lot
URL:https://lebanondodgewi.gov/event/rubys-pantry-food-distribution/2022-11-08/
CATEGORIES:Events
END:VEVENT
BEGIN:VEVENT
DTSTART;VALUE=DATE:20221011
DTEND;VALUE=DATE:20221012
DTSTAMP:20260420T201809
CREATED:20220917T032649Z
LAST-MODIFIED:20220917T032743Z
UID:10000641-1665446400-1665532799@lebanondodgewi.gov
SUMMARY:Wisconsin Towns Association Convention in Appleton
DESCRIPTION:
URL:https://lebanondodgewi.gov/event/wisconsin-towns-association-convention-in-appleton/2022-10-11/
CATEGORIES:Events
END:VEVENT
BEGIN:VEVENT
DTSTART;VALUE=DATE:20221011
DTEND;VALUE=DATE:20221012
DTSTAMP:20260420T201809
CREATED:20220624T020105Z
LAST-MODIFIED:20220624T020105Z
UID:10000592-1665446400-1665532799@lebanondodgewi.gov
SUMMARY:Ruby’s Pantry Food Distribution
DESCRIPTION:at St. Peter’s Church parking lot
URL:https://lebanondodgewi.gov/event/rubys-pantry-food-distribution/2022-10-11/
CATEGORIES:Events
END:VEVENT
BEGIN:VEVENT
DTSTART;VALUE=DATE:20221010
DTEND;VALUE=DATE:20221011
DTSTAMP:20260420T201809
CREATED:20220917T032649Z
LAST-MODIFIED:20220917T032743Z
UID:10000640-1665360000-1665446399@lebanondodgewi.gov
SUMMARY:Wisconsin Towns Association Convention in Appleton
DESCRIPTION:
URL:https://lebanondodgewi.gov/event/wisconsin-towns-association-convention-in-appleton/2022-10-10/
CATEGORIES:Events
END:VEVENT
BEGIN:VEVENT
DTSTART;VALUE=DATE:20221009
DTEND;VALUE=DATE:20221010
DTSTAMP:20260420T201809
CREATED:20220917T032649Z
LAST-MODIFIED:20220917T032743Z
UID:10000639-1665273600-1665359999@lebanondodgewi.gov
SUMMARY:Wisconsin Towns Association Convention in Appleton
DESCRIPTION:
URL:https://lebanondodgewi.gov/event/wisconsin-towns-association-convention-in-appleton/2022-10-09/
CATEGORIES:Events
END:VEVENT
BEGIN:VEVENT
DTSTART;VALUE=DATE:20220913
DTEND;VALUE=DATE:20220914
DTSTAMP:20260420T201809
CREATED:20220624T020105Z
LAST-MODIFIED:20220624T020105Z
UID:10000591-1663027200-1663113599@lebanondodgewi.gov
SUMMARY:Ruby’s Pantry Food Distribution
DESCRIPTION:at St. Peter’s Church parking lot
URL:https://lebanondodgewi.gov/event/rubys-pantry-food-distribution/2022-09-13/
CATEGORIES:Events
END:VEVENT
BEGIN:VEVENT
DTSTART;VALUE=DATE:20220817
DTEND;VALUE=DATE:20220823
DTSTAMP:20260420T201809
CREATED:20220624T015839Z
LAST-MODIFIED:20220624T015839Z
UID:10000132-1660694400-1661212799@lebanondodgewi.gov
SUMMARY:Dodge County Fair
DESCRIPTION:
URL:https://lebanondodgewi.gov/event/dodge-county-fair-2/
CATEGORIES:Events
END:VEVENT
BEGIN:VEVENT
DTSTART;TZID=America/Chicago:20220810T193000
DTEND;TZID=America/Chicago:20220810T193000
DTSTAMP:20260420T201809
CREATED:20220624T015803Z
LAST-MODIFIED:20220624T015803Z
UID:10000131-1660159800-1660159800@lebanondodgewi.gov
SUMMARY:Lebanon Band Concert
DESCRIPTION:at Lebanon Firemen’s Park
URL:https://lebanondodgewi.gov/event/lebanon-band-concert/2022-08-10/
CATEGORIES:Events
END:VEVENT
BEGIN:VEVENT
DTSTART;VALUE=DATE:20220810
DTEND;VALUE=DATE:20220811
DTSTAMP:20260420T201809
CREATED:20220624T014526Z
LAST-MODIFIED:20220624T014526Z
UID:10000108-1660089600-1660175999@lebanondodgewi.gov
SUMMARY:Softball\, Volleyball\, Horseshoes Rec Leagues
DESCRIPTION:at Lebanon Firemen’s Park
URL:https://lebanondodgewi.gov/event/softball-volleyball-horseshoes-rec-leagues/2022-08-10/
CATEGORIES:Events
END:VEVENT
BEGIN:VEVENT
DTSTART;VALUE=DATE:20220809
DTEND;VALUE=DATE:20220810
DTSTAMP:20260420T201809
CREATED:20220624T020105Z
LAST-MODIFIED:20220624T020105Z
UID:10000590-1660003200-1660089599@lebanondodgewi.gov
SUMMARY:Ruby’s Pantry Food Distribution
DESCRIPTION:at St. Peter’s Church parking lot
URL:https://lebanondodgewi.gov/event/rubys-pantry-food-distribution/2022-08-09/
CATEGORIES:Events
END:VEVENT
BEGIN:VEVENT
DTSTART;VALUE=DATE:20220803
DTEND;VALUE=DATE:20220804
DTSTAMP:20260420T201809
CREATED:20220624T014526Z
LAST-MODIFIED:20220624T014526Z
UID:10000107-1659484800-1659571199@lebanondodgewi.gov
SUMMARY:Softball\, Volleyball\, Horseshoes Rec Leagues
DESCRIPTION:at Lebanon Firemen’s Park
URL:https://lebanondodgewi.gov/event/softball-volleyball-horseshoes-rec-leagues/2022-08-03/
CATEGORIES:Events
END:VEVENT
BEGIN:VEVENT
DTSTART;VALUE=DATE:20220729
DTEND;VALUE=DATE:20220801
DTSTAMP:20260420T201809
CREATED:20220624T014231Z
LAST-MODIFIED:20220624T014231Z
UID:10000097-1659052800-1659311999@lebanondodgewi.gov
SUMMARY:Lebanon Firemen’s Picnic
DESCRIPTION:
URL:https://lebanondodgewi.gov/event/lebanon-firemens-picnic-2/
CATEGORIES:Events
END:VEVENT
BEGIN:VEVENT
DTSTART;VALUE=DATE:20220727
DTEND;VALUE=DATE:20220728
DTSTAMP:20260420T201809
CREATED:20220624T014526Z
LAST-MODIFIED:20220624T014526Z
UID:10000106-1658880000-1658966399@lebanondodgewi.gov
SUMMARY:Softball\, Volleyball\, Horseshoes Rec Leagues
DESCRIPTION:at Lebanon Firemen’s Park
URL:https://lebanondodgewi.gov/event/softball-volleyball-horseshoes-rec-leagues/2022-07-27/
CATEGORIES:Events
END:VEVENT
END:VCALENDAR