BEGIN:VCALENDAR
VERSION:2.0
PRODID:-//Town of Lebanon - ECPv6.15.17.1//NONSGML v1.0//EN
CALSCALE:GREGORIAN
METHOD:PUBLISH
X-WR-CALNAME:Town of Lebanon
X-ORIGINAL-URL:https://lebanondodgewi.gov
X-WR-CALDESC:Events for Town of Lebanon
REFRESH-INTERVAL;VALUE=DURATION:PT1H
X-Robots-Tag:noindex
X-PUBLISHED-TTL:PT1H
BEGIN:VTIMEZONE
TZID:America/Chicago
BEGIN:DAYLIGHT
TZOFFSETFROM:-0600
TZOFFSETTO:-0500
TZNAME:CDT
DTSTART:20250309T080000
END:DAYLIGHT
BEGIN:STANDARD
TZOFFSETFROM:-0500
TZOFFSETTO:-0600
TZNAME:CST
DTSTART:20251102T070000
END:STANDARD
BEGIN:DAYLIGHT
TZOFFSETFROM:-0600
TZOFFSETTO:-0500
TZNAME:CDT
DTSTART:20260308T080000
END:DAYLIGHT
BEGIN:STANDARD
TZOFFSETFROM:-0500
TZOFFSETTO:-0600
TZNAME:CST
DTSTART:20261101T070000
END:STANDARD
BEGIN:DAYLIGHT
TZOFFSETFROM:-0600
TZOFFSETTO:-0500
TZNAME:CDT
DTSTART:20270314T080000
END:DAYLIGHT
BEGIN:STANDARD
TZOFFSETFROM:-0500
TZOFFSETTO:-0600
TZNAME:CST
DTSTART:20271107T070000
END:STANDARD
END:VTIMEZONE
BEGIN:VEVENT
DTSTART;TZID=America/Chicago:20260721T200000
DTEND;TZID=America/Chicago:20260721T200000
DTSTAMP:20260420T213844
CREATED:20260401T223259Z
LAST-MODIFIED:20260401T223259Z
UID:10001595-1784664000-1784664000@lebanondodgewi.gov
SUMMARY:Lebanon Band practice
DESCRIPTION:
URL:https://lebanondodgewi.gov/event/lebanon-band-practice-2/2026-07-21/
CATEGORIES:Events
END:VEVENT
BEGIN:VEVENT
DTSTART;TZID=America/Chicago:20260728T200000
DTEND;TZID=America/Chicago:20260728T200000
DTSTAMP:20260420T213844
CREATED:20260401T223259Z
LAST-MODIFIED:20260401T223259Z
UID:10001596-1785268800-1785268800@lebanondodgewi.gov
SUMMARY:Lebanon Band practice
DESCRIPTION:
URL:https://lebanondodgewi.gov/event/lebanon-band-practice-2/2026-07-28/
CATEGORIES:Events
END:VEVENT
BEGIN:VEVENT
DTSTART;TZID=America/Chicago:20260804T200000
DTEND;TZID=America/Chicago:20260804T200000
DTSTAMP:20260420T213844
CREATED:20260401T223259Z
LAST-MODIFIED:20260401T223259Z
UID:10001597-1785873600-1785873600@lebanondodgewi.gov
SUMMARY:Lebanon Band practice
DESCRIPTION:
URL:https://lebanondodgewi.gov/event/lebanon-band-practice-2/2026-08-04/
CATEGORIES:Events
END:VEVENT
BEGIN:VEVENT
DTSTART;TZID=America/Chicago:20260811T200000
DTEND;TZID=America/Chicago:20260811T200000
DTSTAMP:20260420T213844
CREATED:20260401T223259Z
LAST-MODIFIED:20260401T223259Z
UID:10001598-1786478400-1786478400@lebanondodgewi.gov
SUMMARY:Lebanon Band practice
DESCRIPTION:
URL:https://lebanondodgewi.gov/event/lebanon-band-practice-2/2026-08-11/
CATEGORIES:Events
END:VEVENT
BEGIN:VEVENT
DTSTART;TZID=America/Chicago:20260812T193000
DTEND;TZID=America/Chicago:20260812T220000
DTSTAMP:20260420T213844
CREATED:20260402T001317Z
LAST-MODIFIED:20260402T001351Z
UID:10001631-1786563000-1786572000@lebanondodgewi.gov
SUMMARY:Lebanon Band Concert
DESCRIPTION:
URL:https://lebanondodgewi.gov/event/lebanon-band-concert-6/
CATEGORIES:Events
END:VEVENT
END:VCALENDAR