BEGIN:VCALENDAR
VERSION:2.0
PRODID:-//Town of Lebanon - ECPv6.15.17.1//NONSGML v1.0//EN
CALSCALE:GREGORIAN
METHOD:PUBLISH
X-ORIGINAL-URL:https://lebanondodgewi.gov
X-WR-CALDESC:Events for Town of Lebanon
REFRESH-INTERVAL;VALUE=DURATION:PT1H
X-Robots-Tag:noindex
X-PUBLISHED-TTL:PT1H
BEGIN:VTIMEZONE
TZID:America/Chicago
BEGIN:DAYLIGHT
TZOFFSETFROM:-0600
TZOFFSETTO:-0500
TZNAME:CDT
DTSTART:20230312T080000
END:DAYLIGHT
BEGIN:STANDARD
TZOFFSETFROM:-0500
TZOFFSETTO:-0600
TZNAME:CST
DTSTART:20231105T070000
END:STANDARD
BEGIN:DAYLIGHT
TZOFFSETFROM:-0600
TZOFFSETTO:-0500
TZNAME:CDT
DTSTART:20240310T080000
END:DAYLIGHT
BEGIN:STANDARD
TZOFFSETFROM:-0500
TZOFFSETTO:-0600
TZNAME:CST
DTSTART:20241103T070000
END:STANDARD
BEGIN:DAYLIGHT
TZOFFSETFROM:-0600
TZOFFSETTO:-0500
TZNAME:CDT
DTSTART:20250309T080000
END:DAYLIGHT
BEGIN:STANDARD
TZOFFSETFROM:-0500
TZOFFSETTO:-0600
TZNAME:CST
DTSTART:20251102T070000
END:STANDARD
BEGIN:DAYLIGHT
TZOFFSETFROM:-0600
TZOFFSETTO:-0500
TZNAME:CDT
DTSTART:20260308T080000
END:DAYLIGHT
BEGIN:STANDARD
TZOFFSETFROM:-0500
TZOFFSETTO:-0600
TZNAME:CST
DTSTART:20261101T070000
END:STANDARD
BEGIN:DAYLIGHT
TZOFFSETFROM:-0600
TZOFFSETTO:-0500
TZNAME:CDT
DTSTART:20270314T080000
END:DAYLIGHT
BEGIN:STANDARD
TZOFFSETFROM:-0500
TZOFFSETTO:-0600
TZNAME:CST
DTSTART:20271107T070000
END:STANDARD
END:VTIMEZONE
BEGIN:VEVENT
DTSTART;TZID=America/Chicago:20260419T160000
DTEND;TZID=America/Chicago:20260419T160000
DTSTAMP:20260420T131254
CREATED:20260401T223722Z
LAST-MODIFIED:20260401T223722Z
UID:10001602-1776614400-1776614400@lebanondodgewi.gov
SUMMARY:“Home of the Braves” Baseball Presentation
DESCRIPTION:at Lebanon History Center
URL:https://lebanondodgewi.gov/event/home-of-the-braves-baseball-presentation/
CATEGORIES:Events
END:VEVENT
BEGIN:VEVENT
DTSTART;VALUE=DATE:20260405
DTEND;VALUE=DATE:20260406
DTSTAMP:20260420T131254
CREATED:20260401T223537Z
LAST-MODIFIED:20260401T223537Z
UID:10001600-1775347200-1775433599@lebanondodgewi.gov
SUMMARY:HAPPY EASTER
DESCRIPTION:
URL:https://lebanondodgewi.gov/event/happy-easter/
CATEGORIES:Events
END:VEVENT
BEGIN:VEVENT
DTSTART;TZID=America/Chicago:20260404T130000
DTEND;TZID=America/Chicago:20260404T130000
DTSTAMP:20260420T131254
CREATED:20260401T223449Z
LAST-MODIFIED:20260401T223449Z
UID:10001599-1775307600-1775307600@lebanondodgewi.gov
SUMMARY:Lions Easter Egg Hunt
DESCRIPTION:at Lebanon Firemen’s Park
URL:https://lebanondodgewi.gov/event/lions-easter-egg-hunt-3/
CATEGORIES:Events
END:VEVENT
BEGIN:VEVENT
DTSTART;VALUE=DATE:20260310
DTEND;VALUE=DATE:20260311
DTSTAMP:20260420T131254
CREATED:20251105T203650Z
LAST-MODIFIED:20251105T203650Z
UID:10001476-1773100800-1773187199@lebanondodgewi.gov
SUMMARY:Ruby’s Pantry
DESCRIPTION:
URL:https://lebanondodgewi.gov/event/rubys-pantry-4/2026-03-10/
CATEGORIES:Events
END:VEVENT
BEGIN:VEVENT
DTSTART;VALUE=DATE:20260210
DTEND;VALUE=DATE:20260211
DTSTAMP:20260420T131254
CREATED:20251105T203650Z
LAST-MODIFIED:20251105T203650Z
UID:10001475-1770681600-1770767999@lebanondodgewi.gov
SUMMARY:Ruby’s Pantry
DESCRIPTION:
URL:https://lebanondodgewi.gov/event/rubys-pantry-4/2026-02-10/
CATEGORIES:Events
END:VEVENT
BEGIN:VEVENT
DTSTART;VALUE=DATE:20260113
DTEND;VALUE=DATE:20260114
DTSTAMP:20260420T131254
CREATED:20251105T203650Z
LAST-MODIFIED:20251105T203650Z
UID:10001474-1768262400-1768348799@lebanondodgewi.gov
SUMMARY:Ruby’s Pantry
DESCRIPTION:
URL:https://lebanondodgewi.gov/event/rubys-pantry-4/2026-01-13/
CATEGORIES:Events
END:VEVENT
BEGIN:VEVENT
DTSTART;VALUE=DATE:20251209
DTEND;VALUE=DATE:20251210
DTSTAMP:20260420T131254
CREATED:20240322T155543Z
LAST-MODIFIED:20240322T155543Z
UID:10001084-1765238400-1765324799@lebanondodgewi.gov
SUMMARY:Ruby’s Pantry
DESCRIPTION:at St. Peter Church parking lot.
URL:https://lebanondodgewi.gov/event/rubys-pantry-3/2025-12-09/
CATEGORIES:Events
END:VEVENT
BEGIN:VEVENT
DTSTART;VALUE=DATE:20251111
DTEND;VALUE=DATE:20251112
DTSTAMP:20260420T131254
CREATED:20240322T155543Z
LAST-MODIFIED:20240322T155543Z
UID:10001083-1762819200-1762905599@lebanondodgewi.gov
SUMMARY:Ruby’s Pantry
DESCRIPTION:at St. Peter Church parking lot.
URL:https://lebanondodgewi.gov/event/rubys-pantry-3/2025-11-11/
CATEGORIES:Events
END:VEVENT
BEGIN:VEVENT
DTSTART;VALUE=DATE:20251014
DTEND;VALUE=DATE:20251015
DTSTAMP:20260420T131254
CREATED:20240322T155543Z
LAST-MODIFIED:20240322T155543Z
UID:10001082-1760400000-1760486399@lebanondodgewi.gov
SUMMARY:Ruby’s Pantry
DESCRIPTION:at St. Peter Church parking lot.
URL:https://lebanondodgewi.gov/event/rubys-pantry-3/2025-10-14/
CATEGORIES:Events
END:VEVENT
BEGIN:VEVENT
DTSTART;VALUE=DATE:20250909
DTEND;VALUE=DATE:20250910
DTSTAMP:20260420T131254
CREATED:20240322T155543Z
LAST-MODIFIED:20240322T155543Z
UID:10001081-1757376000-1757462399@lebanondodgewi.gov
SUMMARY:Ruby’s Pantry
DESCRIPTION:at St. Peter Church parking lot.
URL:https://lebanondodgewi.gov/event/rubys-pantry-3/2025-09-09/
CATEGORIES:Events
END:VEVENT
BEGIN:VEVENT
DTSTART;TZID=America/Chicago:20250823T080000
DTEND;TZID=America/Chicago:20250823T120000
DTSTAMP:20260420T131254
CREATED:20250724T235739Z
LAST-MODIFIED:20250724T235739Z
UID:10001378-1755936000-1755950400@lebanondodgewi.gov
SUMMARY:Clean Sweep
DESCRIPTION:
URL:https://lebanondodgewi.gov/event/clean-sweep/
CATEGORIES:Events
ATTACH;FMTTYPE=image/jpeg:https://lebanondodgewi.gov/wp-content/uploads/2025/07/Clean_Sweep.jpg
END:VEVENT
BEGIN:VEVENT
DTSTART;TZID=America/Chicago:20250823T080000
DTEND;TZID=America/Chicago:20250823T120000
DTSTAMP:20260420T131254
CREATED:20250719T160321Z
LAST-MODIFIED:20250719T160321Z
UID:10001375-1755936000-1755950400@lebanondodgewi.gov
SUMMARY:Dodge County Clean Sweep
DESCRIPTION:location:  Dodge County Highway Shop at N8856 County Rd A\, Beaver Dam \n  \nfor more information visit www.co.dodge.wi.gov/cleansweep \n 
URL:https://lebanondodgewi.gov/event/dodge-county-clean-sweep/
CATEGORIES:Events
END:VEVENT
BEGIN:VEVENT
DTSTART;TZID=America/Chicago:20250813T080000
DTEND;TZID=America/Chicago:20250817T200000
DTSTAMP:20260420T131254
CREATED:20250719T155948Z
LAST-MODIFIED:20250719T155948Z
UID:10001374-1755072000-1755460800@lebanondodgewi.gov
SUMMARY:Dodge County Fair
DESCRIPTION:
URL:https://lebanondodgewi.gov/event/dodge-county-fair-3/
CATEGORIES:Events
END:VEVENT
BEGIN:VEVENT
DTSTART;VALUE=DATE:20250812
DTEND;VALUE=DATE:20250813
DTSTAMP:20260420T131254
CREATED:20240322T155543Z
LAST-MODIFIED:20240322T155543Z
UID:10001080-1754956800-1755043199@lebanondodgewi.gov
SUMMARY:Ruby’s Pantry
DESCRIPTION:at St. Peter Church parking lot.
URL:https://lebanondodgewi.gov/event/rubys-pantry-3/2025-08-12/
CATEGORIES:Events
END:VEVENT
BEGIN:VEVENT
DTSTART;TZID=America/Chicago:20250806T193000
DTEND;TZID=America/Chicago:20250806T193000
DTSTAMP:20260420T131254
CREATED:20250719T161257Z
LAST-MODIFIED:20250719T161257Z
UID:10001376-1754508600-1754508600@lebanondodgewi.gov
SUMMARY:Lebanon Band Concert
DESCRIPTION:at Lebanon Firemen’s Park
URL:https://lebanondodgewi.gov/event/lebanon-band-concert-3/
CATEGORIES:Events
END:VEVENT
BEGIN:VEVENT
DTSTART;TZID=America/Chicago:20250725T163000
DTEND;TZID=America/Chicago:20250727T170000
DTSTAMP:20260420T131254
CREATED:20250719T151753Z
LAST-MODIFIED:20250719T153053Z
UID:10001373-1753461000-1753635600@lebanondodgewi.gov
SUMMARY:Lebanon Firemen’s Picnic
DESCRIPTION:
URL:https://lebanondodgewi.gov/event/lebanon-firemens-picnic-3/
CATEGORIES:Events
END:VEVENT
BEGIN:VEVENT
DTSTART;VALUE=DATE:20250708
DTEND;VALUE=DATE:20250709
DTSTAMP:20260420T131254
CREATED:20240322T155543Z
LAST-MODIFIED:20240322T155543Z
UID:10001079-1751932800-1752019199@lebanondodgewi.gov
SUMMARY:Ruby’s Pantry
DESCRIPTION:at St. Peter Church parking lot.
URL:https://lebanondodgewi.gov/event/rubys-pantry-3/2025-07-08/
CATEGORIES:Events
END:VEVENT
BEGIN:VEVENT
DTSTART;VALUE=DATE:20250610
DTEND;VALUE=DATE:20250611
DTSTAMP:20260420T131254
CREATED:20240322T155543Z
LAST-MODIFIED:20240322T155543Z
UID:10001078-1749513600-1749599999@lebanondodgewi.gov
SUMMARY:Ruby’s Pantry
DESCRIPTION:at St. Peter Church parking lot.
URL:https://lebanondodgewi.gov/event/rubys-pantry-3/2025-06-10/
CATEGORIES:Events
END:VEVENT
BEGIN:VEVENT
DTSTART;VALUE=DATE:20250513
DTEND;VALUE=DATE:20250514
DTSTAMP:20260420T131254
CREATED:20240322T155543Z
LAST-MODIFIED:20240322T155543Z
UID:10001077-1747094400-1747180799@lebanondodgewi.gov
SUMMARY:Ruby’s Pantry
DESCRIPTION:at St. Peter Church parking lot.
URL:https://lebanondodgewi.gov/event/rubys-pantry-3/2025-05-13/
CATEGORIES:Events
END:VEVENT
BEGIN:VEVENT
DTSTART;TZID=America/Chicago:20250415T193000
DTEND;TZID=America/Chicago:20250415T193000
DTSTAMP:20260420T131254
CREATED:20250304T230900Z
LAST-MODIFIED:20250304T230900Z
UID:10001333-1744745400-1744745400@lebanondodgewi.gov
SUMMARY:Annual Town Meeting of Electors
DESCRIPTION:
URL:https://lebanondodgewi.gov/event/annual-town-meeting-of-electors-3/
CATEGORIES:Events
END:VEVENT
BEGIN:VEVENT
DTSTART;VALUE=DATE:20250408
DTEND;VALUE=DATE:20250409
DTSTAMP:20260420T131254
CREATED:20240322T155543Z
LAST-MODIFIED:20240322T155543Z
UID:10001076-1744070400-1744156799@lebanondodgewi.gov
SUMMARY:Ruby’s Pantry
DESCRIPTION:at St. Peter Church parking lot.
URL:https://lebanondodgewi.gov/event/rubys-pantry-3/2025-04-08/
CATEGORIES:Events
END:VEVENT
BEGIN:VEVENT
DTSTART;VALUE=DATE:20250311
DTEND;VALUE=DATE:20250312
DTSTAMP:20260420T131254
CREATED:20240322T155543Z
LAST-MODIFIED:20240322T155543Z
UID:10001075-1741651200-1741737599@lebanondodgewi.gov
SUMMARY:Ruby’s Pantry
DESCRIPTION:at St. Peter Church parking lot.
URL:https://lebanondodgewi.gov/event/rubys-pantry-3/2025-03-11/
CATEGORIES:Events
END:VEVENT
BEGIN:VEVENT
DTSTART;VALUE=DATE:20250211
DTEND;VALUE=DATE:20250212
DTSTAMP:20260420T131254
CREATED:20240322T155543Z
LAST-MODIFIED:20240322T155543Z
UID:10001074-1739232000-1739318399@lebanondodgewi.gov
SUMMARY:Ruby’s Pantry
DESCRIPTION:at St. Peter Church parking lot.
URL:https://lebanondodgewi.gov/event/rubys-pantry-3/2025-02-11/
CATEGORIES:Events
END:VEVENT
BEGIN:VEVENT
DTSTART;VALUE=DATE:20250114
DTEND;VALUE=DATE:20250115
DTSTAMP:20260420T131254
CREATED:20240322T155543Z
LAST-MODIFIED:20240322T155543Z
UID:10001073-1736812800-1736899199@lebanondodgewi.gov
SUMMARY:Ruby’s Pantry
DESCRIPTION:at St. Peter Church parking lot.
URL:https://lebanondodgewi.gov/event/rubys-pantry-3/2025-01-14/
CATEGORIES:Events
END:VEVENT
BEGIN:VEVENT
DTSTART;VALUE=DATE:20241210
DTEND;VALUE=DATE:20241211
DTSTAMP:20260420T131254
CREATED:20240322T155543Z
LAST-MODIFIED:20240322T155543Z
UID:10001072-1733788800-1733875199@lebanondodgewi.gov
SUMMARY:Ruby’s Pantry
DESCRIPTION:at St. Peter Church parking lot.
URL:https://lebanondodgewi.gov/event/rubys-pantry-3/2024-12-10/
CATEGORIES:Events
END:VEVENT
BEGIN:VEVENT
DTSTART;TZID=America/Chicago:20241113T193000
DTEND;TZID=America/Chicago:20241113T193000
DTSTAMP:20260420T131254
CREATED:20241005T144946Z
LAST-MODIFIED:20241005T144946Z
UID:10001233-1731526200-1731526200@lebanondodgewi.gov
SUMMARY:Budget Meeting of Electors
DESCRIPTION:
URL:https://lebanondodgewi.gov/event/budget-meeting-of-electors/
CATEGORIES:Events
END:VEVENT
BEGIN:VEVENT
DTSTART;VALUE=DATE:20241112
DTEND;VALUE=DATE:20241113
DTSTAMP:20260420T131254
CREATED:20240322T155543Z
LAST-MODIFIED:20240322T155543Z
UID:10001071-1731369600-1731455999@lebanondodgewi.gov
SUMMARY:Ruby’s Pantry
DESCRIPTION:at St. Peter Church parking lot.
URL:https://lebanondodgewi.gov/event/rubys-pantry-3/2024-11-12/
CATEGORIES:Events
END:VEVENT
BEGIN:VEVENT
DTSTART;TZID=America/Chicago:20241016T193000
DTEND;TZID=America/Chicago:20241016T193000
DTSTAMP:20260420T131254
CREATED:20241001T230223Z
LAST-MODIFIED:20241001T230223Z
UID:10001230-1729107000-1729107000@lebanondodgewi.gov
SUMMARY:WTA Dodge County Unit Meeting
DESCRIPTION:
URL:https://lebanondodgewi.gov/event/wta-dodge-county-unit-meeting/
CATEGORIES:Events
END:VEVENT
BEGIN:VEVENT
DTSTART;VALUE=DATE:20241008
DTEND;VALUE=DATE:20241009
DTSTAMP:20260420T131254
CREATED:20240322T155543Z
LAST-MODIFIED:20240322T155543Z
UID:10001070-1728345600-1728431999@lebanondodgewi.gov
SUMMARY:Ruby’s Pantry
DESCRIPTION:at St. Peter Church parking lot.
URL:https://lebanondodgewi.gov/event/rubys-pantry-3/2024-10-08/
CATEGORIES:Events
END:VEVENT
BEGIN:VEVENT
DTSTART;TZID=America/Chicago:20241006T130000
DTEND;TZID=America/Chicago:20241008T130000
DTSTAMP:20260420T131254
CREATED:20241001T230409Z
LAST-MODIFIED:20241001T230409Z
UID:10001231-1728219600-1728392400@lebanondodgewi.gov
SUMMARY:WTA Convention
DESCRIPTION:In Stevens Point
URL:https://lebanondodgewi.gov/event/wta-convention-2/
CATEGORIES:Events
END:VEVENT
END:VCALENDAR