BEGIN:VCALENDAR
VERSION:2.0
PRODID:-//Town of Lebanon - ECPv6.15.17.1//NONSGML v1.0//EN
CALSCALE:GREGORIAN
METHOD:PUBLISH
X-ORIGINAL-URL:https://lebanondodgewi.gov
X-WR-CALDESC:Events for Town of Lebanon
REFRESH-INTERVAL;VALUE=DURATION:PT1H
X-Robots-Tag:noindex
X-PUBLISHED-TTL:PT1H
BEGIN:VTIMEZONE
TZID:America/Chicago
BEGIN:DAYLIGHT
TZOFFSETFROM:-0600
TZOFFSETTO:-0500
TZNAME:CDT
DTSTART:20200308T080000
END:DAYLIGHT
BEGIN:STANDARD
TZOFFSETFROM:-0500
TZOFFSETTO:-0600
TZNAME:CST
DTSTART:20201101T070000
END:STANDARD
BEGIN:DAYLIGHT
TZOFFSETFROM:-0600
TZOFFSETTO:-0500
TZNAME:CDT
DTSTART:20210314T080000
END:DAYLIGHT
BEGIN:STANDARD
TZOFFSETFROM:-0500
TZOFFSETTO:-0600
TZNAME:CST
DTSTART:20211107T070000
END:STANDARD
BEGIN:DAYLIGHT
TZOFFSETFROM:-0600
TZOFFSETTO:-0500
TZNAME:CDT
DTSTART:20220313T080000
END:DAYLIGHT
BEGIN:STANDARD
TZOFFSETFROM:-0500
TZOFFSETTO:-0600
TZNAME:CST
DTSTART:20221106T070000
END:STANDARD
END:VTIMEZONE
BEGIN:VEVENT
DTSTART;TZID=America/Chicago:20210713T153000
DTEND;TZID=America/Chicago:20210713T183000
DTSTAMP:20260424T140658
CREATED:20200224T143150Z
LAST-MODIFIED:20210526T150028Z
UID:10000218-1626190200-1626201000@lebanondodgewi.gov
SUMMARY:Ruby's Pantry Distribution 3:30-6:00 pm
DESCRIPTION:open to the public\ndistribution 3:30-6:00 pm
URL:https://lebanondodgewi.gov/event/rubys-pantry-distribution-500-630/2021-07-13/
LOCATION:St Peters Church\, Lebanon
CATEGORIES:Events
END:VEVENT
BEGIN:VEVENT
DTSTART;TZID=America/Chicago:20210713T173000
DTEND;TZID=America/Chicago:20210713T173000
DTSTAMP:20260424T140658
CREATED:20210526T145917Z
LAST-MODIFIED:20210526T145917Z
UID:10000485-1626197400-1626197400@lebanondodgewi.gov
SUMMARY:Youth Baseball at Firemen’s Park
DESCRIPTION:
URL:https://lebanondodgewi.gov/event/youth-baseball-at-firemens-park/2021-07-13/
CATEGORIES:Events
END:VEVENT
BEGIN:VEVENT
DTSTART;TZID=America/Chicago:20210713T200000
DTEND;TZID=America/Chicago:20210713T200000
DTSTAMP:20260424T140658
CREATED:20210526T145121Z
LAST-MODIFIED:20210526T145121Z
UID:10000078-1626206400-1626206400@lebanondodgewi.gov
SUMMARY:Lebanon Band Practice 8:00 pm at Town Hall
DESCRIPTION:
URL:https://lebanondodgewi.gov/event/lebanon-band-practice-800-pm-at-town-hall/2021-07-13/
CATEGORIES:Events
END:VEVENT
END:VCALENDAR