BEGIN:VCALENDAR
VERSION:2.0
PRODID:-//Town of Lebanon - ECPv6.15.17.1//NONSGML v1.0//EN
CALSCALE:GREGORIAN
METHOD:PUBLISH
X-ORIGINAL-URL:https://lebanondodgewi.gov
X-WR-CALDESC:Events for Town of Lebanon
REFRESH-INTERVAL;VALUE=DURATION:PT1H
X-Robots-Tag:noindex
X-PUBLISHED-TTL:PT1H
BEGIN:VTIMEZONE
TZID:America/Chicago
BEGIN:DAYLIGHT
TZOFFSETFROM:-0600
TZOFFSETTO:-0500
TZNAME:CDT
DTSTART:20250309T080000
END:DAYLIGHT
BEGIN:STANDARD
TZOFFSETFROM:-0500
TZOFFSETTO:-0600
TZNAME:CST
DTSTART:20251102T070000
END:STANDARD
BEGIN:DAYLIGHT
TZOFFSETFROM:-0600
TZOFFSETTO:-0500
TZNAME:CDT
DTSTART:20260308T080000
END:DAYLIGHT
BEGIN:STANDARD
TZOFFSETFROM:-0500
TZOFFSETTO:-0600
TZNAME:CST
DTSTART:20261101T070000
END:STANDARD
BEGIN:DAYLIGHT
TZOFFSETFROM:-0600
TZOFFSETTO:-0500
TZNAME:CDT
DTSTART:20270314T080000
END:DAYLIGHT
BEGIN:STANDARD
TZOFFSETFROM:-0500
TZOFFSETTO:-0600
TZNAME:CST
DTSTART:20271107T070000
END:STANDARD
END:VTIMEZONE
BEGIN:VEVENT
DTSTART;TZID=America/Chicago:20260602T200000
DTEND;TZID=America/Chicago:20260602T200000
DTSTAMP:20260420T131241
CREATED:20260401T223259Z
LAST-MODIFIED:20260401T223259Z
UID:10001588-1780430400-1780430400@lebanondodgewi.gov
SUMMARY:Lebanon Band practice
DESCRIPTION:
URL:https://lebanondodgewi.gov/event/lebanon-band-practice-2/2026-06-02/
CATEGORIES:Events
END:VEVENT
BEGIN:VEVENT
DTSTART;TZID=America/Chicago:20260609T200000
DTEND;TZID=America/Chicago:20260609T200000
DTSTAMP:20260420T131241
CREATED:20260401T223259Z
LAST-MODIFIED:20260401T223259Z
UID:10001589-1781035200-1781035200@lebanondodgewi.gov
SUMMARY:Lebanon Band practice
DESCRIPTION:
URL:https://lebanondodgewi.gov/event/lebanon-band-practice-2/2026-06-09/
CATEGORIES:Events
END:VEVENT
BEGIN:VEVENT
DTSTART;TZID=America/Chicago:20260616T200000
DTEND;TZID=America/Chicago:20260616T200000
DTSTAMP:20260420T131241
CREATED:20260401T223259Z
LAST-MODIFIED:20260401T223259Z
UID:10001590-1781640000-1781640000@lebanondodgewi.gov
SUMMARY:Lebanon Band practice
DESCRIPTION:
URL:https://lebanondodgewi.gov/event/lebanon-band-practice-2/2026-06-16/
CATEGORIES:Events
END:VEVENT
BEGIN:VEVENT
DTSTART;TZID=America/Chicago:20260617T170000
DTEND;TZID=America/Chicago:20260617T193000
DTSTAMP:20260420T131241
CREATED:20260402T001529Z
LAST-MODIFIED:20260402T001529Z
UID:10001632-1781715600-1781724600@lebanondodgewi.gov
SUMMARY:Lebanon Luckies 4-H Ice Cream Social
DESCRIPTION:
URL:https://lebanondodgewi.gov/event/lebanon-luckies-4-h-ice-cream-social/
CATEGORIES:Events
END:VEVENT
BEGIN:VEVENT
DTSTART;TZID=America/Chicago:20260617T193000
DTEND;TZID=America/Chicago:20260617T220000
DTSTAMP:20260420T131241
CREATED:20260402T000954Z
LAST-MODIFIED:20260402T000954Z
UID:10001629-1781724600-1781733600@lebanondodgewi.gov
SUMMARY:Lebanon Band Concert
DESCRIPTION:
URL:https://lebanondodgewi.gov/event/lebanon-band-concert-4/
CATEGORIES:Events
END:VEVENT
BEGIN:VEVENT
DTSTART;TZID=America/Chicago:20260623T200000
DTEND;TZID=America/Chicago:20260623T200000
DTSTAMP:20260420T131241
CREATED:20260401T223259Z
LAST-MODIFIED:20260401T223259Z
UID:10001591-1782244800-1782244800@lebanondodgewi.gov
SUMMARY:Lebanon Band practice
DESCRIPTION:
URL:https://lebanondodgewi.gov/event/lebanon-band-practice-2/2026-06-23/
CATEGORIES:Events
END:VEVENT
BEGIN:VEVENT
DTSTART;TZID=America/Chicago:20260630T200000
DTEND;TZID=America/Chicago:20260630T200000
DTSTAMP:20260420T131241
CREATED:20260401T223259Z
LAST-MODIFIED:20260401T223259Z
UID:10001592-1782849600-1782849600@lebanondodgewi.gov
SUMMARY:Lebanon Band practice
DESCRIPTION:
URL:https://lebanondodgewi.gov/event/lebanon-band-practice-2/2026-06-30/
CATEGORIES:Events
END:VEVENT
END:VCALENDAR