BEGIN:VCALENDAR
VERSION:2.0
PRODID:-//Town of Lebanon - ECPv6.15.17.1//NONSGML v1.0//EN
CALSCALE:GREGORIAN
METHOD:PUBLISH
X-WR-CALNAME:Town of Lebanon
X-ORIGINAL-URL:https://lebanondodgewi.gov
X-WR-CALDESC:Events for Town of Lebanon
REFRESH-INTERVAL;VALUE=DURATION:PT1H
X-Robots-Tag:noindex
X-PUBLISHED-TTL:PT1H
BEGIN:VTIMEZONE
TZID:America/Chicago
BEGIN:DAYLIGHT
TZOFFSETFROM:-0600
TZOFFSETTO:-0500
TZNAME:CDT
DTSTART:20210314T080000
END:DAYLIGHT
BEGIN:STANDARD
TZOFFSETFROM:-0500
TZOFFSETTO:-0600
TZNAME:CST
DTSTART:20211107T070000
END:STANDARD
BEGIN:DAYLIGHT
TZOFFSETFROM:-0600
TZOFFSETTO:-0500
TZNAME:CDT
DTSTART:20220313T080000
END:DAYLIGHT
BEGIN:STANDARD
TZOFFSETFROM:-0500
TZOFFSETTO:-0600
TZNAME:CST
DTSTART:20221106T070000
END:STANDARD
BEGIN:DAYLIGHT
TZOFFSETFROM:-0600
TZOFFSETTO:-0500
TZNAME:CDT
DTSTART:20230312T080000
END:DAYLIGHT
BEGIN:STANDARD
TZOFFSETFROM:-0500
TZOFFSETTO:-0600
TZNAME:CST
DTSTART:20231105T070000
END:STANDARD
END:VTIMEZONE
BEGIN:VEVENT
DTSTART;TZID=America/Chicago:20221203T080000
DTEND;TZID=America/Chicago:20221203T170000
DTSTAMP:20260423T054238
CREATED:20221116T164434Z
LAST-MODIFIED:20221116T164434Z
UID:10000647-1670054400-1670086800@lebanondodgewi.gov
SUMMARY:St. Peter’s Cookie Sale
DESCRIPTION:
URL:https://lebanondodgewi.gov/event/st-peters-cookie-sale/
CATEGORIES:Events
END:VEVENT
BEGIN:VEVENT
DTSTART;TZID=America/Chicago:20221203T120000
DTEND;TZID=America/Chicago:20221203T140000
DTSTAMP:20260423T054238
CREATED:20221116T164805Z
LAST-MODIFIED:20221116T164805Z
UID:10000649-1670068800-1670076000@lebanondodgewi.gov
SUMMARY:Santa at Lebanon Fire Station
DESCRIPTION:Saturday\, December 3 noon to 2:00 pm visit with Santa at Lebanon Fire Station sponsored by Lebanon Lions Club
URL:https://lebanondodgewi.gov/event/santa-at-lebanon-fire-station/
CATEGORIES:Events
END:VEVENT
BEGIN:VEVENT
DTSTART;TZID=America/Chicago:20221203T173000
DTEND;TZID=America/Chicago:20221203T190000
DTSTAMP:20260423T054238
CREATED:20221116T164906Z
LAST-MODIFIED:20221116T164906Z
UID:10000650-1670088600-1670094000@lebanondodgewi.gov
SUMMARY:Community Christmas Tree Lighting
DESCRIPTION:Saturday\, December 3  5:30-7:00 pm Community Christmas Tree Lighting program at Trechel Park sponsored by the Fire Department Auxiliary
URL:https://lebanondodgewi.gov/event/community-christmas-tree-lighting/
CATEGORIES:Events
END:VEVENT
BEGIN:VEVENT
DTSTART;TZID=America/Chicago:20221204T090000
DTEND;TZID=America/Chicago:20221204T130000
DTSTAMP:20260423T054238
CREATED:20221116T164639Z
LAST-MODIFIED:20221116T164639Z
UID:10000646-1670144400-1670158800@lebanondodgewi.gov
SUMMARY:St. Peter’s Cookie Sale
DESCRIPTION:
URL:https://lebanondodgewi.gov/event/st-peters-cookie-sale-2/
CATEGORIES:Events
END:VEVENT
BEGIN:VEVENT
DTSTART;VALUE=DATE:20221213
DTEND;VALUE=DATE:20221214
DTSTAMP:20260423T054238
CREATED:20220624T020105Z
LAST-MODIFIED:20220624T020105Z
UID:10000594-1670889600-1670975999@lebanondodgewi.gov
SUMMARY:Ruby’s Pantry Food Distribution
DESCRIPTION:at St. Peter’s Church parking lot
URL:https://lebanondodgewi.gov/event/rubys-pantry-food-distribution/2022-12-13/
CATEGORIES:Events
END:VEVENT
END:VCALENDAR