BEGIN:VCALENDAR
VERSION:2.0
PRODID:-//Town of Lebanon - ECPv6.15.17.1//NONSGML v1.0//EN
CALSCALE:GREGORIAN
METHOD:PUBLISH
X-WR-CALNAME:Town of Lebanon
X-ORIGINAL-URL:https://lebanondodgewi.gov
X-WR-CALDESC:Events for Town of Lebanon
REFRESH-INTERVAL;VALUE=DURATION:PT1H
X-Robots-Tag:noindex
X-PUBLISHED-TTL:PT1H
BEGIN:VTIMEZONE
TZID:America/Chicago
BEGIN:DAYLIGHT
TZOFFSETFROM:-0600
TZOFFSETTO:-0500
TZNAME:CDT
DTSTART:20200308T080000
END:DAYLIGHT
BEGIN:STANDARD
TZOFFSETFROM:-0500
TZOFFSETTO:-0600
TZNAME:CST
DTSTART:20201101T070000
END:STANDARD
BEGIN:DAYLIGHT
TZOFFSETFROM:-0600
TZOFFSETTO:-0500
TZNAME:CDT
DTSTART:20210314T080000
END:DAYLIGHT
BEGIN:STANDARD
TZOFFSETFROM:-0500
TZOFFSETTO:-0600
TZNAME:CST
DTSTART:20211107T070000
END:STANDARD
BEGIN:DAYLIGHT
TZOFFSETFROM:-0600
TZOFFSETTO:-0500
TZNAME:CDT
DTSTART:20220313T080000
END:DAYLIGHT
BEGIN:STANDARD
TZOFFSETFROM:-0500
TZOFFSETTO:-0600
TZNAME:CST
DTSTART:20221106T070000
END:STANDARD
END:VTIMEZONE
BEGIN:VEVENT
DTSTART;TZID=America/Chicago:20210504T200000
DTEND;TZID=America/Chicago:20210504T200000
DTSTAMP:20260424T153834
CREATED:20210526T145121Z
LAST-MODIFIED:20210526T145121Z
UID:10000068-1620158400-1620158400@lebanondodgewi.gov
SUMMARY:Lebanon Band Practice 8:00 pm at Town Hall
DESCRIPTION:
URL:https://lebanondodgewi.gov/event/lebanon-band-practice-800-pm-at-town-hall/2021-05-04/
CATEGORIES:Events
END:VEVENT
BEGIN:VEVENT
DTSTART;TZID=America/Chicago:20210511T153000
DTEND;TZID=America/Chicago:20210511T183000
DTSTAMP:20260424T153834
CREATED:20200224T143150Z
LAST-MODIFIED:20210526T150028Z
UID:10000216-1620747000-1620757800@lebanondodgewi.gov
SUMMARY:Ruby's Pantry Distribution 3:30-6:00 pm
DESCRIPTION:open to the public\ndistribution 3:30-6:00 pm
URL:https://lebanondodgewi.gov/event/rubys-pantry-distribution-500-630/2021-05-11/
LOCATION:St Peters Church\, Lebanon
CATEGORIES:Events
END:VEVENT
BEGIN:VEVENT
DTSTART;TZID=America/Chicago:20210511T200000
DTEND;TZID=America/Chicago:20210511T200000
DTSTAMP:20260424T153834
CREATED:20210526T145121Z
LAST-MODIFIED:20210526T145121Z
UID:10000069-1620763200-1620763200@lebanondodgewi.gov
SUMMARY:Lebanon Band Practice 8:00 pm at Town Hall
DESCRIPTION:
URL:https://lebanondodgewi.gov/event/lebanon-band-practice-800-pm-at-town-hall/2021-05-11/
CATEGORIES:Events
END:VEVENT
BEGIN:VEVENT
DTSTART;TZID=America/Chicago:20210518T200000
DTEND;TZID=America/Chicago:20210518T200000
DTSTAMP:20260424T153834
CREATED:20210526T145121Z
LAST-MODIFIED:20210526T145121Z
UID:10000070-1621368000-1621368000@lebanondodgewi.gov
SUMMARY:Lebanon Band Practice 8:00 pm at Town Hall
DESCRIPTION:
URL:https://lebanondodgewi.gov/event/lebanon-band-practice-800-pm-at-town-hall/2021-05-18/
CATEGORIES:Events
END:VEVENT
BEGIN:VEVENT
DTSTART;TZID=America/Chicago:20210519T183000
DTEND;TZID=America/Chicago:20210519T183000
DTSTAMP:20260424T153834
CREATED:20210526T144732Z
LAST-MODIFIED:20210526T144732Z
UID:10000050-1621449000-1621449000@lebanondodgewi.gov
SUMMARY:Rec Leagues at Firemen’s Park starting at 6:30 pm
DESCRIPTION:
URL:https://lebanondodgewi.gov/event/rec-leagues-at-firemens-park-starting-at-630-pm/2021-05-19/
CATEGORIES:Events
END:VEVENT
BEGIN:VEVENT
DTSTART;TZID=America/Chicago:20210525T200000
DTEND;TZID=America/Chicago:20210525T200000
DTSTAMP:20260424T153834
CREATED:20210526T145121Z
LAST-MODIFIED:20210526T145121Z
UID:10000071-1621972800-1621972800@lebanondodgewi.gov
SUMMARY:Lebanon Band Practice 8:00 pm at Town Hall
DESCRIPTION:
URL:https://lebanondodgewi.gov/event/lebanon-band-practice-800-pm-at-town-hall/2021-05-25/
CATEGORIES:Events
END:VEVENT
BEGIN:VEVENT
DTSTART;TZID=America/Chicago:20210526T183000
DTEND;TZID=America/Chicago:20210526T183000
DTSTAMP:20260424T153834
CREATED:20210526T144732Z
LAST-MODIFIED:20210526T144732Z
UID:10000051-1622053800-1622053800@lebanondodgewi.gov
SUMMARY:Rec Leagues at Firemen’s Park starting at 6:30 pm
DESCRIPTION:
URL:https://lebanondodgewi.gov/event/rec-leagues-at-firemens-park-starting-at-630-pm/2021-05-26/
CATEGORIES:Events
END:VEVENT
BEGIN:VEVENT
DTSTART;TZID=America/Chicago:20210528T193000
DTEND;TZID=America/Chicago:20210528T193000
DTSTAMP:20260424T153834
CREATED:20210526T145706Z
LAST-MODIFIED:20210526T145706Z
UID:10000469-1622230200-1622230200@lebanondodgewi.gov
SUMMARY:Lebanon Whitetails Baseball Game at Firemen’s Park
DESCRIPTION:
URL:https://lebanondodgewi.gov/event/lebanon-whitetails-baseball-game-at-firemens-park/2021-05-28/
CATEGORIES:Events
END:VEVENT
END:VCALENDAR