BEGIN:VCALENDAR
VERSION:2.0
PRODID:-//Town of Lebanon - ECPv6.15.17.1//NONSGML v1.0//EN
CALSCALE:GREGORIAN
METHOD:PUBLISH
X-ORIGINAL-URL:https://lebanondodgewi.gov
X-WR-CALDESC:Events for Town of Lebanon
REFRESH-INTERVAL;VALUE=DURATION:PT1H
X-Robots-Tag:noindex
X-PUBLISHED-TTL:PT1H
BEGIN:VTIMEZONE
TZID:America/Chicago
BEGIN:DAYLIGHT
TZOFFSETFROM:-0600
TZOFFSETTO:-0500
TZNAME:CDT
DTSTART:20190310T080000
END:DAYLIGHT
BEGIN:STANDARD
TZOFFSETFROM:-0500
TZOFFSETTO:-0600
TZNAME:CST
DTSTART:20191103T070000
END:STANDARD
BEGIN:DAYLIGHT
TZOFFSETFROM:-0600
TZOFFSETTO:-0500
TZNAME:CDT
DTSTART:20200308T080000
END:DAYLIGHT
BEGIN:STANDARD
TZOFFSETFROM:-0500
TZOFFSETTO:-0600
TZNAME:CST
DTSTART:20201101T070000
END:STANDARD
BEGIN:DAYLIGHT
TZOFFSETFROM:-0600
TZOFFSETTO:-0500
TZNAME:CDT
DTSTART:20210314T080000
END:DAYLIGHT
BEGIN:STANDARD
TZOFFSETFROM:-0500
TZOFFSETTO:-0600
TZNAME:CST
DTSTART:20211107T070000
END:STANDARD
END:VTIMEZONE
BEGIN:VEVENT
DTSTART;TZID=America/Chicago:20200310T153000
DTEND;TZID=America/Chicago:20200310T183000
DTSTAMP:20260425T134929
CREATED:20200224T143150Z
LAST-MODIFIED:20210526T150028Z
UID:10000202-1583854200-1583865000@lebanondodgewi.gov
SUMMARY:Ruby's Pantry Distribution 3:30-6:00 pm
DESCRIPTION:open to the public\ndistribution 3:30-6:00 pm
URL:https://lebanondodgewi.gov/event/rubys-pantry-distribution-500-630/2020-03-10/
LOCATION:St Peters Church\, Lebanon
CATEGORIES:Events
END:VEVENT
BEGIN:VEVENT
DTSTART;VALUE=DATE:20200314
DTEND;VALUE=DATE:20200315
DTSTAMP:20260425T134929
CREATED:20200226T043442Z
LAST-MODIFIED:20200226T043442Z
UID:10000410-1584144000-1584230399@lebanondodgewi.gov
SUMMARY:Sugar Island Sportsman's Club Crow Hunt
DESCRIPTION:
URL:https://lebanondodgewi.gov/event/sugar-island-sportsmans-club-crow-hunt/
CATEGORIES:Events
END:VEVENT
BEGIN:VEVENT
DTSTART;TZID=America/Chicago:20200321T120000
DTEND;TZID=America/Chicago:20200321T140000
DTSTAMP:20260425T134929
CREATED:20200226T043554Z
LAST-MODIFIED:20200226T043554Z
UID:10000411-1584792000-1584799200@lebanondodgewi.gov
SUMMARY:Rabies Clinic
DESCRIPTION:Mayille Animal Clinic will be on hand to give rabies shots\nLebanon Town Treasurer will be available to issue licenses.\nAll dogs must be leashed!
URL:https://lebanondodgewi.gov/event/rabies-clinic/
LOCATION:Town Garaage\, W4717 County Road O
CATEGORIES:Events
END:VEVENT
END:VCALENDAR