BEGIN:VCALENDAR
VERSION:2.0
PRODID:-//Town of Lebanon - ECPv6.15.17.1//NONSGML v1.0//EN
CALSCALE:GREGORIAN
METHOD:PUBLISH
X-WR-CALNAME:Town of Lebanon
X-ORIGINAL-URL:https://lebanondodgewi.gov
X-WR-CALDESC:Events for Town of Lebanon
REFRESH-INTERVAL;VALUE=DURATION:PT1H
X-Robots-Tag:noindex
X-PUBLISHED-TTL:PT1H
BEGIN:VTIMEZONE
TZID:America/Chicago
BEGIN:DAYLIGHT
TZOFFSETFROM:-0600
TZOFFSETTO:-0500
TZNAME:CDT
DTSTART:20250309T080000
END:DAYLIGHT
BEGIN:STANDARD
TZOFFSETFROM:-0500
TZOFFSETTO:-0600
TZNAME:CST
DTSTART:20251102T070000
END:STANDARD
BEGIN:DAYLIGHT
TZOFFSETFROM:-0600
TZOFFSETTO:-0500
TZNAME:CDT
DTSTART:20260308T080000
END:DAYLIGHT
BEGIN:STANDARD
TZOFFSETFROM:-0500
TZOFFSETTO:-0600
TZNAME:CST
DTSTART:20261101T070000
END:STANDARD
BEGIN:DAYLIGHT
TZOFFSETFROM:-0600
TZOFFSETTO:-0500
TZNAME:CDT
DTSTART:20270314T080000
END:DAYLIGHT
BEGIN:STANDARD
TZOFFSETFROM:-0500
TZOFFSETTO:-0600
TZNAME:CST
DTSTART:20271107T070000
END:STANDARD
END:VTIMEZONE
BEGIN:VEVENT
DTSTART;VALUE=DATE:20260324
DTEND;VALUE=DATE:20260406
DTSTAMP:20260419T163814
CREATED:20260401T221918Z
LAST-MODIFIED:20260401T221918Z
UID:10001569-1774310400-1775433599@lebanondodgewi.gov
SUMMARY:In-Office Absentee Early Voting Available by Appointment with the Clerk
DESCRIPTION:Call 920-988-8726.
URL:https://lebanondodgewi.gov/event/in-office-absentee-early-voting-available-by-appointment-with-the-clerk/
CATEGORIES:Election
END:VEVENT
BEGIN:VEVENT
DTSTART;TZID=America/Chicago:20260330T183000
DTEND;TZID=America/Chicago:20260330T183000
DTSTAMP:20260419T163814
CREATED:20260327T221740Z
LAST-MODIFIED:20260327T221740Z
UID:10001504-1774895400-1774895400@lebanondodgewi.gov
SUMMARY:Town Board Meeting
DESCRIPTION:
URL:https://lebanondodgewi.gov/event/town-board-meeting-61/
END:VEVENT
END:VCALENDAR